Back to Multiple platform build/check report for BioC 3.16
ABCDEFGHIJKLMNOPQRS[T]UVWXYZ

This page was generated on 2022-06-24 11:07:21 -0400 (Fri, 24 Jun 2022).

HostnameOSArch (*)R versionInstalled pkgs
nebbiolo2Linux (Ubuntu 20.04.4 LTS)x86_644.2.0 Patched (2022-06-02 r82447) -- "Vigorous Calisthenics" 4331
palomino4Windows Server 2022 Datacenterx644.2.0 Patched (2022-06-02 r82447 ucrt) -- "Vigorous Calisthenics" 4136
lconwaymacOS 12.2.1 Montereyx86_644.2.0 Patched (2022-05-29 r82424) -- "Vigorous Calisthenics" 4147
Click on any hostname to see more info about the system (e.g. compilers)      (*) as reported by 'uname -p', except on Windows and Mac OS X

CHECK results for trackViewer on palomino4


To the developers/maintainers of the trackViewer package:
- Please allow up to 24 hours (and sometimes 48 hours) for your latest push to git@git.bioconductor.org:packages/trackViewer.git to
reflect on this report. See How and When does the builder pull? When will my changes propagate? for more information.
- Make sure to use the following settings in order to reproduce any error or warning you see on this page.

raw results

Package 2011/2118HostnameOS / ArchINSTALLBUILDCHECKBUILD BIN
trackViewer 1.33.2  (landing page)
Jianhong Ou
Snapshot Date: 2022-06-23 14:00:04 -0400 (Thu, 23 Jun 2022)
git_url: https://git.bioconductor.org/packages/trackViewer
git_branch: master
git_last_commit: 03a4bb0
git_last_commit_date: 2022-05-04 18:05:39 -0400 (Wed, 04 May 2022)
nebbiolo2Linux (Ubuntu 20.04.4 LTS) / x86_64  OK    OK    OK  UNNEEDED, same version is already published
palomino4Windows Server 2022 Datacenter / x64  OK    OK    OK    OK  UNNEEDED, same version is already published
lconwaymacOS 12.2.1 Monterey / x86_64  OK    OK    OK    OK  UNNEEDED, same version is already published

Summary

Package: trackViewer
Version: 1.33.2
Command: F:\biocbuild\bbs-3.16-bioc\R\bin\R.exe CMD check --force-multiarch --install=check:trackViewer.install-out.txt --library=F:\biocbuild\bbs-3.16-bioc\R\library --no-vignettes --timings trackViewer_1.33.2.tar.gz
StartedAt: 2022-06-24 06:34:32 -0400 (Fri, 24 Jun 2022)
EndedAt: 2022-06-24 06:42:29 -0400 (Fri, 24 Jun 2022)
EllapsedTime: 476.2 seconds
RetCode: 0
Status:   OK  
CheckDir: trackViewer.Rcheck
Warnings: 0

Command output

##############################################################################
##############################################################################
###
### Running command:
###
###   F:\biocbuild\bbs-3.16-bioc\R\bin\R.exe CMD check --force-multiarch --install=check:trackViewer.install-out.txt --library=F:\biocbuild\bbs-3.16-bioc\R\library --no-vignettes --timings trackViewer_1.33.2.tar.gz
###
##############################################################################
##############################################################################


* using log directory 'F:/biocbuild/bbs-3.16-bioc/meat/trackViewer.Rcheck'
* using R version 4.2.0 Patched (2022-06-02 r82447 ucrt)
* using platform: x86_64-w64-mingw32 (64-bit)
* using session charset: UTF-8
* using option '--no-vignettes'
* checking for file 'trackViewer/DESCRIPTION' ... OK
* checking extension type ... Package
* this is package 'trackViewer' version '1.33.2'
* package encoding: UTF-8
* checking package namespace information ... OK
* checking package dependencies ... OK
* checking if this is a source package ... OK
* checking if there is a namespace ... OK
* checking for hidden files and directories ... OK
* checking for portable file names ... OK
* checking whether package 'trackViewer' can be installed ... OK
* checking installed package size ... NOTE
  installed size is  5.3Mb
  sub-directories of 1Mb or more:
    extdata   2.9Mb
    libs      1.1Mb
* checking package directory ... OK
* checking 'build' directory ... OK
* checking DESCRIPTION meta-information ... OK
* checking top-level files ... OK
* checking for left-over files ... OK
* checking index information ... OK
* checking package subdirectories ... OK
* checking R files for non-ASCII characters ... OK
* checking R files for syntax errors ... OK
* checking whether the package can be loaded ... OK
* checking whether the package can be loaded with stated dependencies ... OK
* checking whether the package can be unloaded cleanly ... OK
* checking whether the namespace can be loaded with stated dependencies ... OK
* checking whether the namespace can be unloaded cleanly ... OK
* checking dependencies in R code ... OK
* checking S3 generic/method consistency ... OK
* checking replacement functions ... OK
* checking foreign function calls ... OK
* checking R code for possible problems ... OK
* checking Rd files ... OK
* checking Rd metadata ... OK
* checking Rd cross-references ... OK
* checking for missing documentation entries ... OK
* checking for code/documentation mismatches ... OK
* checking Rd \usage sections ... OK
* checking Rd contents ... OK
* checking for unstated dependencies in examples ... OK
* checking line endings in C/C++/Fortran sources/headers ... OK
* checking line endings in Makefiles ... OK
* checking compilation flags in Makevars ... OK
* checking for GNU extensions in Makefiles ... OK
* checking for portable use of $(BLAS_LIBS) and $(LAPACK_LIBS) ... OK
* checking use of PKG_*FLAGS in Makefiles ... OK
* checking compiled code ... NOTE
Note: information on .o files for x64 is not available
File 'F:/biocbuild/bbs-3.16-bioc/R/library/trackViewer/libs/x64/trackViewer.dll':
  Found 'abort', possibly from 'abort' (C), 'runtime' (Fortran)
  Found 'exit', possibly from 'exit' (C), 'stop' (Fortran)

Compiled code should not call entry points which might terminate R nor
write to stdout/stderr instead of to the console, nor use Fortran I/O
nor system RNGs. The detected symbols are linked into the code but
might come from libraries and not actually be called.

See 'Writing portable packages' in the 'Writing R Extensions' manual.
* checking files in 'vignettes' ... OK
* checking examples ... OK
Examples with CPU (user + system) or elapsed time > 5s
                     user system elapsed
trackViewer-package 20.28   0.28   20.56
viewTracks          15.88   0.11   15.99
parseWIG            15.39   0.08   15.47
browseTracks        14.47   0.18   14.89
geneModelFromTxdb    5.29   0.25    5.55
* checking for unstated dependencies in 'tests' ... OK
* checking tests ...
  Running 'runTests.R'
 OK
* checking for unstated dependencies in vignettes ... OK
* checking package vignettes in 'inst/doc' ... OK
* checking running R code from vignettes ... SKIPPED
* checking re-building of vignette outputs ... SKIPPED
* checking PDF version of manual ... OK
* DONE

Status: 2 NOTEs
See
  'F:/biocbuild/bbs-3.16-bioc/meat/trackViewer.Rcheck/00check.log'
for details.



Installation output

trackViewer.Rcheck/00install.out

##############################################################################
##############################################################################
###
### Running command:
###
###   C:\cygwin\bin\curl.exe -O http://155.52.207.166/BBS/3.16/bioc/src/contrib/trackViewer_1.33.2.tar.gz && rm -rf trackViewer.buildbin-libdir && mkdir trackViewer.buildbin-libdir && F:\biocbuild\bbs-3.16-bioc\R\bin\R.exe CMD INSTALL --merge-multiarch --build --library=trackViewer.buildbin-libdir trackViewer_1.33.2.tar.gz && F:\biocbuild\bbs-3.16-bioc\R\bin\R.exe CMD INSTALL trackViewer_1.33.2.zip && rm trackViewer_1.33.2.tar.gz trackViewer_1.33.2.zip
###
##############################################################################
##############################################################################


  % Total    % Received % Xferd  Average Speed   Time    Time     Time  Current
                                 Dload  Upload   Total   Spent    Left  Speed

  0     0    0     0    0     0      0      0 --:--:-- --:--:-- --:--:--     0
100 1787k  100 1787k    0     0  11.3M      0 --:--:-- --:--:-- --:--:-- 11.4M
only one architecture so ignoring '--merge-multiarch'
* installing *source* package 'trackViewer' ...
** using staged installation
** libs
g++ -std=gnu++11  -I"F:/biocbuild/bbs-3.16-bioc/R/include" -DNDEBUG  -I'F:/biocbuild/bbs-3.16-bioc/R/library/Rcpp/include'   -I"C:/rtools42/x86_64-w64-mingw32.static.posix/include"     -O2 -Wall  -mfpmath=sse -msse2 -mstackrealign  -c RcppExports.cpp -o RcppExports.o
g++ -std=gnu++11  -I"F:/biocbuild/bbs-3.16-bioc/R/include" -DNDEBUG  -I'F:/biocbuild/bbs-3.16-bioc/R/library/Rcpp/include'   -I"C:/rtools42/x86_64-w64-mingw32.static.posix/include"     -O2 -Wall  -mfpmath=sse -msse2 -mstackrealign  -c hic.cpp -o hic.o
hic.cpp: In member function 'void HicFileHead::readHeader(std::ifstream&)':
hic.cpp:247:16: warning: unused variable 'nviPosition' [-Wunused-variable]
  247 |           long nviPosition = readLong(ifile);
      |                ^~~~~~~~~~~
hic.cpp:248:16: warning: unused variable 'nviLength' [-Wunused-variable]
  248 |           long nviLength = readLong(ifile);
      |                ^~~~~~~~~
hic.cpp: In function 'std::vector<cellData> getByCoor(std::string, int, int, std::string, int, int, int, std::string, std::string, HicFileHead&, HicFileFoot&, std::ifstream&)':
hic.cpp:751:19: warning: '*((void*)(& bd)+8).resolutions::nResolutions' may be used uninitialized in this function [-Wmaybe-uninitialized]
  751 |     for(int i=0; i<data.nResolutions; i++){
      |                  ~^~~~~~~~~~~~~~~~~~
hic.cpp:797:10: note: '*((void*)(& bd)+8).resolutions::nResolutions' was declared here
  797 |     body bd;
      |          ^~
hic.cpp:797:10: warning: '*((void*)(& bd)+8).resolutions::res' may be used uninitialized in this function [-Wmaybe-uninitialized]
g++ -std=gnu++11 -shared -s -static-libgcc -o trackViewer.dll tmp.def RcppExports.o hic.o -lz -LC:/rtools42/x86_64-w64-mingw32.static.posix/lib/x64 -LC:/rtools42/x86_64-w64-mingw32.static.posix/lib -LF:/biocbuild/bbs-3.16-bioc/R/bin/x64 -lR
installing to F:/biocbuild/bbs-3.16-bioc/meat/trackViewer.buildbin-libdir/00LOCK-trackViewer/00new/trackViewer/libs/x64
** R
** inst
** byte-compile and prepare package for lazy loading
** help
*** installing help indices
** building package indices
** installing vignettes
** testing if installed package can be loaded from temporary location
** testing if installed package can be loaded from final location
** testing if installed package keeps a record of temporary installation path
* MD5 sums
packaged installation of 'trackViewer' as trackViewer_1.33.2.zip
* DONE (trackViewer)
* installing to library 'F:/biocbuild/bbs-3.16-bioc/R/library'
package 'trackViewer' successfully unpacked and MD5 sums checked

Tests output

trackViewer.Rcheck/tests/runTests.Rout


R version 4.2.0 Patched (2022-06-02 r82447 ucrt) -- "Vigorous Calisthenics"
Copyright (C) 2022 The R Foundation for Statistical Computing
Platform: x86_64-w64-mingw32/x64 (64-bit)

R is free software and comes with ABSOLUTELY NO WARRANTY.
You are welcome to redistribute it under certain conditions.
Type 'license()' or 'licence()' for distribution details.

R is a collaborative project with many contributors.
Type 'contributors()' for more information and
'citation()' on how to cite R or R packages in publications.

Type 'demo()' for some demos, 'help()' for on-line help, or
'help.start()' for an HTML browser interface to help.
Type 'q()' to quit R.

> require("trackViewer") || stop("unable to load Package:trackViewer")
Loading required package: trackViewer
Loading required package: GenomicRanges
Loading required package: stats4
Loading required package: BiocGenerics

Attaching package: 'BiocGenerics'

The following objects are masked from 'package:stats':

    IQR, mad, sd, var, xtabs

The following objects are masked from 'package:base':

    Filter, Find, Map, Position, Reduce, anyDuplicated, append,
    as.data.frame, basename, cbind, colnames, dirname, do.call,
    duplicated, eval, evalq, get, grep, grepl, intersect, is.unsorted,
    lapply, mapply, match, mget, order, paste, pmax, pmax.int, pmin,
    pmin.int, rank, rbind, rownames, sapply, setdiff, sort, table,
    tapply, union, unique, unsplit, which.max, which.min

Loading required package: S4Vectors

Attaching package: 'S4Vectors'

The following objects are masked from 'package:base':

    I, expand.grid, unname

Loading required package: IRanges

Attaching package: 'IRanges'

The following object is masked from 'package:grDevices':

    windows

Loading required package: GenomeInfoDb
Loading required package: grid
Loading required package: Rcpp
[1] TRUE
> require("RUnit") || stop("unable to load Package:RUnit")
Loading required package: RUnit
[1] TRUE
> BiocGenerics:::testPackage("trackViewer")


RUNIT TEST PROTOCOL -- Fri Jun 24 06:42:18 2022 
*********************************************** 
Number of test functions: 2 
Number of errors: 0 
Number of failures: 0 

 
1 Test Suite : 
trackViewer RUnit Tests - 2 test functions, 0 errors, 0 failures
Number of test functions: 2 
Number of errors: 0 
Number of failures: 0 
> 
> proc.time()
   user  system elapsed 
  15.37    0.89   16.25 

Example timings

trackViewer.Rcheck/trackViewer-Ex.timings

nameusersystemelapsed
GRoperator3.520.303.81
addArrowMark0.000.010.01
addGuideLine000
browseTracks14.47 0.1814.89
coverageGR0.310.000.31
dandelion.plot2.650.002.65
geneModelFromTxdb5.290.255.55
geneTrack1.920.072.00
getCurTrackViewport000
getGeneIDsFromTxDb0.890.050.94
getLocation1.690.082.39
gi2track0.070.000.08
gieStain000
ideogramPlot000
importBam0.330.000.35
importData2.870.002.90
importGInteractions0.420.000.47
importScSeqScore000
importScore0.480.000.49
listChromosomes0.500.000.51
listResolutions0.020.000.02
loadIdeogram000
lolliplot0.720.000.72
optimizeStyle0.590.010.61
parse2GRanges0.020.000.01
parseWIG15.39 0.0815.47
plotGInteractions1.280.021.30
plotGRanges2.610.052.65
plotIdeo000
plotOneIdeo000
trackStyle-class0.050.000.05
trackViewer-package20.28 0.2820.56
trackViewerStyle-class000
viewGene4.560.184.75
viewTracks15.88 0.1115.99