Back to Multiple platform build/check report for BioC 3.17:   simplified   long
ABCDEFGHIJKLMNOP[Q]RSTUVWXYZ

This page was generated on 2023-02-07 11:07:10 -0500 (Tue, 07 Feb 2023).

HostnameOSArch (*)R versionInstalled pkgs
nebbiolo1Linux (Ubuntu 22.04.1 LTS)x86_64R Under development (unstable) (2023-01-10 r83596) -- "Unsuffered Consequences" 4483
palomino3Windows Server 2022 Datacenterx64R Under development (unstable) (2023-01-10 r83596 ucrt) -- "Unsuffered Consequences" 4249
merida1macOS 10.14.6 Mojavex86_64R Under development (unstable) (2023-01-10 r83596) -- "Unsuffered Consequences" 4272
Click on any hostname to see more info about the system (e.g. compilers)      (*) as reported by 'uname -p', except on Windows and Mac OS X

BUILD results for QuasR on merida1


To the developers/maintainers of the QuasR package:
- Please allow up to 24 hours (and sometimes 48 hours) for your latest push to git@git.bioconductor.org:packages/QuasR.git to
reflect on this report. See How and When does the builder pull? When will my changes propagate? for more information.
- Make sure to use the following settings in order to reproduce any error or warning you see on this page.

raw results

Package 1565/2164HostnameOS / ArchINSTALLBUILDCHECKBUILD BIN
QuasR 1.39.2  (landing page)
Michael Stadler
Snapshot Date: 2023-02-06 14:00:21 -0500 (Mon, 06 Feb 2023)
git_url: https://git.bioconductor.org/packages/QuasR
git_branch: master
git_last_commit: cd52416
git_last_commit_date: 2023-01-27 11:17:31 -0500 (Fri, 27 Jan 2023)
nebbiolo1Linux (Ubuntu 22.04.1 LTS) / x86_64  OK    OK    WARNINGS  UNNEEDED, same version is already published
palomino3Windows Server 2022 Datacenter / x64  OK    OK    OK    OK  UNNEEDED, same version is already published
merida1macOS 10.14.6 Mojave / x86_64  OK    OK    WARNINGS    OK  UNNEEDED, same version is already published

Summary

Package: QuasR
Version: 1.39.2
Command: /Library/Frameworks/R.framework/Resources/bin/R CMD build --keep-empty-dirs --no-resave-data QuasR
StartedAt: 2023-02-06 20:14:55 -0500 (Mon, 06 Feb 2023)
EndedAt: 2023-02-06 20:24:18 -0500 (Mon, 06 Feb 2023)
EllapsedTime: 562.7 seconds
RetCode: 0
Status:   OK  
PackageFile: QuasR_1.39.2.tar.gz
PackageFileSize: 2.19 MiB

Command output

##############################################################################
##############################################################################
###
### Running command:
###
###   /Library/Frameworks/R.framework/Resources/bin/R CMD build --keep-empty-dirs --no-resave-data QuasR
###
##############################################################################
##############################################################################


* checking for file ‘QuasR/DESCRIPTION’ ... OK
* preparing ‘QuasR’:
* checking DESCRIPTION meta-information ... OK
* cleaning src
* installing the package to build vignettes
* creating vignettes ... OK
* cleaning src
* checking for LF line-endings in source and make files and shell scripts
* checking for empty or unneeded directories
WARNING: directory ‘QuasR/inst/AlignerIndexPkg-template/R’ is empty
* building ‘QuasR_1.39.2.tar.gz’