Back to Multiple platform build/check report for BioC 3.16 |
|
This page was generated on 2022-06-24 11:06:23 -0400 (Fri, 24 Jun 2022).
Hostname | OS | Arch (*) | R version | Installed pkgs |
---|---|---|---|---|
nebbiolo2 | Linux (Ubuntu 20.04.4 LTS) | x86_64 | 4.2.0 Patched (2022-06-02 r82447) -- "Vigorous Calisthenics" | 4331 |
palomino4 | Windows Server 2022 Datacenter | x64 | 4.2.0 Patched (2022-06-02 r82447 ucrt) -- "Vigorous Calisthenics" | 4136 |
lconway | macOS 12.2.1 Monterey | x86_64 | 4.2.0 Patched (2022-05-29 r82424) -- "Vigorous Calisthenics" | 4147 |
Click on any hostname to see more info about the system (e.g. compilers) (*) as reported by 'uname -p', except on Windows and Mac OS X |
To the developers/maintainers of the EDASeq package: - Please allow up to 24 hours (and sometimes 48 hours) for your latest push to git@git.bioconductor.org:packages/EDASeq.git to reflect on this report. See How and When does the builder pull? When will my changes propagate? for more information. - Make sure to use the following settings in order to reproduce any error or warning you see on this page. |
Package 577/2118 | Hostname | OS / Arch | INSTALL | BUILD | CHECK | BUILD BIN | ||||||||
EDASeq 2.31.0 (landing page) Davide Risso
| nebbiolo2 | Linux (Ubuntu 20.04.4 LTS) / x86_64 | OK | OK | OK | ![]() | ||||||||
palomino4 | Windows Server 2022 Datacenter / x64 | OK | OK | OK | OK | ![]() | ||||||||
lconway | macOS 12.2.1 Monterey / x86_64 | OK | OK | OK | OK | ![]() | ||||||||
Package: EDASeq |
Version: 2.31.0 |
Command: C:\cygwin\bin\curl.exe -O http://155.52.207.166/BBS/3.16/bioc/src/contrib/EDASeq_2.31.0.tar.gz && rm -rf EDASeq.buildbin-libdir && mkdir EDASeq.buildbin-libdir && F:\biocbuild\bbs-3.16-bioc\R\bin\R.exe CMD INSTALL --merge-multiarch --build --library=EDASeq.buildbin-libdir EDASeq_2.31.0.tar.gz && F:\biocbuild\bbs-3.16-bioc\R\bin\R.exe CMD INSTALL EDASeq_2.31.0.zip && rm EDASeq_2.31.0.tar.gz EDASeq_2.31.0.zip |
StartedAt: 2022-06-23 16:26:32 -0400 (Thu, 23 Jun 2022) |
EndedAt: 2022-06-23 16:27:21 -0400 (Thu, 23 Jun 2022) |
EllapsedTime: 49.8 seconds |
RetCode: 0 |
Status: OK |
############################################################################## ############################################################################## ### ### Running command: ### ### C:\cygwin\bin\curl.exe -O http://155.52.207.166/BBS/3.16/bioc/src/contrib/EDASeq_2.31.0.tar.gz && rm -rf EDASeq.buildbin-libdir && mkdir EDASeq.buildbin-libdir && F:\biocbuild\bbs-3.16-bioc\R\bin\R.exe CMD INSTALL --merge-multiarch --build --library=EDASeq.buildbin-libdir EDASeq_2.31.0.tar.gz && F:\biocbuild\bbs-3.16-bioc\R\bin\R.exe CMD INSTALL EDASeq_2.31.0.zip && rm EDASeq_2.31.0.tar.gz EDASeq_2.31.0.zip ### ############################################################################## ############################################################################## % Total % Received % Xferd Average Speed Time Time Time Current Dload Upload Total Spent Left Speed 0 0 0 0 0 0 0 0 --:--:-- --:--:-- --:--:-- 0 100 123k 100 123k 0 0 1801k 0 --:--:-- --:--:-- --:--:-- 1837k only one architecture so ignoring '--merge-multiarch' * installing *source* package 'EDASeq' ... ** using staged installation ** R ** data ** inst ** byte-compile and prepare package for lazy loading ** help *** installing help indices ** building package indices ** installing vignettes ** testing if installed package can be loaded from temporary location ** testing if installed package can be loaded from final location ** testing if installed package keeps a record of temporary installation path * MD5 sums packaged installation of 'EDASeq' as EDASeq_2.31.0.zip * DONE (EDASeq) * installing to library 'F:/biocbuild/bbs-3.16-bioc/R/library' package 'EDASeq' successfully unpacked and MD5 sums checked