Back to Multiple platform build/check report for BioC 3.17
ABCDEFGHIJKLM[N]OPQRSTUVWXYZ

This page was generated on 2022-12-05 11:09:51 -0500 (Mon, 05 Dec 2022).

HostnameOSArch (*)R versionInstalled pkgs
nebbiolo1Linux (Ubuntu 22.04.1 LTS)x86_64R Under development (unstable) (2022-11-30 r83393) -- "Unsuffered Consequences" 4277
palomino3Windows Server 2022 Datacenterx64R Under development (unstable) (2022-11-30 r83393 ucrt) -- "Unsuffered Consequences" 4193
merida1macOS 10.14.6 Mojavex86_64R Under development (unstable) (2022-11-30 r83393) -- "Unsuffered Consequences" 4236
Click on any hostname to see more info about the system (e.g. compilers)      (*) as reported by 'uname -p', except on Windows and Mac OS X

BUILD results for NanoMethViz on merida1


To the developers/maintainers of the NanoMethViz package:
- Please allow up to 24 hours (and sometimes 48 hours) for your latest push to git@git.bioconductor.org:packages/NanoMethViz.git to
reflect on this report. See How and When does the builder pull? When will my changes propagate? for more information.
- Make sure to use the following settings in order to reproduce any error or warning you see on this page.

raw results

Package 1305/2155HostnameOS / ArchINSTALLBUILDCHECKBUILD BIN
NanoMethViz 2.5.0  (landing page)
Shian Su
Snapshot Date: 2022-12-04 14:00:12 -0500 (Sun, 04 Dec 2022)
git_url: https://git.bioconductor.org/packages/NanoMethViz
git_branch: master
git_last_commit: 7507f00
git_last_commit_date: 2022-11-01 11:23:18 -0500 (Tue, 01 Nov 2022)
nebbiolo1Linux (Ubuntu 22.04.1 LTS) / x86_64  OK    OK    OK  UNNEEDED, same version is already published
palomino3Windows Server 2022 Datacenter / x64  OK    OK    OK    OK  NO, package depends on 'SummarizedExperiment' which is not available
merida1macOS 10.14.6 Mojave / x86_64  OK    OK    OK    OK  NO, package depends on 'BiocSingular' which is not available

Summary

Package: NanoMethViz
Version: 2.5.0
Command: /Library/Frameworks/R.framework/Resources/bin/R CMD build --keep-empty-dirs --no-resave-data NanoMethViz
StartedAt: 2022-12-04 19:30:44 -0500 (Sun, 04 Dec 2022)
EndedAt: 2022-12-04 19:35:21 -0500 (Sun, 04 Dec 2022)
EllapsedTime: 277.6 seconds
RetCode: 0
Status:   OK  
PackageFile: NanoMethViz_2.5.0.tar.gz
PackageFileSize: 4.178 MiB

Command output

##############################################################################
##############################################################################
###
### Running command:
###
###   /Library/Frameworks/R.framework/Resources/bin/R CMD build --keep-empty-dirs --no-resave-data NanoMethViz
###
##############################################################################
##############################################################################


* checking for file ‘NanoMethViz/DESCRIPTION’ ... OK
* preparing ‘NanoMethViz’:
* checking DESCRIPTION meta-information ... OK
* cleaning src
* installing the package to build vignettes
* creating vignettes ... OK
* cleaning src
* checking for LF line-endings in source and make files and shell scripts
* checking for empty or unneeded directories
* building ‘NanoMethViz_2.5.0.tar.gz’