Back to Multiple platform build/check report for BioC 3.15
ABCDEFGHIJKL[M]NOPQRSTUVWXYZ

This page was generated on 2021-11-27 14:05:47 -0500 (Sat, 27 Nov 2021).

BUILD results for multiHiCcompare on merida1

To the developers/maintainers of the multiHiCcompare package:
- Please allow up to 24 hours (and sometimes 48 hours) for your latest push to git@git.bioconductor.org:packages/multiHiCcompare.git to
reflect on this report. See How and When does the builder pull? When will my changes propagate? here for more information.
- Make sure to use the following settings in order to reproduce any error or warning you see on this page.

raw results

Package 1233/2068HostnameOS / ArchINSTALLBUILDCHECKBUILD BIN
multiHiCcompare 1.13.0  (landing page)
John Stansfield , Mikhail Dozmorov
Snapshot Date: 2021-11-26 14:50:14 -0500 (Fri, 26 Nov 2021)
git_url: https://git.bioconductor.org/packages/multiHiCcompare
git_branch: master
git_last_commit: 7192d03
git_last_commit_date: 2021-10-26 12:46:12 -0500 (Tue, 26 Oct 2021)
nebbiolo1Linux (Ubuntu 20.04.3 LTS) / x86_64  OK    OK    OK  UNNEEDED, same version is already published
riesling1Windows Server 2019 Standard / x64  OK    OK    OK    OK  
merida1macOS 10.14.6 Mojave / x86_64  OK    OK    OK    OK  UNNEEDED, same version is already published

Summary

Package: multiHiCcompare
Version: 1.13.0
Command: /Library/Frameworks/R.framework/Resources/bin/R CMD build --keep-empty-dirs --no-resave-data multiHiCcompare
StartedAt: 2021-11-26 21:22:43 -0500 (Fri, 26 Nov 2021)
EndedAt: 2021-11-26 21:24:30 -0500 (Fri, 26 Nov 2021)
EllapsedTime: 106.7 seconds
RetCode: 0
Status:   OK  
PackageFile: multiHiCcompare_1.13.0.tar.gz
PackageFileSize: 4.591 MiB

Command output

##############################################################################
##############################################################################
###
### Running command:
###
###   /Library/Frameworks/R.framework/Resources/bin/R CMD build --keep-empty-dirs --no-resave-data multiHiCcompare
###
##############################################################################
##############################################################################


* checking for file ‘multiHiCcompare/DESCRIPTION’ ... OK
* preparing ‘multiHiCcompare’:
* checking DESCRIPTION meta-information ... OK
* installing the package to build vignettes
* creating vignettes ... OK
* checking for LF line-endings in source and make files and shell scripts
* checking for empty or unneeded directories
* building ‘multiHiCcompare_1.13.0.tar.gz’