Back to Multiple platform build/check report for BioC 3.18:   simplified   long
ABCDEFGHIJKLMN[O]PQRSTUVWXYZ

This page was generated on 2023-09-23 11:37:49 -0400 (Sat, 23 Sep 2023).

HostnameOSArch (*)R versionInstalled pkgs
nebbiolo2Linux (Ubuntu 22.04.2 LTS)x86_644.3.1 (2023-06-16) -- "Beagle Scouts" 4659
palomino4Windows Server 2022 Datacenterx644.3.1 (2023-06-16 ucrt) -- "Beagle Scouts" 4394
lconwaymacOS 12.6.5 Montereyx86_644.3.1 Patched (2023-06-17 r84564) -- "Beagle Scouts" 4408
kunpeng2Linux (openEuler 22.03 LTS-SP1)aarch644.3.1 (2023-06-16) -- "Beagle Scouts" 4397
Click on any hostname to see more info about the system (e.g. compilers)      (*) as reported by 'uname -p', except on Windows and Mac OS X

Package 1454/2233HostnameOS / ArchINSTALLBUILDCHECKBUILD BIN
Organism.dplyr 1.29.0  (landing page)
Martin Morgan
Snapshot Date: 2023-09-22 14:05:07 -0400 (Fri, 22 Sep 2023)
git_url: https://git.bioconductor.org/packages/Organism.dplyr
git_branch: devel
git_last_commit: 1d375c1
git_last_commit_date: 2023-04-25 10:52:39 -0400 (Tue, 25 Apr 2023)
nebbiolo2Linux (Ubuntu 22.04.2 LTS) / x86_64  OK    OK    ERROR  
palomino4Windows Server 2022 Datacenter / x64  OK    OK    ERROR    OK  
lconwaymacOS 12.6.5 Monterey / x86_64  OK    OK    ERROR    OK  
kunpeng2Linux (openEuler 22.03 LTS-SP1) / aarch64  OK    OK    ERROR  

BUILD results for Organism.dplyr on palomino4


To the developers/maintainers of the Organism.dplyr package:
- Allow up to 24 hours (and sometimes 48 hours) for your latest push to git@git.bioconductor.org:packages/Organism.dplyr.git to reflect on this report. See Troubleshooting Build Report for more information.
- Use the following Renviron settings to reproduce errors and warnings.
- If 'R CMD check' started to fail recently on the Linux builder(s) over a missing dependency, add the missing dependency to 'Suggests:' in your DESCRIPTION file. See Renviron.bioc for more information.

raw results


Summary

Package: Organism.dplyr
Version: 1.29.0
Command: chmod a+r Organism.dplyr -R && F:\biocbuild\bbs-3.18-bioc\R\bin\R.exe CMD build --keep-empty-dirs --no-resave-data Organism.dplyr
StartedAt: 2023-09-22 20:29:21 -0400 (Fri, 22 Sep 2023)
EndedAt: 2023-09-22 20:30:48 -0400 (Fri, 22 Sep 2023)
EllapsedTime: 86.7 seconds
RetCode: 0
Status:   OK  
PackageFile: Organism.dplyr_1.29.0.tar.gz
PackageFileSize: 491.3 KiB

Command output

##############################################################################
##############################################################################
###
### Running command:
###
###   chmod a+r Organism.dplyr -R && F:\biocbuild\bbs-3.18-bioc\R\bin\R.exe CMD build --keep-empty-dirs --no-resave-data Organism.dplyr
###
##############################################################################
##############################################################################


* checking for file 'Organism.dplyr/DESCRIPTION' ... OK
* preparing 'Organism.dplyr':
* checking DESCRIPTION meta-information ... OK
* installing the package to build vignettes
* creating vignettes ... OK
* checking for LF line-endings in source and make files and shell scripts
* checking for empty or unneeded directories
* building 'Organism.dplyr_1.29.0.tar.gz'