Back to Multiple platform build/check report for BioC 3.16 |
|
This page was generated on 2022-06-24 11:07:12 -0400 (Fri, 24 Jun 2022).
Hostname | OS | Arch (*) | R version | Installed pkgs |
---|---|---|---|---|
nebbiolo2 | Linux (Ubuntu 20.04.4 LTS) | x86_64 | 4.2.0 Patched (2022-06-02 r82447) -- "Vigorous Calisthenics" | 4331 |
palomino4 | Windows Server 2022 Datacenter | x64 | 4.2.0 Patched (2022-06-02 r82447 ucrt) -- "Vigorous Calisthenics" | 4136 |
lconway | macOS 12.2.1 Monterey | x86_64 | 4.2.0 Patched (2022-05-29 r82424) -- "Vigorous Calisthenics" | 4147 |
Click on any hostname to see more info about the system (e.g. compilers) (*) as reported by 'uname -p', except on Windows and Mac OS X |
To the developers/maintainers of the segmentSeq package: - Please allow up to 24 hours (and sometimes 48 hours) for your latest push to git@git.bioconductor.org:packages/segmentSeq.git to reflect on this report. See How and When does the builder pull? When will my changes propagate? for more information. - Make sure to use the following settings in order to reproduce any error or warning you see on this page. |
Package 1782/2118 | Hostname | OS / Arch | INSTALL | BUILD | CHECK | BUILD BIN | ||||||||
segmentSeq 2.31.0 (landing page) Thomas J. Hardcastle
| nebbiolo2 | Linux (Ubuntu 20.04.4 LTS) / x86_64 | OK | OK | OK | ![]() | ||||||||
palomino4 | Windows Server 2022 Datacenter / x64 | OK | OK | OK | OK | ![]() | ||||||||
lconway | macOS 12.2.1 Monterey / x86_64 | OK | OK | OK | OK | ![]() | ||||||||
Package: segmentSeq |
Version: 2.31.0 |
Command: F:\biocbuild\bbs-3.16-bioc\R\bin\R.exe CMD check --force-multiarch --install=check:segmentSeq.install-out.txt --library=F:\biocbuild\bbs-3.16-bioc\R\library --no-vignettes --timings segmentSeq_2.31.0.tar.gz |
StartedAt: 2022-06-24 05:40:45 -0400 (Fri, 24 Jun 2022) |
EndedAt: 2022-06-24 05:46:20 -0400 (Fri, 24 Jun 2022) |
EllapsedTime: 334.8 seconds |
RetCode: 0 |
Status: OK |
CheckDir: segmentSeq.Rcheck |
Warnings: 0 |
############################################################################## ############################################################################## ### ### Running command: ### ### F:\biocbuild\bbs-3.16-bioc\R\bin\R.exe CMD check --force-multiarch --install=check:segmentSeq.install-out.txt --library=F:\biocbuild\bbs-3.16-bioc\R\library --no-vignettes --timings segmentSeq_2.31.0.tar.gz ### ############################################################################## ############################################################################## * using log directory 'F:/biocbuild/bbs-3.16-bioc/meat/segmentSeq.Rcheck' * using R version 4.2.0 Patched (2022-06-02 r82447 ucrt) * using platform: x86_64-w64-mingw32 (64-bit) * using session charset: UTF-8 * using option '--no-vignettes' * checking for file 'segmentSeq/DESCRIPTION' ... OK * checking extension type ... Package * this is package 'segmentSeq' version '2.31.0' * checking package namespace information ... OK * checking package dependencies ... OK * checking if this is a source package ... OK * checking if there is a namespace ... OK * checking for hidden files and directories ... OK * checking for portable file names ... OK * checking whether package 'segmentSeq' can be installed ... OK * checking installed package size ... OK * checking package directory ... OK * checking 'build' directory ... OK * checking DESCRIPTION meta-information ... OK * checking top-level files ... OK * checking for left-over files ... OK * checking index information ... OK * checking package subdirectories ... OK * checking R files for non-ASCII characters ... OK * checking R files for syntax errors ... OK * checking whether the package can be loaded ... OK * checking whether the package can be loaded with stated dependencies ... OK * checking whether the package can be unloaded cleanly ... OK * checking whether the namespace can be loaded with stated dependencies ... OK * checking whether the namespace can be unloaded cleanly ... OK * checking dependencies in R code ... OK * checking S3 generic/method consistency ... OK * checking replacement functions ... OK * checking foreign function calls ... OK * checking R code for possible problems ... NOTE heuristicSeg : <anonymous>: no visible binding for global variable 'sDP' Undefined global functions or variables: sDP * checking Rd files ... OK * checking Rd metadata ... OK * checking Rd cross-references ... OK * checking for missing documentation entries ... OK * checking for code/documentation mismatches ... OK * checking Rd \usage sections ... OK * checking Rd contents ... OK * checking for unstated dependencies in examples ... OK * checking contents of 'data' directory ... OK * checking data for non-ASCII characters ... OK * checking data for ASCII and uncompressed saves ... OK * checking sizes of PDF files under 'inst/doc' ... OK * checking files in 'vignettes' ... OK * checking examples ... OK Examples with CPU (user + system) or elapsed time > 5s user system elapsed classifySeg 34.38 0.24 34.61 lociLikelihoods 15.82 0.07 15.89 heuristicSeg 14.65 0.03 14.69 plotGenome 8.69 0.02 8.70 getCounts 5.80 0.00 5.80 * checking for unstated dependencies in vignettes ... OK * checking package vignettes in 'inst/doc' ... OK * checking running R code from vignettes ... SKIPPED * checking re-building of vignette outputs ... SKIPPED * checking PDF version of manual ... OK * DONE Status: 1 NOTE See 'F:/biocbuild/bbs-3.16-bioc/meat/segmentSeq.Rcheck/00check.log' for details.
segmentSeq.Rcheck/00install.out
############################################################################## ############################################################################## ### ### Running command: ### ### C:\cygwin\bin\curl.exe -O http://155.52.207.166/BBS/3.16/bioc/src/contrib/segmentSeq_2.31.0.tar.gz && rm -rf segmentSeq.buildbin-libdir && mkdir segmentSeq.buildbin-libdir && F:\biocbuild\bbs-3.16-bioc\R\bin\R.exe CMD INSTALL --merge-multiarch --build --library=segmentSeq.buildbin-libdir segmentSeq_2.31.0.tar.gz && F:\biocbuild\bbs-3.16-bioc\R\bin\R.exe CMD INSTALL segmentSeq_2.31.0.zip && rm segmentSeq_2.31.0.tar.gz segmentSeq_2.31.0.zip ### ############################################################################## ############################################################################## % Total % Received % Xferd Average Speed Time Time Time Current Dload Upload Total Spent Left Speed 0 0 0 0 0 0 0 0 --:--:-- --:--:-- --:--:-- 0 5 2354k 5 129k 0 0 1897k 0 0:00:01 --:--:-- 0:00:01 1897k 100 2354k 100 2354k 0 0 11.8M 0 --:--:-- --:--:-- --:--:-- 11.7M only one architecture so ignoring '--merge-multiarch' * installing *source* package 'segmentSeq' ... ** using staged installation ** R ** data ** inst ** byte-compile and prepare package for lazy loading ** help *** installing help indices ** building package indices ** installing vignettes ** testing if installed package can be loaded from temporary location ** testing if installed package can be loaded from final location ** testing if installed package keeps a record of temporary installation path * MD5 sums packaged installation of 'segmentSeq' as segmentSeq_2.31.0.zip * DONE (segmentSeq) * installing to library 'F:/biocbuild/bbs-3.16-bioc/R/library' package 'segmentSeq' successfully unpacked and MD5 sums checked
segmentSeq.Rcheck/segmentSeq-Ex.timings
name | user | system | elapsed | |
alignmentData-class | 4.01 | 0.00 | 4.02 | |
classifySeg | 34.38 | 0.24 | 34.61 | |
findChunks | 3.84 | 0.00 | 3.84 | |
getCounts | 5.8 | 0.0 | 5.8 | |
getOverlaps | 3.83 | 0.00 | 3.83 | |
heuristicSeg | 14.65 | 0.03 | 14.69 | |
lociLikelihoods | 15.82 | 0.07 | 15.89 | |
normaliseNC | 4.65 | 0.25 | 4.92 | |
plotGenome | 8.69 | 0.02 | 8.70 | |
processAD | 4.77 | 0.00 | 4.77 | |
readMethods | 3.77 | 0.00 | 3.77 | |
readMeths | 2.72 | 0.31 | 3.03 | |
segData-class | 4.51 | 0.01 | 4.53 | |
segmentSeq-package | 4.78 | 0.00 | 4.78 | |
thresholdFinder | 2.81 | 0.25 | 3.06 | |