Back to Multiple platform build/check report for BioC 3.17
ABC[D]EFGHIJKLMNOPQRSTUVWXYZ

This page was generated on 2022-12-02 11:09:15 -0500 (Fri, 02 Dec 2022).

HostnameOSArch (*)R versionInstalled pkgs
nebbiolo1Linux (Ubuntu 22.04.1 LTS)x86_64R Under development (unstable) (2022-11-30 r83393) -- "Unsuffered Consequences" 4210
palomino3Windows Server 2022 Datacenterx64R Under development (unstable) (2022-11-30 r83393 ucrt) -- "Unsuffered Consequences" 4122
merida1macOS 10.14.6 Mojavex86_64R Under development (unstable) (2022-11-30 r83393) -- "Unsuffered Consequences" 4188
Click on any hostname to see more info about the system (e.g. compilers)      (*) as reported by 'uname -p', except on Windows and Mac OS X

BUILD BIN results for DMRcaller on merida1


To the developers/maintainers of the DMRcaller package:
- Please allow up to 24 hours (and sometimes 48 hours) for your latest push to git@git.bioconductor.org:packages/DMRcaller.git to
reflect on this report. See How and When does the builder pull? When will my changes propagate? for more information.
- Make sure to use the following settings in order to reproduce any error or warning you see on this page.

raw results

Package 542/2155HostnameOS / ArchINSTALLBUILDCHECKBUILD BIN
DMRcaller 1.31.0  (landing page)
Nicolae Radu Zabet
Snapshot Date: 2022-12-01 14:00:17 -0500 (Thu, 01 Dec 2022)
git_url: https://git.bioconductor.org/packages/DMRcaller
git_branch: master
git_last_commit: 4d6f9f6
git_last_commit_date: 2022-11-01 11:11:26 -0500 (Tue, 01 Nov 2022)
nebbiolo1Linux (Ubuntu 22.04.1 LTS) / x86_64  OK    OK    OK  UNNEEDED, same version is already published
palomino3Windows Server 2022 Datacenter / x64  OK    OK    OK    OK  NO, package depends on 'GenomicRanges' which is not available
merida1macOS 10.14.6 Mojave / x86_64  OK    OK    OK    OK  UNNEEDED, same version is already published

Summary

Package: DMRcaller
Version: 1.31.0
Command: rm -rf DMRcaller.buildbin-libdir && mkdir DMRcaller.buildbin-libdir && /Users/biocbuild/BBS/utils/build-universal.sh DMRcaller_1.31.0.tar.gz /Library/Frameworks/R.framework/Resources/bin/R DMRcaller.buildbin-libdir
StartedAt: 2022-12-02 09:18:59 -0500 (Fri, 02 Dec 2022)
EndedAt: 2022-12-02 09:19:50 -0500 (Fri, 02 Dec 2022)
EllapsedTime: 51.4 seconds
RetCode: 0
Status:   OK  
PackageFile: DMRcaller_1.31.0.tgz
PackageFileSize: 1.832 MiB

Command output

##############################################################################
##############################################################################
###
### Running command:
###
###   rm -rf DMRcaller.buildbin-libdir && mkdir DMRcaller.buildbin-libdir && /Users/biocbuild/BBS/utils/build-universal.sh DMRcaller_1.31.0.tar.gz /Library/Frameworks/R.framework/Resources/bin/R DMRcaller.buildbin-libdir
###
##############################################################################
##############################################################################


>>>>>>> 
>>>>>>> INSTALLATION WITH 'R CMD INSTALL --preclean --no-multiarch --library=DMRcaller.buildbin-libdir DMRcaller_1.31.0.tar.gz'
>>>>>>> 

* installing *source* package ‘DMRcaller’ ...
** using staged installation
** R
** data
** inst
** byte-compile and prepare package for lazy loading
** help
*** installing help indices
** building package indices
** installing vignettes
** testing if installed package can be loaded from temporary location
** testing if installed package can be loaded from final location
** testing if installed package keeps a record of temporary installation path
* DONE (DMRcaller)