Back to Multiple platform build/check report for BioC 3.17: simplified long |
|
This page was generated on 2023-03-23 11:07:12 -0400 (Thu, 23 Mar 2023).
Hostname | OS | Arch (*) | R version | Installed pkgs |
---|---|---|---|---|
nebbiolo1 | Linux (Ubuntu 22.04.1 LTS) | x86_64 | R Under development (unstable) (2023-03-16 r83996) -- "Unsuffered Consequences" | 4536 |
palomino3 | Windows Server 2022 Datacenter | x64 | R Under development (unstable) (2023-03-15 r83984 ucrt) -- "Unsuffered Consequences" | 4298 |
merida1 | macOS 10.14.6 Mojave | x86_64 | R Under development (unstable) (2023-03-16 r83985) -- "Unsuffered Consequences" | 4290 |
Click on any hostname to see more info about the system (e.g. compilers) (*) as reported by 'uname -p', except on Windows and Mac OS X |
To the developers/maintainers of the sesame package: - Please allow up to 24 hours (and sometimes 48 hours) for your latest push to git@git.bioconductor.org:packages/sesame.git to reflect on this report. See How and When does the builder pull? When will my changes propagate? for more information. - Make sure to use the following settings in order to reproduce any error or warning you see on this page. |
Package 1863/2189 | Hostname | OS / Arch | INSTALL | BUILD | CHECK | BUILD BIN | ||||||||
sesame 1.17.7 (landing page) Wanding Zhou
| nebbiolo1 | Linux (Ubuntu 22.04.1 LTS) / x86_64 | OK | OK | OK | ![]() | ||||||||
palomino3 | Windows Server 2022 Datacenter / x64 | OK | OK | OK | OK | ![]() | ||||||||
merida1 | macOS 10.14.6 Mojave / x86_64 | OK | OK | OK | OK | ![]() | ||||||||
Package: sesame |
Version: 1.17.7 |
Command: /Library/Frameworks/R.framework/Resources/bin/R CMD check --install=check:sesame.install-out.txt --library=/Library/Frameworks/R.framework/Resources/library --no-vignettes --timings sesame_1.17.7.tar.gz |
StartedAt: 2023-03-23 07:24:22 -0400 (Thu, 23 Mar 2023) |
EndedAt: 2023-03-23 07:55:15 -0400 (Thu, 23 Mar 2023) |
EllapsedTime: 1853.6 seconds |
RetCode: 0 |
Status: OK |
CheckDir: sesame.Rcheck |
Warnings: 0 |
############################################################################## ############################################################################## ### ### Running command: ### ### /Library/Frameworks/R.framework/Resources/bin/R CMD check --install=check:sesame.install-out.txt --library=/Library/Frameworks/R.framework/Resources/library --no-vignettes --timings sesame_1.17.7.tar.gz ### ############################################################################## ############################################################################## * using log directory ‘/Users/biocbuild/bbs-3.17-bioc/meat/sesame.Rcheck’ * using R Under development (unstable) (2023-03-16 r83985) * using platform: x86_64-apple-darwin17.0 (64-bit) * R was compiled by Apple clang version 12.0.0 (clang-1200.0.32.29) GNU Fortran (GCC) 8.2.0 * running under: macOS Mojave 10.14.6 * using session charset: UTF-8 * using option ‘--no-vignettes’ * checking for file ‘sesame/DESCRIPTION’ ... OK * checking extension type ... Package * this is package ‘sesame’ version ‘1.17.7’ * package encoding: UTF-8 * checking package namespace information ... OK * checking package dependencies ... OK * checking if this is a source package ... OK * checking if there is a namespace ... OK * checking for hidden files and directories ... OK * checking for portable file names ... OK * checking for sufficient/correct file permissions ... OK * checking whether package ‘sesame’ can be installed ... OK * checking installed package size ... OK * checking package directory ... OK * checking ‘build’ directory ... OK * checking DESCRIPTION meta-information ... OK * checking top-level files ... OK * checking for left-over files ... OK * checking index information ... OK * checking package subdirectories ... OK * checking R files for non-ASCII characters ... OK * checking R files for syntax errors ... OK * checking whether the package can be loaded ... OK * checking whether the package can be loaded with stated dependencies ... OK * checking whether the package can be unloaded cleanly ... OK * checking whether the namespace can be loaded with stated dependencies ... OK * checking whether the namespace can be unloaded cleanly ... OK * checking startup messages can be suppressed ... OK * checking dependencies in R code ... OK * checking S3 generic/method consistency ... OK * checking replacement functions ... OK * checking foreign function calls ... OK * checking R code for possible problems ... OK * checking Rd files ... OK * checking Rd metadata ... OK * checking Rd cross-references ... OK * checking for missing documentation entries ... OK * checking for code/documentation mismatches ... OK * checking Rd \usage sections ... OK * checking Rd contents ... OK * checking for unstated dependencies in examples ... OK * checking files in ‘vignettes’ ... OK * checking examples ... OK Examples with CPU (user + system) or elapsed time > 5s user system elapsed KYCG_plotEnrichAll 44.697 0.980 64.081 sesameQC_calcStats 38.650 1.277 52.759 sesameQC_plotHeatSNPs 33.454 1.365 47.847 compareMouseStrainReference 29.301 0.504 40.738 inferSpecies 26.801 0.844 38.145 compareReference 25.900 0.653 36.868 matchDesign 24.627 0.696 34.541 KYCG_plotMeta 23.243 0.599 33.463 ELBAR 21.323 2.387 33.014 diffRefSet 22.081 0.470 30.997 sesameQC_plotBetaByDesign 19.471 1.216 27.690 sesameQC_plotBar 19.903 0.477 27.655 KYCG_annoProbes 19.474 0.698 31.665 getRefSet 17.939 0.402 25.335 KYCG_plotMetaEnrichment 16.450 0.416 23.617 KYCG_buildGeneDBs 16.324 0.450 24.486 DML 15.390 1.048 22.727 DMR 15.373 0.301 22.596 inferTissue 14.715 0.800 28.075 visualizeGene 14.322 0.358 20.762 getSexInfo 14.034 0.398 20.011 inferStrain 13.566 0.741 19.692 testEnrichmentSEA 12.850 0.646 18.977 sdf_read_table 12.501 0.382 17.641 aggregateTestEnrichments 12.605 0.256 19.307 KYCG_plotSetEnrichment 11.909 0.409 17.980 deidentify 11.715 0.172 22.830 dbStats 10.548 0.587 15.522 estimateLeukocyte 10.302 0.425 20.706 reIdentify 10.367 0.187 20.630 dyeBiasCorrMostBalanced 9.715 0.258 13.804 dyeBiasNL 9.467 0.441 13.582 createUCSCtrack 9.289 0.279 13.513 probeSuccessRate 8.318 0.244 11.688 testEnrichment 7.952 0.342 11.608 openSesame 7.413 0.597 12.826 inferSex 7.558 0.404 10.915 visualizeProbes 7.572 0.134 10.850 bisConversionControl 7.414 0.180 10.626 sesameQC_rankStats 7.013 0.385 10.554 KYCG_plotPointRange 6.236 0.165 9.077 prepSesame 5.872 0.117 8.167 updateSigDF 5.631 0.261 8.353 scrubSoft 5.309 0.568 7.929 parseGEOsignalMU 5.263 0.389 7.734 formatVCF 5.363 0.274 7.840 checkLevels 5.140 0.222 7.549 mapToMammal40 5.084 0.205 7.444 inferSexKaryotypes 5.015 0.213 7.205 KYCG_getDBs 4.894 0.236 7.361 sdf_write_table 4.854 0.262 6.959 KYCG_plotWaterfall 4.752 0.162 6.838 detectionPnegEcdf 4.667 0.101 6.578 print.DMLSummary 4.223 0.542 6.655 dyeBiasCorr 4.414 0.164 6.439 meanIntensity 4.321 0.136 6.258 sesameQC_plotIntensVsBetas 4.160 0.252 12.152 dyeBiasL 4.216 0.158 6.035 totalIntensities 4.045 0.179 5.964 summaryExtractTest 3.703 0.511 5.982 sesame-package 3.632 0.373 5.770 scrub 3.734 0.265 5.450 inferEthnicity 3.623 0.221 5.414 predictAge 3.676 0.141 5.259 noMasked 3.414 0.387 5.371 openSesameToFile 2.821 0.025 5.111 * checking for unstated dependencies in ‘tests’ ... OK * checking tests ... Running ‘testthat.R’ OK * checking for unstated dependencies in vignettes ... OK * checking package vignettes in ‘inst/doc’ ... OK * checking running R code from vignettes ... SKIPPED * checking re-building of vignette outputs ... SKIPPED * checking PDF version of manual ... OK * DONE Status: OK
sesame.Rcheck/00install.out
############################################################################## ############################################################################## ### ### Running command: ### ### /Library/Frameworks/R.framework/Resources/bin/R CMD INSTALL sesame ### ############################################################################## ############################################################################## * installing to library ‘/Library/Frameworks/R.framework/Versions/4.3/Resources/library’ * installing *source* package ‘sesame’ ... ** using staged installation ** R ** inst ** byte-compile and prepare package for lazy loading ** help *** installing help indices ** building package indices ** installing vignettes ** testing if installed package can be loaded from temporary location ** testing if installed package can be loaded from final location ** testing if installed package keeps a record of temporary installation path * DONE (sesame)
sesame.Rcheck/tests/testthat.Rout
R Under development (unstable) (2023-03-16 r83985) -- "Unsuffered Consequences" Copyright (C) 2023 The R Foundation for Statistical Computing Platform: x86_64-apple-darwin17.0 (64-bit) R is free software and comes with ABSOLUTELY NO WARRANTY. You are welcome to redistribute it under certain conditions. Type 'license()' or 'licence()' for distribution details. R is a collaborative project with many contributors. Type 'contributors()' for more information and 'citation()' on how to cite R or R packages in publications. Type 'demo()' for some demos, 'help()' for on-line help, or 'help.start()' for an HTML browser interface to help. Type 'q()' to quit R. > library(testthat) > library(sesame) Loading required package: sesameData Loading required package: ExperimentHub Loading required package: BiocGenerics Attaching package: 'BiocGenerics' The following objects are masked from 'package:stats': IQR, mad, sd, var, xtabs The following objects are masked from 'package:base': Filter, Find, Map, Position, Reduce, anyDuplicated, aperm, append, as.data.frame, basename, cbind, colnames, dirname, do.call, duplicated, eval, evalq, get, grep, grepl, intersect, is.unsorted, lapply, mapply, match, mget, order, paste, pmax, pmax.int, pmin, pmin.int, rank, rbind, rownames, sapply, setdiff, sort, table, tapply, union, unique, unsplit, which.max, which.min Loading required package: AnnotationHub Loading required package: BiocFileCache Loading required package: dbplyr Loading sesameData. ---------------------------------------------------------- | SEnsible Step-wise Analysis of DNA MEthylation (SeSAMe) | -------------------------------------------------------- | Please cache auxiliary data by "sesameDataCache()". | This needs to be done only once per SeSAMe installation. ---------------------------------------------------------- > > test_check("sesame") [ FAIL 0 | WARN 0 | SKIP 0 | PASS 1 ] > > proc.time() user system elapsed 33.087 1.786 48.442
sesame.Rcheck/sesame-Ex.timings
name | user | system | elapsed | |
BetaValueToMValue | 0 | 0 | 0 | |
DML | 15.390 | 1.048 | 22.727 | |
DMLpredict | 2.163 | 0.102 | 3.239 | |
DMR | 15.373 | 0.301 | 22.596 | |
ELBAR | 21.323 | 2.387 | 33.014 | |
KYCG_annoProbes | 19.474 | 0.698 | 31.665 | |
KYCG_buildGeneDBs | 16.324 | 0.450 | 24.486 | |
KYCG_getDBs | 4.894 | 0.236 | 7.361 | |
KYCG_listDBGroups | 0.058 | 0.001 | 0.089 | |
KYCG_loadDBs | 0.000 | 0.000 | 0.001 | |
KYCG_plotBar | 0.389 | 0.022 | 0.642 | |
KYCG_plotDot | 0.572 | 0.022 | 0.864 | |
KYCG_plotEnrichAll | 44.697 | 0.980 | 64.081 | |
KYCG_plotLollipop | 0.341 | 0.002 | 0.480 | |
KYCG_plotManhattan | 1.911 | 0.131 | 2.846 | |
KYCG_plotMeta | 23.243 | 0.599 | 33.463 | |
KYCG_plotMetaEnrichment | 16.450 | 0.416 | 23.617 | |
KYCG_plotPointRange | 6.236 | 0.165 | 9.077 | |
KYCG_plotSetEnrichment | 11.909 | 0.409 | 17.980 | |
KYCG_plotVolcano | 0.358 | 0.003 | 0.478 | |
KYCG_plotWaterfall | 4.752 | 0.162 | 6.838 | |
MValueToBetaValue | 0.001 | 0.000 | 0.000 | |
SigDF | 0.494 | 0.038 | 0.827 | |
addMask | 0.171 | 0.001 | 0.234 | |
aggregateTestEnrichments | 12.605 | 0.256 | 19.307 | |
bisConversionControl | 7.414 | 0.180 | 10.626 | |
calcEffectSize | 1.957 | 0.101 | 2.924 | |
checkLevels | 5.140 | 0.222 | 7.549 | |
cnSegmentation | 0.464 | 0.058 | 0.782 | |
compareMouseStrainReference | 29.301 | 0.504 | 40.738 | |
compareMouseTissueReference | 0 | 0 | 0 | |
compareReference | 25.900 | 0.653 | 36.868 | |
controls | 3.305 | 0.173 | 4.968 | |
createUCSCtrack | 9.289 | 0.279 | 13.513 | |
dataFrame2sesameQC | 2.298 | 0.180 | 3.565 | |
dbStats | 10.548 | 0.587 | 15.522 | |
deidentify | 11.715 | 0.172 | 22.830 | |
detectionPnegEcdf | 4.667 | 0.101 | 6.578 | |
diffRefSet | 22.081 | 0.470 | 30.997 | |
dmContrasts | 2.943 | 0.230 | 4.470 | |
dyeBiasCorr | 4.414 | 0.164 | 6.439 | |
dyeBiasCorrMostBalanced | 9.715 | 0.258 | 13.804 | |
dyeBiasL | 4.216 | 0.158 | 6.035 | |
dyeBiasNL | 9.467 | 0.441 | 13.582 | |
estimateLeukocyte | 10.302 | 0.425 | 20.706 | |
formatVCF | 5.363 | 0.274 | 7.840 | |
getAFTypeIbySumAlleles | 2.464 | 0.177 | 3.913 | |
getAFs | 1.590 | 0.076 | 2.355 | |
getBetas | 1.360 | 0.096 | 2.073 | |
getRefSet | 17.939 | 0.402 | 25.335 | |
getSexInfo | 14.034 | 0.398 | 20.011 | |
inferEthnicity | 3.623 | 0.221 | 5.414 | |
inferInfiniumIChannel | 0.698 | 0.453 | 1.601 | |
inferSex | 7.558 | 0.404 | 10.915 | |
inferSexKaryotypes | 5.015 | 0.213 | 7.205 | |
inferSpecies | 26.801 | 0.844 | 38.145 | |
inferStrain | 13.566 | 0.741 | 19.692 | |
inferTissue | 14.715 | 0.800 | 28.075 | |
initFileSet | 1.971 | 0.212 | 3.067 | |
listAvailableMasks | 2.852 | 0.102 | 4.177 | |
mapFileSet | 0.062 | 0.002 | 0.087 | |
mapToMammal40 | 5.084 | 0.205 | 7.444 | |
matchDesign | 24.627 | 0.696 | 34.541 | |
meanIntensity | 4.321 | 0.136 | 6.258 | |
medianTotalIntensity | 1.459 | 0.044 | 2.103 | |
noMasked | 3.414 | 0.387 | 5.371 | |
noob | 3.369 | 0.050 | 4.618 | |
openSesame | 7.413 | 0.597 | 12.826 | |
openSesameToFile | 2.821 | 0.025 | 5.111 | |
pOOBAH | 2.466 | 0.009 | 3.438 | |
palgen | 0.070 | 0.008 | 0.125 | |
parseGEOsignalMU | 5.263 | 0.389 | 7.734 | |
predictAge | 3.676 | 0.141 | 5.259 | |
predictAgeHorvath353 | 0 | 0 | 0 | |
predictAgeSkinBlood | 0.001 | 0.000 | 0.000 | |
predictMouseAgeInMonth | 0.000 | 0.000 | 0.001 | |
prefixMask | 1.176 | 0.006 | 1.519 | |
prefixMaskButC | 0.302 | 0.001 | 0.383 | |
prefixMaskButCG | 0.127 | 0.000 | 0.156 | |
prepSesame | 5.872 | 0.117 | 8.167 | |
prepSesameList | 0.003 | 0.001 | 0.006 | |
print.DMLSummary | 4.223 | 0.542 | 6.655 | |
print.fileSet | 1.921 | 0.110 | 2.973 | |
probeID_designType | 0 | 0 | 0 | |
probeSuccessRate | 8.318 | 0.244 | 11.688 | |
qualityMask | 1.532 | 0.040 | 2.179 | |
reIdentify | 10.367 | 0.187 | 20.630 | |
readFileSet | 0.092 | 0.008 | 0.136 | |
readIDATpair | 0.245 | 0.005 | 0.767 | |
resetMask | 0.620 | 0.056 | 0.998 | |
scrub | 3.734 | 0.265 | 5.450 | |
scrubSoft | 5.309 | 0.568 | 7.929 | |
sdfPlatform | 0.463 | 0.052 | 0.799 | |
sdf_read_table | 12.501 | 0.382 | 17.641 | |
sdf_write_table | 4.854 | 0.262 | 6.959 | |
searchIDATprefixes | 0.006 | 0.002 | 0.008 | |
sesame-package | 3.632 | 0.373 | 5.770 | |
sesameAnno_download | 0.000 | 0.000 | 0.001 | |
sesameAnno_get | 0.001 | 0.000 | 0.001 | |
sesameData_getAnno | 0 | 0 | 0 | |
sesameQC_calcStats | 38.650 | 1.277 | 52.759 | |
sesameQC_getStats | 3.306 | 0.008 | 4.499 | |
sesameQC_plotBar | 19.903 | 0.477 | 27.655 | |
sesameQC_plotBetaByDesign | 19.471 | 1.216 | 27.690 | |
sesameQC_plotHeatSNPs | 33.454 | 1.365 | 47.847 | |
sesameQC_plotIntensVsBetas | 4.160 | 0.252 | 12.152 | |
sesameQC_plotRedGrnQQ | 2.315 | 0.459 | 3.870 | |
sesameQC_rankStats | 7.013 | 0.385 | 10.554 | |
setMask | 0.530 | 0.090 | 0.866 | |
signalMU | 1.248 | 0.079 | 1.929 | |
sliceFileSet | 0.062 | 0.004 | 0.095 | |
summaryExtractTest | 3.703 | 0.511 | 5.982 | |
testEnrichment | 7.952 | 0.342 | 11.608 | |
testEnrichmentSEA | 12.850 | 0.646 | 18.977 | |
totalIntensities | 4.045 | 0.179 | 5.964 | |
updateSigDF | 5.631 | 0.261 | 8.353 | |
visualizeGene | 14.322 | 0.358 | 20.762 | |
visualizeProbes | 7.572 | 0.134 | 10.850 | |
visualizeRegion | 0.698 | 0.002 | 0.982 | |
visualizeSegments | 2.685 | 0.283 | 4.191 | |