Back to Multiple platform build/check report for BioC 3.17:   simplified   long
AB[C]DEFGHIJKLMNOPQRSTUVWXYZ

This page was generated on 2023-03-23 11:06:38 -0400 (Thu, 23 Mar 2023).

HostnameOSArch (*)R versionInstalled pkgs
nebbiolo1Linux (Ubuntu 22.04.1 LTS)x86_64R Under development (unstable) (2023-03-16 r83996) -- "Unsuffered Consequences" 4536
palomino3Windows Server 2022 Datacenterx64R Under development (unstable) (2023-03-15 r83984 ucrt) -- "Unsuffered Consequences" 4298
merida1macOS 10.14.6 Mojavex86_64R Under development (unstable) (2023-03-16 r83985) -- "Unsuffered Consequences" 4290
Click on any hostname to see more info about the system (e.g. compilers)      (*) as reported by 'uname -p', except on Windows and Mac OS X

BUILD BIN results for coMET on merida1


To the developers/maintainers of the coMET package:
- Please allow up to 24 hours (and sometimes 48 hours) for your latest push to git@git.bioconductor.org:packages/coMET.git to
reflect on this report. See How and When does the builder pull? When will my changes propagate? for more information.
- Make sure to use the following settings in order to reproduce any error or warning you see on this page.

raw results

Package 399/2189HostnameOS / ArchINSTALLBUILDCHECKBUILD BIN
coMET 1.31.0  (landing page)
Tiphaine Martin
Snapshot Date: 2023-03-22 14:00:17 -0400 (Wed, 22 Mar 2023)
git_url: https://git.bioconductor.org/packages/coMET
git_branch: devel
git_last_commit: 30a05cc
git_last_commit_date: 2022-11-01 11:10:56 -0400 (Tue, 01 Nov 2022)
nebbiolo1Linux (Ubuntu 22.04.1 LTS) / x86_64  OK    OK    OK  UNNEEDED, same version is already published
palomino3Windows Server 2022 Datacenter / x64  OK    OK    OK    OK  UNNEEDED, same version is already published
merida1macOS 10.14.6 Mojave / x86_64  OK    OK    OK    OK  UNNEEDED, same version is already published

Summary

Package: coMET
Version: 1.31.0
Command: rm -rf coMET.buildbin-libdir && mkdir coMET.buildbin-libdir && /Users/biocbuild/BBS/utils/build-universal.sh coMET_1.31.0.tar.gz /Library/Frameworks/R.framework/Resources/bin/R coMET.buildbin-libdir
StartedAt: 2023-03-23 09:38:22 -0400 (Thu, 23 Mar 2023)
EndedAt: 2023-03-23 09:41:25 -0400 (Thu, 23 Mar 2023)
EllapsedTime: 182.8 seconds
RetCode: 0
Status:   OK  
PackageFile: coMET_1.31.0.tgz
PackageFileSize: 21.77 MiB

Command output

##############################################################################
##############################################################################
###
### Running command:
###
###   rm -rf coMET.buildbin-libdir && mkdir coMET.buildbin-libdir && /Users/biocbuild/BBS/utils/build-universal.sh coMET_1.31.0.tar.gz /Library/Frameworks/R.framework/Resources/bin/R coMET.buildbin-libdir
###
##############################################################################
##############################################################################


>>>>>>> 
>>>>>>> INSTALLATION WITH 'R CMD INSTALL --preclean --no-multiarch --library=coMET.buildbin-libdir coMET_1.31.0.tar.gz'
>>>>>>> 

* installing *source* package ‘coMET’ ...
** using staged installation
** R
** data
** inst
** byte-compile and prepare package for lazy loading
** help
*** installing help indices
** building package indices
** installing vignettes
** testing if installed package can be loaded from temporary location
** testing if installed package can be loaded from final location
** testing if installed package keeps a record of temporary installation path
* DONE (coMET)