Back to Multiple platform build/check report for BioC 3.19:   simplified   long
ABCDEFGHIJKLMNO[P]QRSTUVWXYZ

This page was generated on 2024-03-01 11:39:21 -0500 (Fri, 01 Mar 2024).

HostnameOSArch (*)R versionInstalled pkgs
nebbiolo1Linux (Ubuntu 22.04.3 LTS)x86_64R Under development (unstable) (2024-01-16 r85808) -- "Unsuffered Consequences" 4676
palomino3Windows Server 2022 Datacenterx64R Under development (unstable) (2024-01-14 r85805 ucrt) -- "Unsuffered Consequences" 4414
merida1macOS 12.7.1 Montereyx86_64R Under development (unstable) (2024-01-16 r85808) -- "Unsuffered Consequences" 4441
kunpeng2Linux (openEuler 22.03 LTS-SP1)aarch64R Under development (unstable) (2024-01-16 r85812) -- "Unsuffered Consequences" 4417
Click on any hostname to see more info about the system (e.g. compilers)      (*) as reported by 'uname -p', except on Windows and Mac OS X

Package 1498/2251HostnameOS / ArchINSTALLBUILDCHECKBUILD BIN
pcaExplorer 2.29.0  (landing page)
Federico Marini
Snapshot Date: 2024-02-28 14:00:14 -0500 (Wed, 28 Feb 2024)
git_url: https://git.bioconductor.org/packages/pcaExplorer
git_branch: devel
git_last_commit: 1d2a8fd
git_last_commit_date: 2023-10-27 04:26:58 -0500 (Fri, 27 Oct 2023)
nebbiolo1Linux (Ubuntu 22.04.3 LTS) / x86_64  OK    OK    OK  UNNEEDED, same version is already published
palomino3Windows Server 2022 Datacenter / x64  OK    OK    OK    OK  UNNEEDED, same version is already published
merida1macOS 12.7.1 Monterey / x86_64  OK    OK    OK    OK  UNNEEDED, same version is already published
kunpeng2Linux (openEuler 22.03 LTS-SP1) / aarch64  OK    OK    OK  

CHECK results for pcaExplorer on merida1


To the developers/maintainers of the pcaExplorer package:
- Allow up to 24 hours (and sometimes 48 hours) for your latest push to git@git.bioconductor.org:packages/pcaExplorer.git to reflect on this report. See Troubleshooting Build Report for more information.
- Use the following Renviron settings to reproduce errors and warnings.
- If 'R CMD check' started to fail recently on the Linux builder(s) over a missing dependency, add the missing dependency to 'Suggests:' in your DESCRIPTION file. See Renviron.bioc for more information.

raw results


Summary

Package: pcaExplorer
Version: 2.29.0
Command: /Library/Frameworks/R.framework/Resources/bin/R CMD check --install=check:pcaExplorer.install-out.txt --library=/Library/Frameworks/R.framework/Resources/library --no-vignettes --timings pcaExplorer_2.29.0.tar.gz
StartedAt: 2024-02-29 08:24:07 -0500 (Thu, 29 Feb 2024)
EndedAt: 2024-02-29 08:38:34 -0500 (Thu, 29 Feb 2024)
EllapsedTime: 867.1 seconds
RetCode: 0
Status:   OK  
CheckDir: pcaExplorer.Rcheck
Warnings: 0

Command output

##############################################################################
##############################################################################
###
### Running command:
###
###   /Library/Frameworks/R.framework/Resources/bin/R CMD check --install=check:pcaExplorer.install-out.txt --library=/Library/Frameworks/R.framework/Resources/library --no-vignettes --timings pcaExplorer_2.29.0.tar.gz
###
##############################################################################
##############################################################################


* using log directory ‘/Users/biocbuild/bbs-3.19-bioc/meat/pcaExplorer.Rcheck’
* using R Under development (unstable) (2024-01-16 r85808)
* using platform: x86_64-apple-darwin20
* R was compiled by
    Apple clang version 14.0.0 (clang-1400.0.29.202)
    GNU Fortran (GCC) 12.2.0
* running under: macOS Monterey 12.7.1
* using session charset: UTF-8
* using option ‘--no-vignettes’
* checking for file ‘pcaExplorer/DESCRIPTION’ ... OK
* checking extension type ... Package
* this is package ‘pcaExplorer’ version ‘2.29.0’
* package encoding: UTF-8
* checking package namespace information ... OK
* checking package dependencies ... OK
* checking if this is a source package ... OK
* checking if there is a namespace ... OK
* checking for hidden files and directories ... OK
* checking for portable file names ... OK
* checking for sufficient/correct file permissions ... OK
* checking whether package ‘pcaExplorer’ can be installed ... OK
* checking installed package size ... OK
* checking package directory ... OK
* checking ‘build’ directory ... OK
* checking DESCRIPTION meta-information ... NOTE
License stub is invalid DCF.
* checking top-level files ... OK
* checking for left-over files ... OK
* checking index information ... OK
* checking package subdirectories ... OK
* checking R files for non-ASCII characters ... OK
* checking R files for syntax errors ... OK
* checking whether the package can be loaded ... OK
* checking whether the package can be loaded with stated dependencies ... OK
* checking whether the package can be unloaded cleanly ... OK
* checking whether the namespace can be loaded with stated dependencies ... OK
* checking whether the namespace can be unloaded cleanly ... OK
* checking whether startup messages can be suppressed ... OK
* checking dependencies in R code ... OK
* checking S3 generic/method consistency ... OK
* checking replacement functions ... OK
* checking foreign function calls ... OK
* checking R code for possible problems ... NOTE
pcaExplorer: no visible binding for '<<-' assignment to
  ‘pcaexplorer_env’
pcaExplorer : <anonymous>: no visible binding for global variable
  ‘airway’
pcaExplorer : <anonymous>: no visible binding for global variable
  ‘pcaexplorer_env’
Undefined global functions or variables:
  airway pcaexplorer_env
* checking Rd files ... OK
* checking Rd metadata ... OK
* checking Rd cross-references ... OK
* checking for missing documentation entries ... OK
* checking for code/documentation mismatches ... OK
* checking Rd \usage sections ... OK
* checking Rd contents ... OK
* checking for unstated dependencies in examples ... OK
* checking files in ‘vignettes’ ... OK
* checking examples ... OK
Examples with CPU (user + system) or elapsed time > 5s
                      user system elapsed
get_annotation_orgdb 6.088  0.180   7.903
get_annotation       5.317  0.179   6.801
correlatePCs         4.943  0.223   5.882
pca2go               4.560  0.116   5.794
genespca             4.494  0.067   5.370
pcaplot              3.963  0.133   5.079
* checking for unstated dependencies in ‘tests’ ... OK
* checking tests ...
  Running ‘testthat.R’
 OK
* checking for unstated dependencies in vignettes ... OK
* checking package vignettes ... OK
* checking running R code from vignettes ... SKIPPED
* checking re-building of vignette outputs ... SKIPPED
* checking PDF version of manual ... OK
* DONE

Status: 2 NOTEs
See
  ‘/Users/biocbuild/bbs-3.19-bioc/meat/pcaExplorer.Rcheck/00check.log’
for details.



Installation output

pcaExplorer.Rcheck/00install.out

##############################################################################
##############################################################################
###
### Running command:
###
###   /Library/Frameworks/R.framework/Resources/bin/R CMD INSTALL pcaExplorer
###
##############################################################################
##############################################################################


* installing to library ‘/Library/Frameworks/R.framework/Versions/4.4-x86_64/Resources/library’
* installing *source* package ‘pcaExplorer’ ...
** using staged installation
** R
** inst
** byte-compile and prepare package for lazy loading
** help
*** installing help indices
*** copying figures
** building package indices
** installing vignettes
** testing if installed package can be loaded from temporary location
** testing if installed package can be loaded from final location
** testing if installed package keeps a record of temporary installation path
* DONE (pcaExplorer)

Tests output

pcaExplorer.Rcheck/tests/testthat.Rout


R Under development (unstable) (2024-01-16 r85808) -- "Unsuffered Consequences"
Copyright (C) 2024 The R Foundation for Statistical Computing
Platform: x86_64-apple-darwin20

R is free software and comes with ABSOLUTELY NO WARRANTY.
You are welcome to redistribute it under certain conditions.
Type 'license()' or 'licence()' for distribution details.

R is a collaborative project with many contributors.
Type 'contributors()' for more information and
'citation()' on how to cite R or R packages in publications.

Type 'demo()' for some demos, 'help()' for on-line help, or
'help.start()' for an HTML browser interface to help.
Type 'q()' to quit R.

> library(testthat)
> library(pcaExplorer)

Welcome to pcaExplorer v2.29.0

If you use pcaExplorer in your work, please cite:

Federico Marini, Harald Binder
pcaExplorer: an R/Bioconductor package for interacting with RNA-seq principal components
BMC Bioinformatics, 2019 - https://doi.org/10.1186/s12859-019-2879-1

> 
> test_check("pcaExplorer")
[ FAIL 0 | WARN 2 | SKIP 0 | PASS 17 ]

[ FAIL 0 | WARN 2 | SKIP 0 | PASS 17 ]
> 
> proc.time()
   user  system elapsed 
112.403   3.758 145.991 

Example timings

pcaExplorer.Rcheck/pcaExplorer-Ex.timings

nameusersystemelapsed
correlatePCs4.9430.2235.882
distro_expr3.8640.0604.576
geneprofiler2.8600.0273.291
genespca4.4940.0675.370
get_annotation5.3170.1796.801
get_annotation_orgdb6.0880.1807.903
hi_loadings3.0690.1804.169
limmaquickpca2go3.3550.0904.284
makeExampleDESeqDataSet_multifac0.7290.0080.918
pair_corr3.6760.0984.640
pca2go4.5600.1165.794
pcaExplorer3.3380.0874.562
pcaplot3.9630.1335.079
pcaplot3d2.8320.0683.569
pcascree3.5310.0464.569
plotPCcorrs3.2390.0494.188
topGOtable3.3020.0784.248