Back to Multiple platform build/check report for BioC 3.15
ABCDEFGHIJKLMNOPQRSTUVWX[Y]Z

This page was generated on 2022-01-24 11:12:21 -0500 (Mon, 24 Jan 2022).

HostnameOSArch (*)R versionInstalled pkgs
nebbiolo1Linux (Ubuntu 20.04.4 LTS)x86_64R Under development (unstable) (2022-01-05 r81451) -- "Unsuffered Consequences" 4163
riesling1Windows Server 2019 Standardx64R Under development (unstable) (2021-11-21 r81221) -- "Unsuffered Consequences" 4058
palomino3Windows Server 2022 Datacenterx64R Under development (unstable) (2021-12-21 r81400 ucrt) -- "Unsuffered Consequences" 4000
merida1macOS 10.14.6 Mojavex86_64R Under development (unstable) (2022-01-05 r81451) -- "Unsuffered Consequences" 4117
Click on any hostname to see more info about the system (e.g. compilers)      (*) as reported by 'uname -p', except on Windows and Mac OS X

BUILD BIN results for YAPSA on merida1


To the developers/maintainers of the YAPSA package:
- Please allow up to 24 hours (and sometimes 48 hours) for your latest push to git@git.bioconductor.org:packages/YAPSA.git to
reflect on this report. See How and When does the builder pull? When will my changes propagate? here for more information.
- Make sure to use the following settings in order to reproduce any error or warning you see on this page.

raw results

Package 2070/2075HostnameOS / ArchINSTALLBUILDCHECKBUILD BIN
YAPSA 1.21.1  (landing page)
Daniel Huebschmann
Snapshot Date: 2022-01-23 13:55:15 -0500 (Sun, 23 Jan 2022)
git_url: https://git.bioconductor.org/packages/YAPSA
git_branch: master
git_last_commit: 2261ecf
git_last_commit_date: 2021-11-13 14:32:49 -0500 (Sat, 13 Nov 2021)
nebbiolo1Linux (Ubuntu 20.04.4 LTS) / x86_64  OK    OK    WARNINGS  UNNEEDED, same version is already published
riesling1Windows Server 2019 Standard / x64  OK    OK    WARNINGS    OK  
palomino3Windows Server 2022 Datacenter / x64  OK    OK    WARNINGS    OK  NO, package depends on 'GenomicRanges' which is not available
merida1macOS 10.14.6 Mojave / x86_64  OK    OK    WARNINGS    OK  UNNEEDED, same version is already published

Summary

Package: YAPSA
Version: 1.21.1
Command: rm -rf YAPSA.buildbin-libdir && mkdir YAPSA.buildbin-libdir && /Users/biocbuild/BBS/utils/build-universal.sh YAPSA_1.21.1.tar.gz /Library/Frameworks/R.framework/Resources/bin/R YAPSA.buildbin-libdir
StartedAt: 2022-01-24 08:49:03 -0500 (Mon, 24 Jan 2022)
EndedAt: 2022-01-24 08:50:25 -0500 (Mon, 24 Jan 2022)
EllapsedTime: 82.0 seconds
RetCode: 0
Status:   OK  
PackageFile: YAPSA_1.21.1.tgz
PackageFileSize: 4.201 MiB

Command output

##############################################################################
##############################################################################
###
### Running command:
###
###   rm -rf YAPSA.buildbin-libdir && mkdir YAPSA.buildbin-libdir && /Users/biocbuild/BBS/utils/build-universal.sh YAPSA_1.21.1.tar.gz /Library/Frameworks/R.framework/Resources/bin/R YAPSA.buildbin-libdir
###
##############################################################################
##############################################################################


>>>>>>> 
>>>>>>> INSTALLATION WITH 'R CMD INSTALL --preclean --no-multiarch --library=YAPSA.buildbin-libdir YAPSA_1.21.1.tar.gz'
>>>>>>> 

* installing *source* package ‘YAPSA’ ...
** using staged installation
** R
** data
** inst
** byte-compile and prepare package for lazy loading
Found more than one class "atomicVector" in cache; using the first, from namespace 'Matrix'
Also defined by ‘Rmpfr’
Found more than one class "atomicVector" in cache; using the first, from namespace 'Matrix'
Also defined by ‘Rmpfr’
Found more than one class "atomicVector" in cache; using the first, from namespace 'Matrix'
Also defined by ‘Rmpfr’
Found more than one class "atomicVector" in cache; using the first, from namespace 'Matrix'
Also defined by ‘Rmpfr’
Found more than one class "atomicVector" in cache; using the first, from namespace 'Matrix'
Also defined by ‘Rmpfr’
Found more than one class "atomicVector" in cache; using the first, from namespace 'Matrix'
Also defined by ‘Rmpfr’
Found more than one class "atomicVector" in cache; using the first, from namespace 'Matrix'
Also defined by ‘Rmpfr’
Found more than one class "atomicVector" in cache; using the first, from namespace 'Matrix'
Also defined by ‘Rmpfr’
Found more than one class "atomicVector" in cache; using the first, from namespace 'Matrix'
Also defined by ‘Rmpfr’
Found more than one class "atomicVector" in cache; using the first, from namespace 'Matrix'
Also defined by ‘Rmpfr’
Found more than one class "atomicVector" in cache; using the first, from namespace 'Matrix'
Also defined by ‘Rmpfr’
Found more than one class "atomicVector" in cache; using the first, from namespace 'Matrix'
Also defined by ‘Rmpfr’
Warning: replacing previous import ‘GenomicRanges::subtract’ by ‘magrittr::subtract’ when loading ‘YAPSA’
** help
*** installing help indices
** building package indices
** installing vignettes
** testing if installed package can be loaded from temporary location
Found more than one class "atomicVector" in cache; using the first, from namespace 'Matrix'
Also defined by ‘Rmpfr’
Found more than one class "atomicVector" in cache; using the first, from namespace 'Matrix'
Also defined by ‘Rmpfr’
Found more than one class "atomicVector" in cache; using the first, from namespace 'Matrix'
Also defined by ‘Rmpfr’
Found more than one class "atomicVector" in cache; using the first, from namespace 'Matrix'
Also defined by ‘Rmpfr’
Found more than one class "atomicVector" in cache; using the first, from namespace 'Matrix'
Also defined by ‘Rmpfr’
Found more than one class "atomicVector" in cache; using the first, from namespace 'Matrix'
Also defined by ‘Rmpfr’
Found more than one class "atomicVector" in cache; using the first, from namespace 'Matrix'
Also defined by ‘Rmpfr’
Found more than one class "atomicVector" in cache; using the first, from namespace 'Matrix'
Also defined by ‘Rmpfr’
Found more than one class "atomicVector" in cache; using the first, from namespace 'Matrix'
Also defined by ‘Rmpfr’
Found more than one class "atomicVector" in cache; using the first, from namespace 'Matrix'
Also defined by ‘Rmpfr’
Found more than one class "atomicVector" in cache; using the first, from namespace 'Matrix'
Also defined by ‘Rmpfr’
Found more than one class "atomicVector" in cache; using the first, from namespace 'Matrix'
Also defined by ‘Rmpfr’
Warning: replacing previous import ‘GenomicRanges::subtract’ by ‘magrittr::subtract’ when loading ‘YAPSA’
** testing if installed package can be loaded from final location
Found more than one class "atomicVector" in cache; using the first, from namespace 'Matrix'
Also defined by ‘Rmpfr’
Found more than one class "atomicVector" in cache; using the first, from namespace 'Matrix'
Also defined by ‘Rmpfr’
Found more than one class "atomicVector" in cache; using the first, from namespace 'Matrix'
Also defined by ‘Rmpfr’
Found more than one class "atomicVector" in cache; using the first, from namespace 'Matrix'
Also defined by ‘Rmpfr’
Found more than one class "atomicVector" in cache; using the first, from namespace 'Matrix'
Also defined by ‘Rmpfr’
Found more than one class "atomicVector" in cache; using the first, from namespace 'Matrix'
Also defined by ‘Rmpfr’
Found more than one class "atomicVector" in cache; using the first, from namespace 'Matrix'
Also defined by ‘Rmpfr’
Found more than one class "atomicVector" in cache; using the first, from namespace 'Matrix'
Also defined by ‘Rmpfr’
Found more than one class "atomicVector" in cache; using the first, from namespace 'Matrix'
Also defined by ‘Rmpfr’
Found more than one class "atomicVector" in cache; using the first, from namespace 'Matrix'
Also defined by ‘Rmpfr’
Found more than one class "atomicVector" in cache; using the first, from namespace 'Matrix'
Also defined by ‘Rmpfr’
Found more than one class "atomicVector" in cache; using the first, from namespace 'Matrix'
Also defined by ‘Rmpfr’
Warning: replacing previous import ‘GenomicRanges::subtract’ by ‘magrittr::subtract’ when loading ‘YAPSA’
** testing if installed package keeps a record of temporary installation path
* DONE (YAPSA)