Back to Multiple platform build/check report for BioC 3.15
A[B]CDEFGHIJKLMNOPQRSTUVWXYZ

This page was generated on 2022-01-22 11:09:51 -0500 (Sat, 22 Jan 2022).

HostnameOSArch (*)R versionInstalled pkgs
nebbiolo1Linux (Ubuntu 20.04.4 LTS)x86_64R Under development (unstable) (2022-01-05 r81451) -- "Unsuffered Consequences" 4163
riesling1Windows Server 2019 Standardx64R Under development (unstable) (2021-11-21 r81221) -- "Unsuffered Consequences" 4058
palomino3Windows Server 2022 Datacenterx64R Under development (unstable) (2021-12-21 r81400 ucrt) -- "Unsuffered Consequences" 4000
merida1macOS 10.14.6 Mojavex86_64R Under development (unstable) (2022-01-05 r81451) -- "Unsuffered Consequences" 4117
Click on any hostname to see more info about the system (e.g. compilers)      (*) as reported by 'uname -p', except on Windows and Mac OS X

BUILD results for BiSeq on merida1


To the developers/maintainers of the BiSeq package:
- Please allow up to 24 hours (and sometimes 48 hours) for your latest push to git@git.bioconductor.org:packages/BiSeq.git to
reflect on this report. See How and When does the builder pull? When will my changes propagate? here for more information.
- Make sure to use the following settings in order to reproduce any error or warning you see on this page.

raw results

Package 196/2075HostnameOS / ArchINSTALLBUILDCHECKBUILD BIN
BiSeq 1.35.1  (landing page)
Katja Hebestreit
Snapshot Date: 2022-01-21 13:55:18 -0500 (Fri, 21 Jan 2022)
git_url: https://git.bioconductor.org/packages/BiSeq
git_branch: master
git_last_commit: 5773d7c
git_last_commit_date: 2022-01-14 11:43:32 -0500 (Fri, 14 Jan 2022)
nebbiolo1Linux (Ubuntu 20.04.4 LTS) / x86_64  OK    OK    OK  UNNEEDED, same version is already published
riesling1Windows Server 2019 Standard / x64  OK    OK    NA    NA  
palomino3Windows Server 2022 Datacenter / x64  OK    OK    OK    OK  NO, package depends on 'S4Vectors' which is not available
merida1macOS 10.14.6 Mojave / x86_64  OK    OK    OK    OK  UNNEEDED, same version is already published

Summary

Package: BiSeq
Version: 1.35.1
Command: /Library/Frameworks/R.framework/Resources/bin/R CMD build --keep-empty-dirs --no-resave-data BiSeq
StartedAt: 2022-01-21 16:50:47 -0500 (Fri, 21 Jan 2022)
EndedAt: 2022-01-21 16:54:35 -0500 (Fri, 21 Jan 2022)
EllapsedTime: 227.5 seconds
RetCode: 0
Status:   OK  
PackageFile: BiSeq_1.35.1.tar.gz
PackageFileSize: 927.1 KiB

Command output

##############################################################################
##############################################################################
###
### Running command:
###
###   /Library/Frameworks/R.framework/Resources/bin/R CMD build --keep-empty-dirs --no-resave-data BiSeq
###
##############################################################################
##############################################################################


* checking for file ‘BiSeq/DESCRIPTION’ ... OK
* preparing ‘BiSeq’:
* checking DESCRIPTION meta-information ... OK
* installing the package to build vignettes
* creating vignettes ... OK
* checking for LF line-endings in source and make files and shell scripts
* checking for empty or unneeded directories
* looking to see if a ‘data/datalist’ file should be added
  NB: this package now depends on R (>= 3.5.0)
  WARNING: Added dependency on R >= 3.5.0 because serialized objects in
  serialize/load version 3 cannot be read in older versions of R.
  File(s) containing such objects:
    ‘BiSeq/data/DMRs.RData’ ‘BiSeq/data/predictedMeth.RData’
    ‘BiSeq/data/promoters.RData’ ‘BiSeq/data/rrbs.RData’
* building ‘BiSeq_1.35.1.tar.gz’