Back to Multiple platform build/check report for BioC 3.17
ABCDEFGHIJKLMNOPQ[R]STUVWXYZ

This page was generated on 2022-12-01 11:10:41 -0500 (Thu, 01 Dec 2022).

HostnameOSArch (*)R versionInstalled pkgs
nebbiolo1Linux (Ubuntu 22.04.1 LTS)x86_64R Under development (unstable) (2022-10-25 r83175) -- "Unsuffered Consequences" 4462
palomino3Windows Server 2022 Datacenterx64R Under development (unstable) (2022-10-11 r83083 ucrt) -- "Unsuffered Consequences" 4203
merida1macOS 10.14.6 Mojavex86_64R Under development (unstable) (2022-11-13 r83342) -- "Unsuffered Consequences" 4231
Click on any hostname to see more info about the system (e.g. compilers)      (*) as reported by 'uname -p', except on Windows and Mac OS X

BUILD results for R453Plus1Toolbox on merida1


To the developers/maintainers of the R453Plus1Toolbox package:
- Please allow up to 24 hours (and sometimes 48 hours) for your latest push to git@git.bioconductor.org:packages/R453Plus1Toolbox.git to
reflect on this report. See How and When does the builder pull? When will my changes propagate? for more information.
- Make sure to use the following settings in order to reproduce any error or warning you see on this page.

raw results

Package 1566/2154HostnameOS / ArchINSTALLBUILDCHECKBUILD BIN
R453Plus1Toolbox 1.49.0  (landing page)
Hans-Ulrich Klein
Snapshot Date: 2022-11-30 14:00:15 -0500 (Wed, 30 Nov 2022)
git_url: https://git.bioconductor.org/packages/R453Plus1Toolbox
git_branch: master
git_last_commit: 7b302c5
git_last_commit_date: 2022-11-01 11:05:23 -0500 (Tue, 01 Nov 2022)
nebbiolo1Linux (Ubuntu 22.04.1 LTS) / x86_64  OK    OK    OK  UNNEEDED, same version is already published
palomino3Windows Server 2022 Datacenter / x64  OK    OK    OK    OK  NO, package depends on 'VariantAnnotation' which is not available
merida1macOS 10.14.6 Mojave / x86_64  OK    OK    OK    OK  NO, package depends on 'VariantAnnotation' which is not available

Summary

Package: R453Plus1Toolbox
Version: 1.49.0
Command: /Library/Frameworks/R.framework/Resources/bin/R CMD build --keep-empty-dirs --no-resave-data R453Plus1Toolbox
StartedAt: 2022-11-30 20:21:17 -0500 (Wed, 30 Nov 2022)
EndedAt: 2022-11-30 20:26:20 -0500 (Wed, 30 Nov 2022)
EllapsedTime: 302.4 seconds
RetCode: 0
Status:   OK  
PackageFile: R453Plus1Toolbox_1.49.0.tar.gz
PackageFileSize: 833.4 KiB

Command output

##############################################################################
##############################################################################
###
### Running command:
###
###   /Library/Frameworks/R.framework/Resources/bin/R CMD build --keep-empty-dirs --no-resave-data R453Plus1Toolbox
###
##############################################################################
##############################################################################


* checking for file ‘R453Plus1Toolbox/DESCRIPTION’ ... OK
* preparing ‘R453Plus1Toolbox’:
* checking DESCRIPTION meta-information ... OK
* cleaning src
* installing the package to build vignettes
* creating vignettes ... OK
* cleaning src
* checking for LF line-endings in source and make files and shell scripts
* checking for empty or unneeded directories
* looking to see if a ‘data/datalist’ file should be added
* building ‘R453Plus1Toolbox_1.49.0.tar.gz’