Back to Multiple platform build/check report for BioC 3.15
ABCDEF[G]HIJKLMNOPQRSTUVWXYZ

This page was generated on 2022-01-17 11:11:15 -0500 (Mon, 17 Jan 2022).

HostnameOSArch (*)R versionInstalled pkgs
nebbiolo1Linux (Ubuntu 20.04.4 LTS)x86_64R Under development (unstable) (2022-01-05 r81451) -- "Unsuffered Consequences" 4161
riesling1Windows Server 2019 Standardx64R Under development (unstable) (2021-11-21 r81221) -- "Unsuffered Consequences" 4056
palomino3Windows Server 2022 Datacenterx64R Under development (unstable) (2021-12-21 r81400 ucrt) -- "Unsuffered Consequences" 3998
merida1macOS 10.14.6 Mojavex86_64R Under development (unstable) (2022-01-05 r81451) -- "Unsuffered Consequences" 4115
Click on any hostname to see more info about the system (e.g. compilers)      (*) as reported by 'uname -p', except on Windows and Mac OS X

CHECK results for gwascat on merida1


To the developers/maintainers of the gwascat package:
- Please allow up to 24 hours (and sometimes 48 hours) for your latest push to git@git.bioconductor.org:packages/gwascat.git to
reflect on this report. See How and When does the builder pull? When will my changes propagate? here for more information.
- Make sure to use the following settings in order to reproduce any error or warning you see on this page.

raw results

Package 843/2074HostnameOS / ArchINSTALLBUILDCHECKBUILD BIN
gwascat 2.27.0  (landing page)
VJ Carey
Snapshot Date: 2022-01-16 13:55:18 -0500 (Sun, 16 Jan 2022)
git_url: https://git.bioconductor.org/packages/gwascat
git_branch: master
git_last_commit: 126f159
git_last_commit_date: 2021-10-26 12:02:07 -0500 (Tue, 26 Oct 2021)
nebbiolo1Linux (Ubuntu 20.04.4 LTS) / x86_64  OK    OK    OK  UNNEEDED, same version is already published
riesling1Windows Server 2019 Standard / x64  OK    OK    OK    OK  
palomino3Windows Server 2022 Datacenter / x64  OK    OK    OK    OK  NO, package depends on 'S4Vectors' which is not available
merida1macOS 10.14.6 Mojave / x86_64  OK    OK    OK    OK  UNNEEDED, same version is already published

Summary

Package: gwascat
Version: 2.27.0
Command: /Library/Frameworks/R.framework/Resources/bin/R CMD check --install=check:gwascat.install-out.txt --library=/Library/Frameworks/R.framework/Resources/library --no-vignettes --timings gwascat_2.27.0.tar.gz
StartedAt: 2022-01-17 01:37:24 -0500 (Mon, 17 Jan 2022)
EndedAt: 2022-01-17 01:49:09 -0500 (Mon, 17 Jan 2022)
EllapsedTime: 705.2 seconds
RetCode: 0
Status:   OK  
CheckDir: gwascat.Rcheck
Warnings: 0

Command output

##############################################################################
##############################################################################
###
### Running command:
###
###   /Library/Frameworks/R.framework/Resources/bin/R CMD check --install=check:gwascat.install-out.txt --library=/Library/Frameworks/R.framework/Resources/library --no-vignettes --timings gwascat_2.27.0.tar.gz
###
##############################################################################
##############################################################################


* using log directory ‘/Users/biocbuild/bbs-3.15-bioc/meat/gwascat.Rcheck’
* using R Under development (unstable) (2022-01-05 r81451)
* using platform: x86_64-apple-darwin17.0 (64-bit)
* using session charset: UTF-8
* using option ‘--no-vignettes’
* checking for file ‘gwascat/DESCRIPTION’ ... OK
* this is package ‘gwascat’ version ‘2.27.0’
* package encoding: UTF-8
* checking package namespace information ... OK
* checking package dependencies ... OK
* checking if this is a source package ... OK
* checking if there is a namespace ... OK
* checking for hidden files and directories ... NOTE
Found the following hidden files and directories:
  .git_fetch_output.txt
  .git_merge_output.txt
These were most likely included in error. See section ‘Package
structure’ in the ‘Writing R Extensions’ manual.
* checking for portable file names ... OK
* checking for sufficient/correct file permissions ... OK
* checking whether package ‘gwascat’ can be installed ... OK
* checking installed package size ... NOTE
  installed size is 34.0Mb
  sub-directories of 1Mb or more:
    data     10.1Mb
    legacy   15.6Mb
    obo       3.0Mb
    olddata   2.2Mb
    tab       1.1Mb
* checking package directory ... OK
* checking ‘build’ directory ... OK
* checking DESCRIPTION meta-information ... NOTE
Package listed in more than one of Depends, Imports, Suggests, Enhances:
  ‘IRanges’
A package should be listed in only one of these fields.
* checking top-level files ... OK
* checking for left-over files ... OK
* checking index information ... OK
* checking package subdirectories ... OK
* checking R files for non-ASCII characters ... OK
* checking R files for syntax errors ... OK
* checking whether the package can be loaded ... OK
* checking whether the package can be loaded with stated dependencies ... OK
* checking whether the package can be unloaded cleanly ... OK
* checking whether the namespace can be loaded with stated dependencies ... OK
* checking whether the namespace can be unloaded cleanly ... OK
* checking dependencies in R code ... OK
* checking S3 generic/method consistency ... OK
* checking replacement functions ... OK
* checking foreign function calls ... OK
* checking R code for possible problems ... NOTE
addSeqlengths: no visible global function definition for ‘seqlengths’
addSeqlengths: no visible global function definition for ‘seqlengths<-’
bindcadd_snv: no visible global function definition for ‘TabixFile’
bindcadd_snv: no visible global function definition for ‘findOverlaps’
buildq: no visible global function definition for ‘read.delim’
chklocs: no visible binding for global variable ‘gwrngs19’
chklocs: no visible global function definition for ‘snpsBySeqname’
gwascat_from_AHub: no visible global function definition for ‘data’
gwascat_from_AHub: no visible binding for global variable ‘si.hs.38’
gwascat_from_AHub: no visible global function definition for
  ‘sessionInfo’
gwcat_snapshot: no visible global function definition for ‘data’
gwcat_snapshot: no visible binding for global variable ‘si.hs.38’
gwcat_snapshot: no visible global function definition for ‘sessionInfo’
lo38to19: no visible global function definition for ‘liftOver’
lo38to19: no visible global function definition for ‘sessionInfo’
lo38to19: no visible global function definition for ‘data’
lo38to19: no visible binding for global variable ‘si.hs.37’
makeCurrentGwascat: no visible global function definition for
  ‘download.file’
makeCurrentGwascat: no visible global function definition for ‘data’
makeCurrentGwascat: no visible binding for global variable ‘si.hs.38’
makeCurrentGwascat: no visible global function definition for
  ‘sessionInfo’
process_gwas_dataframe: no visible global function definition for
  ‘data’
process_gwas_dataframe: no visible binding for global variable
  ‘si.hs.38’
process_gwas_dataframe: no visible global function definition for
  ‘sessionInfo’
snpGenos: no visible global function definition for ‘getSNPlocs’
tfilt: no visible binding for global variable ‘phr’
tpad: no visible binding for global variable ‘phr’
traitsManh: no visible global function definition for ‘aes’
traitsManh: no visible binding for global variable ‘PVALUE_MLOG’
variantProps: no visible binding for global variable ‘gwrngs’
Undefined global functions or variables:
  PVALUE_MLOG TabixFile aes data download.file findOverlaps getSNPlocs
  gwrngs gwrngs19 liftOver phr read.delim seqlengths seqlengths<-
  sessionInfo si.hs.37 si.hs.38 snpsBySeqname
Consider adding
  importFrom("utils", "data", "download.file", "read.delim",
             "sessionInfo")
to your NAMESPACE file.
* checking Rd files ... OK
* checking Rd metadata ... OK
* checking Rd cross-references ... OK
* checking for missing documentation entries ... OK
* checking for code/documentation mismatches ... OK
* checking Rd \usage sections ... OK
* checking Rd contents ... OK
* checking for unstated dependencies in examples ... OK
* checking contents of ‘data’ directory ... OK
* checking data for non-ASCII characters ... NOTE
  Note: found 2077 marked UTF-8 strings
* checking data for ASCII and uncompressed saves ... OK
* checking files in ‘vignettes’ ... OK
* checking examples ... OK
Examples with CPU (user + system) or elapsed time > 5s
                    user system elapsed
gwascat_from_AHub 36.325  0.977  41.806
gwcat_snapshot    34.360  0.818  35.611
gg17N             17.679  0.073  20.908
gwcex2gviz        14.345  0.548  14.916
* checking for unstated dependencies in ‘tests’ ... OK
* checking tests ...
  Running ‘testthat.R’
 OK
* checking for unstated dependencies in vignettes ... OK
* checking package vignettes in ‘inst/doc’ ... OK
* checking running R code from vignettes ... SKIPPED
* checking re-building of vignette outputs ... SKIPPED
* checking PDF version of manual ... OK
* DONE

Status: 5 NOTEs
See
  ‘/Users/biocbuild/bbs-3.15-bioc/meat/gwascat.Rcheck/00check.log’
for details.



Installation output

gwascat.Rcheck/00install.out

##############################################################################
##############################################################################
###
### Running command:
###
###   /Library/Frameworks/R.framework/Resources/bin/R CMD INSTALL gwascat
###
##############################################################################
##############################################################################


* installing to library ‘/Library/Frameworks/R.framework/Versions/4.2/Resources/library’
* installing *source* package ‘gwascat’ ...
** using staged installation
** R
** data
** inst
** byte-compile and prepare package for lazy loading
** help
*** installing help indices
** building package indices
** installing vignettes
** testing if installed package can be loaded from temporary location
** testing if installed package can be loaded from final location
** testing if installed package keeps a record of temporary installation path
* DONE (gwascat)

Tests output

gwascat.Rcheck/tests/testthat.Rout


R Under development (unstable) (2022-01-05 r81451) -- "Unsuffered Consequences"
Copyright (C) 2022 The R Foundation for Statistical Computing
Platform: x86_64-apple-darwin17.0 (64-bit)

R is free software and comes with ABSOLUTELY NO WARRANTY.
You are welcome to redistribute it under certain conditions.
Type 'license()' or 'licence()' for distribution details.

R is a collaborative project with many contributors.
Type 'contributors()' for more information and
'citation()' on how to cite R or R packages in publications.

Type 'demo()' for some demos, 'help()' for on-line help, or
'help.start()' for an HTML browser interface to help.
Type 'q()' to quit R.

> library(testthat)
> 
> test_check("gwascat")
Loading required package: gwascat
gwascat loaded.  Use makeCurrentGwascat() to extract current image.
 from EBI.  The data folder of this package has some legacy extracts.
[ FAIL 0 | WARN 0 | SKIP 0 | PASS 0 ]
> 
> 
> proc.time()
   user  system elapsed 
  21.42    0.86   22.29 

Example timings

gwascat.Rcheck/gwascat-Ex.timings

nameusersystemelapsed
bindcadd_snv0.0000.0010.000
gg17N17.679 0.07320.908
gwascat_from_AHub36.325 0.97741.806
gwcat_snapshot34.360 0.81835.611
gwcex2gviz14.345 0.54814.916
ldtagr0.9460.0060.956
makeCurrentGwascat0.0000.0000.001
obo2graphNEL0.5780.0320.613
riskyAlleleCount0.0010.0000.000
topTraits1.7490.0201.773
traitsManh000