Back to Multiple platform build/check report for BioC 3.14
ABCDEF[G]HIJKLMNOPQRSTUVWXYZ

This page was generated on 2021-10-21 12:05:20 -0400 (Thu, 21 Oct 2021).

CHECK results for GeneBreak on merida1

To the developers/maintainers of the GeneBreak package:
- Please allow up to 24 hours (and sometimes 48 hours) for your latest push to git@git.bioconductor.org:packages/GeneBreak.git to
reflect on this report. See How and When does the builder pull? When will my changes propagate? here for more information.
- Make sure to use the following settings in order to reproduce any error or warning you see on this page.

raw results

Package 715/2075HostnameOS / ArchINSTALLBUILDCHECKBUILD BIN
GeneBreak 1.23.0  (landing page)
Evert van den Broek
Snapshot Date: 2021-10-20 14:50:05 -0400 (Wed, 20 Oct 2021)
git_url: https://git.bioconductor.org/packages/GeneBreak
git_branch: master
git_last_commit: c48ff88
git_last_commit_date: 2021-05-19 12:16:21 -0400 (Wed, 19 May 2021)
nebbiolo2Linux (Ubuntu 20.04.2 LTS) / x86_64  OK    OK    OK  UNNEEDED, same version is already published
riesling1Windows Server 2019 Standard / x64  OK    OK    OK    OK  UNNEEDED, same version is already published
merida1macOS 10.14.6 Mojave / x86_64  OK    OK    OK    OK  UNNEEDED, same version is already published

Summary

Package: GeneBreak
Version: 1.23.0
Command: /Library/Frameworks/R.framework/Resources/bin/R CMD check --install=check:GeneBreak.install-out.txt --library=/Library/Frameworks/R.framework/Resources/library --no-vignettes --timings GeneBreak_1.23.0.tar.gz
StartedAt: 2021-10-21 04:01:01 -0400 (Thu, 21 Oct 2021)
EndedAt: 2021-10-21 04:04:55 -0400 (Thu, 21 Oct 2021)
EllapsedTime: 234.1 seconds
RetCode: 0
Status:   OK  
CheckDir: GeneBreak.Rcheck
Warnings: 0

Command output

##############################################################################
##############################################################################
###
### Running command:
###
###   /Library/Frameworks/R.framework/Resources/bin/R CMD check --install=check:GeneBreak.install-out.txt --library=/Library/Frameworks/R.framework/Resources/library --no-vignettes --timings GeneBreak_1.23.0.tar.gz
###
##############################################################################
##############################################################################


* using log directory ‘/Users/biocbuild/bbs-3.14-bioc/meat/GeneBreak.Rcheck’
* using R version 4.1.1 Patched (2021-08-22 r80813)
* using platform: x86_64-apple-darwin17.0 (64-bit)
* using session charset: UTF-8
* using option ‘--no-vignettes’
* checking for file ‘GeneBreak/DESCRIPTION’ ... OK
* checking extension type ... Package
* this is package ‘GeneBreak’ version ‘1.23.0’
* checking package namespace information ... OK
* checking package dependencies ... OK
* checking if this is a source package ... OK
* checking if there is a namespace ... OK
* checking for hidden files and directories ... OK
* checking for portable file names ... OK
* checking for sufficient/correct file permissions ... OK
* checking whether package ‘GeneBreak’ can be installed ... OK
* checking installed package size ... OK
* checking package directory ... OK
* checking ‘build’ directory ... OK
* checking DESCRIPTION meta-information ... OK
* checking top-level files ... OK
* checking for left-over files ... OK
* checking index information ... OK
* checking package subdirectories ... OK
* checking R files for non-ASCII characters ... OK
* checking R files for syntax errors ... OK
* checking whether the package can be loaded ... OK
* checking whether the package can be loaded with stated dependencies ... OK
* checking whether the package can be unloaded cleanly ... OK
* checking whether the namespace can be loaded with stated dependencies ... OK
* checking whether the namespace can be unloaded cleanly ... OK
* checking dependencies in R code ... OK
* checking S3 generic/method consistency ... OK
* checking replacement functions ... OK
* checking foreign function calls ... OK
* checking R code for possible problems ... NOTE
.glmbreak: no visible global function definition for ‘glm’
.glmbreak: no visible global function definition for ‘predict’
addGeneAnnotation,CopyNumberBreakPoints: no visible global function
  definition for ‘head’
bpStats,CopyNumberBreakPoints: no visible global function definition
  for ‘sd’
bpStats,CopyNumberBreakPoints: no visible global function definition
  for ‘p.adjust’
Undefined global functions or variables:
  glm head p.adjust predict sd
Consider adding
  importFrom("stats", "glm", "p.adjust", "predict", "sd")
  importFrom("utils", "head")
to your NAMESPACE file.
* checking Rd files ... OK
* checking Rd metadata ... OK
* checking Rd cross-references ... OK
* checking for missing documentation entries ... OK
* checking for code/documentation mismatches ... OK
* checking Rd \usage sections ... OK
* checking Rd contents ... OK
* checking for unstated dependencies in examples ... OK
* checking contents of ‘data’ directory ... OK
* checking data for non-ASCII characters ... OK
* checking data for ASCII and uncompressed saves ... OK
* checking sizes of PDF files under ‘inst/doc’ ... OK
* checking files in ‘vignettes’ ... OK
* checking examples ... OK
Examples with CPU (user + system) or elapsed time > 5s
                                                 user system elapsed
CopyNumberBreakPointGenes-class                 8.793  0.690   9.495
bpStats-CopyNumberBreakPoints-method            6.738  0.483   7.236
bpPlot-CopyNumberBreakPoints-method             6.640  0.464   7.114
recurrentGenes-CopyNumberBreakPointGenes-method 6.389  0.478   6.877
* checking for unstated dependencies in vignettes ... OK
* checking package vignettes in ‘inst/doc’ ... OK
* checking running R code from vignettes ... SKIPPED
* checking re-building of vignette outputs ... SKIPPED
* checking PDF version of manual ... OK
* DONE

Status: 1 NOTE
See
  ‘/Users/biocbuild/bbs-3.14-bioc/meat/GeneBreak.Rcheck/00check.log’
for details.



Installation output

GeneBreak.Rcheck/00install.out

##############################################################################
##############################################################################
###
### Running command:
###
###   /Library/Frameworks/R.framework/Resources/bin/R CMD INSTALL GeneBreak
###
##############################################################################
##############################################################################


* installing to library ‘/Library/Frameworks/R.framework/Versions/4.1/Resources/library’
* installing *source* package ‘GeneBreak’ ...
** using staged installation
** R
** data
** byte-compile and prepare package for lazy loading
Creating a new generic function for ‘segmentData’ in package ‘GeneBreak’
** help
*** installing help indices
** building package indices
** installing vignettes
** testing if installed package can be loaded from temporary location
** testing if installed package can be loaded from final location
** testing if installed package keeps a record of temporary installation path
* DONE (GeneBreak)

Tests output


Example timings

GeneBreak.Rcheck/GeneBreak-Ex.timings

nameusersystemelapsed
CopyNumberBreakPointGenes-class8.7930.6909.495
CopyNumberBreakPoints-class2.1490.1382.289
accessOptions-CopyNumberBreakPoints-method1.2560.0691.327
addGeneAnnotation-CopyNumberBreakPoints-method2.3090.1452.457
bpFilter-CopyNumberBreakPoints-method2.0760.1042.184
bpGenes-CopyNumberBreakPointGenes-method2.8540.1593.017
bpPlot-CopyNumberBreakPoints-method6.6400.4647.114
bpStats-CopyNumberBreakPoints-method6.7380.4837.236
breakpointData-CopyNumberBreakPoints-method1.4180.3631.782
breakpointsPerGene-CopyNumberBreakPointGenes-method2.4300.4692.906
callData-CopyNumberBreakPoints-method1.6330.4172.055
featureChromosomes-CopyNumberBreakPoints-method1.2460.0831.332
featureInfo-CopyNumberBreakPoints-method2.4340.2042.640
featuresPerGene-CopyNumberBreakPointGenes-method2.4440.1142.564
geneChromosomes-CopyNumberBreakPointGenes-method2.5700.1252.700
geneInfo-CopyNumberBreakPointGenes-method2.3480.1582.507
getBreakpoints1.8300.0981.931
namesFeatures-CopyNumberBreakPoints-method1.2670.0891.357
recurrentGenes-CopyNumberBreakPointGenes-method6.3890.4786.877
sampleNames-CopyNumberBreakPoints-method1.3040.0671.374
segmentData-CopyNumberBreakPoints-method1.5690.3941.970