Back to Multiple platform build/check report for BioC 3.16
ABCDEFGHIJKLMNOP[Q]RSTUVWXYZ

This page was generated on 2022-06-24 11:07:01 -0400 (Fri, 24 Jun 2022).

HostnameOSArch (*)R versionInstalled pkgs
nebbiolo2Linux (Ubuntu 20.04.4 LTS)x86_644.2.0 Patched (2022-06-02 r82447) -- "Vigorous Calisthenics" 4331
palomino4Windows Server 2022 Datacenterx644.2.0 Patched (2022-06-02 r82447 ucrt) -- "Vigorous Calisthenics" 4136
lconwaymacOS 12.2.1 Montereyx86_644.2.0 Patched (2022-05-29 r82424) -- "Vigorous Calisthenics" 4147
Click on any hostname to see more info about the system (e.g. compilers)      (*) as reported by 'uname -p', except on Windows and Mac OS X

INSTALL results for qpgraph on palomino4


To the developers/maintainers of the qpgraph package:
- Please allow up to 24 hours (and sometimes 48 hours) for your latest push to git@git.bioconductor.org:packages/qpgraph.git to
reflect on this report. See How and When does the builder pull? When will my changes propagate? for more information.
- Make sure to use the following settings in order to reproduce any error or warning you see on this page.

raw results

Package 1520/2118HostnameOS / ArchINSTALLBUILDCHECKBUILD BIN
qpgraph 2.31.0  (landing page)
Robert Castelo
Snapshot Date: 2022-06-23 14:00:04 -0400 (Thu, 23 Jun 2022)
git_url: https://git.bioconductor.org/packages/qpgraph
git_branch: master
git_last_commit: 7fd3af0
git_last_commit_date: 2022-04-26 11:02:28 -0400 (Tue, 26 Apr 2022)
nebbiolo2Linux (Ubuntu 20.04.4 LTS) / x86_64  OK    OK    WARNINGS  UNNEEDED, same version is already published
palomino4Windows Server 2022 Datacenter / x64  OK    OK    WARNINGS    OK  UNNEEDED, same version is already published
lconwaymacOS 12.2.1 Monterey / x86_64  OK    OK    WARNINGS    OK  UNNEEDED, same version is already published

Summary

Package: qpgraph
Version: 2.31.0
Command: C:\cygwin\bin\curl.exe -O http://155.52.207.166/BBS/3.16/bioc/src/contrib/qpgraph_2.31.0.tar.gz && rm -rf qpgraph.buildbin-libdir && mkdir qpgraph.buildbin-libdir && F:\biocbuild\bbs-3.16-bioc\R\bin\R.exe CMD INSTALL --merge-multiarch --build --library=qpgraph.buildbin-libdir qpgraph_2.31.0.tar.gz && F:\biocbuild\bbs-3.16-bioc\R\bin\R.exe CMD INSTALL qpgraph_2.31.0.zip && rm qpgraph_2.31.0.tar.gz qpgraph_2.31.0.zip
StartedAt: 2022-06-23 16:25:44 -0400 (Thu, 23 Jun 2022)
EndedAt: 2022-06-23 16:26:55 -0400 (Thu, 23 Jun 2022)
EllapsedTime: 70.6 seconds
RetCode: 0
Status:   OK  

Command output

##############################################################################
##############################################################################
###
### Running command:
###
###   C:\cygwin\bin\curl.exe -O http://155.52.207.166/BBS/3.16/bioc/src/contrib/qpgraph_2.31.0.tar.gz && rm -rf qpgraph.buildbin-libdir && mkdir qpgraph.buildbin-libdir && F:\biocbuild\bbs-3.16-bioc\R\bin\R.exe CMD INSTALL --merge-multiarch --build --library=qpgraph.buildbin-libdir qpgraph_2.31.0.tar.gz && F:\biocbuild\bbs-3.16-bioc\R\bin\R.exe CMD INSTALL qpgraph_2.31.0.zip && rm qpgraph_2.31.0.tar.gz qpgraph_2.31.0.zip
###
##############################################################################
##############################################################################


  % Total    % Received % Xferd  Average Speed   Time    Time     Time  Current
                                 Dload  Upload   Total   Spent    Left  Speed

  0     0    0     0    0     0      0      0 --:--:-- --:--:-- --:--:--     0
100 1861k  100 1861k    0     0  5994k      0 --:--:-- --:--:-- --:--:-- 6023k
only one architecture so ignoring '--merge-multiarch'
* installing *source* package 'qpgraph' ...
** using staged installation

   **********************************************
   WARNING: this package has a configure script
         It probably needs manual configuration
   **********************************************


** libs
gcc  -I"F:/biocbuild/bbs-3.16-bioc/R/include" -DNDEBUG     -I"C:/rtools42/x86_64-w64-mingw32.static.posix/include"     -O2 -Wall  -std=gnu99 -mfpmath=sse -msse2 -mstackrealign  -c cliquer.c -o cliquer.o
gcc  -I"F:/biocbuild/bbs-3.16-bioc/R/include" -DNDEBUG     -I"C:/rtools42/x86_64-w64-mingw32.static.posix/include"     -O2 -Wall  -std=gnu99 -mfpmath=sse -msse2 -mstackrealign  -c graph.c -o graph.o
gcc  -I"F:/biocbuild/bbs-3.16-bioc/R/include" -DNDEBUG     -I"C:/rtools42/x86_64-w64-mingw32.static.posix/include"     -O2 -Wall  -std=gnu99 -mfpmath=sse -msse2 -mstackrealign  -c qpgraph.c -o qpgraph.o
gcc  -I"F:/biocbuild/bbs-3.16-bioc/R/include" -DNDEBUG     -I"C:/rtools42/x86_64-w64-mingw32.static.posix/include"     -O2 -Wall  -std=gnu99 -mfpmath=sse -msse2 -mstackrealign  -c reorder.c -o reorder.o
gcc -shared -s -static-libgcc -o qpgraph.dll tmp.def cliquer.o graph.o qpgraph.o reorder.o -LF:/biocbuild/bbs-3.16-bioc/R/bin/x64 -lRlapack -LF:/biocbuild/bbs-3.16-bioc/R/bin/x64 -lRblas -LC:/rtools42/x86_64-w64-mingw32.static.posix/lib/x64 -LC:/rtools42/x86_64-w64-mingw32.static.posix/lib -LF:/biocbuild/bbs-3.16-bioc/R/bin/x64 -lR
installing to F:/biocbuild/bbs-3.16-bioc/meat/qpgraph.buildbin-libdir/00LOCK-qpgraph/00new/qpgraph/libs/x64
** R
** data
*** moving datasets to lazyload DB
** inst
** byte-compile and prepare package for lazy loading
Creating a generic function for 'det' from package 'Matrix' in package 'qpgraph'
** help
*** installing help indices
** building package indices
** installing vignettes
** testing if installed package can be loaded from temporary location
** testing if installed package can be loaded from final location
** testing if installed package keeps a record of temporary installation path
* MD5 sums
packaged installation of 'qpgraph' as qpgraph_2.31.0.zip
* DONE (qpgraph)
* installing to library 'F:/biocbuild/bbs-3.16-bioc/R/library'
package 'qpgraph' successfully unpacked and MD5 sums checked