Back to Multiple platform build/check report for BioC 3.14
AB[C]DEFGHIJKLMNOPQRSTUVWXYZ

This page was generated on 2021-10-23 14:06:55 -0400 (Sat, 23 Oct 2021).

BUILD BIN results for circRNAprofiler on merida1

To the developers/maintainers of the circRNAprofiler package:
- Please allow up to 24 hours (and sometimes 48 hours) for your latest push to git@git.bioconductor.org:packages/circRNAprofiler.git to
reflect on this report. See How and When does the builder pull? When will my changes propagate? here for more information.
- Make sure to use the following settings in order to reproduce any error or warning you see on this page.

raw results

Package 321/2083HostnameOS / ArchINSTALLBUILDCHECKBUILD BIN
circRNAprofiler 1.7.5  (landing page)
Simona Aufiero
Snapshot Date: 2021-10-22 14:50:11 -0400 (Fri, 22 Oct 2021)
git_url: https://git.bioconductor.org/packages/circRNAprofiler
git_branch: master
git_last_commit: 66e3c56
git_last_commit_date: 2021-09-27 06:32:17 -0400 (Mon, 27 Sep 2021)
nebbiolo2Linux (Ubuntu 20.04.2 LTS) / x86_64  OK    OK    OK  UNNEEDED, same version is already published
riesling1Windows Server 2019 Standard / x64  OK    OK    OK    OK  UNNEEDED, same version is already published
merida1macOS 10.14.6 Mojave / x86_64  OK    OK    OK    OK  UNNEEDED, same version is already published

Summary

Package: circRNAprofiler
Version: 1.7.5
Command: rm -rf circRNAprofiler.buildbin-libdir && mkdir circRNAprofiler.buildbin-libdir && /Users/biocbuild/BBS/utils/build-universal.sh circRNAprofiler_1.7.5.tar.gz /Library/Frameworks/R.framework/Resources/bin/R circRNAprofiler.buildbin-libdir
StartedAt: 2021-10-23 11:25:41 -0400 (Sat, 23 Oct 2021)
EndedAt: 2021-10-23 11:27:20 -0400 (Sat, 23 Oct 2021)
EllapsedTime: 98.5 seconds
RetCode: 0
Status:   OK  
PackageFile: circRNAprofiler_1.7.5.tgz
PackageFileSize: 3.415 MiB

Command output

##############################################################################
##############################################################################
###
### Running command:
###
###   rm -rf circRNAprofiler.buildbin-libdir && mkdir circRNAprofiler.buildbin-libdir && /Users/biocbuild/BBS/utils/build-universal.sh circRNAprofiler_1.7.5.tar.gz /Library/Frameworks/R.framework/Resources/bin/R circRNAprofiler.buildbin-libdir
###
##############################################################################
##############################################################################


>>>>>>> 
>>>>>>> INSTALLATION WITH 'R CMD INSTALL --preclean --no-multiarch --library=circRNAprofiler.buildbin-libdir circRNAprofiler_1.7.5.tar.gz'
>>>>>>> 

* installing *source* package ‘circRNAprofiler’ ...
** using staged installation
** R
** data
** inst
** byte-compile and prepare package for lazy loading
** help
*** installing help indices
** building package indices
** installing vignettes
** testing if installed package can be loaded from temporary location
** testing if installed package can be loaded from final location
** testing if installed package keeps a record of temporary installation path
* DONE (circRNAprofiler)