Back to Multiple platform build/check report for BioC 3.16 |
|
This page was generated on 2022-06-24 11:05:05 -0400 (Fri, 24 Jun 2022).
Hostname | OS | Arch (*) | R version | Installed pkgs |
---|---|---|---|---|
nebbiolo2 | Linux (Ubuntu 20.04.4 LTS) | x86_64 | 4.2.0 Patched (2022-06-02 r82447) -- "Vigorous Calisthenics" | 4331 |
palomino4 | Windows Server 2022 Datacenter | x64 | 4.2.0 Patched (2022-06-02 r82447 ucrt) -- "Vigorous Calisthenics" | 4136 |
lconway | macOS 12.2.1 Monterey | x86_64 | 4.2.0 Patched (2022-05-29 r82424) -- "Vigorous Calisthenics" | 4147 |
Click on any hostname to see more info about the system (e.g. compilers) (*) as reported by 'uname -p', except on Windows and Mac OS X |
To the developers/maintainers of the ChIPpeakAnno package: - Please allow up to 24 hours (and sometimes 48 hours) for your latest push to git@git.bioconductor.org:packages/ChIPpeakAnno.git to reflect on this report. See How and When does the builder pull? When will my changes propagate? for more information. - Make sure to use the following settings in order to reproduce any error or warning you see on this page. |
Package 306/2118 | Hostname | OS / Arch | INSTALL | BUILD | CHECK | BUILD BIN | ||||||||
ChIPpeakAnno 3.31.1 (landing page) Jianhong Ou
| nebbiolo2 | Linux (Ubuntu 20.04.4 LTS) / x86_64 | OK | OK | OK | ![]() | ||||||||
palomino4 | Windows Server 2022 Datacenter / x64 | OK | OK | OK | OK | ![]() | ||||||||
lconway | macOS 12.2.1 Monterey / x86_64 | OK | OK | OK | OK | ![]() | ||||||||
Package: ChIPpeakAnno |
Version: 3.31.1 |
Command: /home/biocbuild/bbs-3.16-bioc/R/bin/R CMD check --install=check:ChIPpeakAnno.install-out.txt --library=/home/biocbuild/bbs-3.16-bioc/R/library --no-vignettes --timings ChIPpeakAnno_3.31.1.tar.gz |
StartedAt: 2022-06-23 19:08:49 -0400 (Thu, 23 Jun 2022) |
EndedAt: 2022-06-23 19:18:25 -0400 (Thu, 23 Jun 2022) |
EllapsedTime: 575.9 seconds |
RetCode: 0 |
Status: OK |
CheckDir: ChIPpeakAnno.Rcheck |
Warnings: 0 |
############################################################################## ############################################################################## ### ### Running command: ### ### /home/biocbuild/bbs-3.16-bioc/R/bin/R CMD check --install=check:ChIPpeakAnno.install-out.txt --library=/home/biocbuild/bbs-3.16-bioc/R/library --no-vignettes --timings ChIPpeakAnno_3.31.1.tar.gz ### ############################################################################## ############################################################################## * using log directory ‘/home/biocbuild/bbs-3.16-bioc/meat/ChIPpeakAnno.Rcheck’ * using R version 4.2.0 Patched (2022-06-02 r82447) * using platform: x86_64-pc-linux-gnu (64-bit) * using session charset: UTF-8 * using option ‘--no-vignettes’ * checking for file ‘ChIPpeakAnno/DESCRIPTION’ ... OK * checking extension type ... Package * this is package ‘ChIPpeakAnno’ version ‘3.31.1’ * package encoding: UTF-8 * checking package namespace information ... OK * checking package dependencies ... OK * checking if this is a source package ... OK * checking if there is a namespace ... OK * checking for hidden files and directories ... OK * checking for portable file names ... OK * checking for sufficient/correct file permissions ... OK * checking whether package ‘ChIPpeakAnno’ can be installed ... OK * checking installed package size ... NOTE installed size is 19.2Mb sub-directories of 1Mb or more: data 12.6Mb extdata 5.2Mb * checking package directory ... OK * checking ‘build’ directory ... OK * checking DESCRIPTION meta-information ... OK * checking top-level files ... OK * checking for left-over files ... OK * checking index information ... OK * checking package subdirectories ... OK * checking R files for non-ASCII characters ... OK * checking R files for syntax errors ... OK * checking whether the package can be loaded ... OK * checking whether the package can be loaded with stated dependencies ... OK * checking whether the package can be unloaded cleanly ... OK * checking whether the namespace can be loaded with stated dependencies ... OK * checking whether the namespace can be unloaded cleanly ... OK * checking dependencies in R code ... OK * checking S3 generic/method consistency ... OK * checking replacement functions ... OK * checking foreign function calls ... OK * checking R code for possible problems ... OK * checking Rd files ... OK * checking Rd metadata ... OK * checking Rd cross-references ... OK * checking for missing documentation entries ... OK * checking for code/documentation mismatches ... OK * checking Rd \usage sections ... OK * checking Rd contents ... OK * checking for unstated dependencies in examples ... OK * checking contents of ‘data’ directory ... OK * checking data for non-ASCII characters ... OK * checking LazyData ... OK * checking data for ASCII and uncompressed saves ... OK * checking files in ‘vignettes’ ... OK * checking examples ... OK Examples with CPU (user + system) or elapsed time > 5s user system elapsed findEnhancers 21.051 0.288 21.339 findMotifsInPromoterSeqs 13.355 0.172 13.536 annotatePeakInBatch 13.005 0.357 13.361 * checking for unstated dependencies in ‘tests’ ... OK * checking tests ... Running ‘runTests.R’ OK * checking for unstated dependencies in vignettes ... OK * checking package vignettes in ‘inst/doc’ ... OK * checking running R code from vignettes ... SKIPPED * checking re-building of vignette outputs ... SKIPPED * checking PDF version of manual ... OK * DONE Status: 1 NOTE See ‘/home/biocbuild/bbs-3.16-bioc/meat/ChIPpeakAnno.Rcheck/00check.log’ for details.
ChIPpeakAnno.Rcheck/00install.out
############################################################################## ############################################################################## ### ### Running command: ### ### /home/biocbuild/bbs-3.16-bioc/R/bin/R CMD INSTALL ChIPpeakAnno ### ############################################################################## ############################################################################## * installing to library ‘/home/biocbuild/bbs-3.16-bioc/R/library’ * installing *source* package ‘ChIPpeakAnno’ ... ** using staged installation ** R ** data *** moving datasets to lazyload DB ** inst ** byte-compile and prepare package for lazy loading ** help *** installing help indices ** building package indices ** installing vignettes ** testing if installed package can be loaded from temporary location ** testing if installed package can be loaded from final location ** testing if installed package keeps a record of temporary installation path * DONE (ChIPpeakAnno)
ChIPpeakAnno.Rcheck/tests/runTests.Rout
R version 4.2.0 Patched (2022-06-02 r82447) -- "Vigorous Calisthenics" Copyright (C) 2022 The R Foundation for Statistical Computing Platform: x86_64-pc-linux-gnu (64-bit) R is free software and comes with ABSOLUTELY NO WARRANTY. You are welcome to redistribute it under certain conditions. Type 'license()' or 'licence()' for distribution details. R is a collaborative project with many contributors. Type 'contributors()' for more information and 'citation()' on how to cite R or R packages in publications. Type 'demo()' for some demos, 'help()' for on-line help, or 'help.start()' for an HTML browser interface to help. Type 'q()' to quit R. > require("ChIPpeakAnno") || stop("unable to load Package:ChIPpeakAnno") Loading required package: ChIPpeakAnno Loading required package: IRanges Loading required package: BiocGenerics Attaching package: 'BiocGenerics' The following objects are masked from 'package:stats': IQR, mad, sd, var, xtabs The following objects are masked from 'package:base': Filter, Find, Map, Position, Reduce, anyDuplicated, append, as.data.frame, basename, cbind, colnames, dirname, do.call, duplicated, eval, evalq, get, grep, grepl, intersect, is.unsorted, lapply, mapply, match, mget, order, paste, pmax, pmax.int, pmin, pmin.int, rank, rbind, rownames, sapply, setdiff, sort, table, tapply, union, unique, unsplit, which.max, which.min Loading required package: S4Vectors Loading required package: stats4 Attaching package: 'S4Vectors' The following objects are masked from 'package:base': I, expand.grid, unname Loading required package: GenomicRanges Loading required package: GenomeInfoDb [1] TRUE > require("BSgenome.Drerio.UCSC.danRer7") || stop("unable to load Package:BSgenome.Drerio.UCSC.danRer7") Loading required package: BSgenome.Drerio.UCSC.danRer7 Loading required package: BSgenome Loading required package: Biostrings Loading required package: XVector Attaching package: 'Biostrings' The following object is masked from 'package:base': strsplit Loading required package: rtracklayer [1] TRUE > require("org.Hs.eg.db") || stop("unable to load Package:org.Hs.eg.db") Loading required package: org.Hs.eg.db Loading required package: AnnotationDbi Loading required package: Biobase Welcome to Bioconductor Vignettes contain introductory material; view with 'browseVignettes()'. To cite Bioconductor, see 'citation("Biobase")', and for packages 'citation("pkgname")'. [1] TRUE > require("org.Ce.eg.db") || stop("unable to load Package:org.Ce.eg.db") Loading required package: org.Ce.eg.db [1] TRUE > require("BSgenome.Celegans.UCSC.ce10") || stop("unable to load Package:BSgenome.Celegans.UCSC.ce10") Loading required package: BSgenome.Celegans.UCSC.ce10 [1] TRUE > require("EnsDb.Hsapiens.v79") || stop("unable to load Package:EnsDb.Hsapiens.v79") Loading required package: EnsDb.Hsapiens.v79 Loading required package: ensembldb Loading required package: GenomicFeatures Loading required package: AnnotationFilter Attaching package: 'ensembldb' The following object is masked from 'package:stats': filter [1] TRUE > require("TxDb.Hsapiens.UCSC.hg38.knownGene") || stop("unable to load TxDb.Hsapiens.UCSC.hg38.knownGene") Loading required package: TxDb.Hsapiens.UCSC.hg38.knownGene [1] TRUE > require("biomaRt") || stop("unable to load biomaRt") Loading required package: biomaRt [1] TRUE > require("testthat") || stop("unable to load testthat") Loading required package: testthat Attaching package: 'testthat' The following object is masked from 'package:AnnotationFilter': not [1] TRUE > test_check("ChIPpeakAnno") [ FAIL 0 | WARN 3 | SKIP 6 | PASS 315 ] ══ Skipped tests ═══════════════════════════════════════════════════════════════ • empty test (6) [ FAIL 0 | WARN 3 | SKIP 6 | PASS 315 ] > > proc.time() user system elapsed 161.935 3.024 166.970
ChIPpeakAnno.Rcheck/ChIPpeakAnno-Ex.timings
name | user | system | elapsed | |
ChIPpeakAnno-package | 0 | 0 | 0 | |
ExonPlusUtr.human.GRCh37 | 3.682 | 0.204 | 3.886 | |
HOT.spots | 0.134 | 0.012 | 0.146 | |
IDRfilter | 0 | 0 | 0 | |
Peaks.Ste12.Replicate1 | 0.044 | 0.008 | 0.051 | |
Peaks.Ste12.Replicate2 | 0.011 | 0.000 | 0.011 | |
Peaks.Ste12.Replicate3 | 0.011 | 0.000 | 0.011 | |
TSS.human.GRCh37 | 0.170 | 0.011 | 0.182 | |
TSS.human.GRCh38 | 0.153 | 0.000 | 0.152 | |
TSS.human.NCBI36 | 0.109 | 0.008 | 0.116 | |
TSS.mouse.GRCm38 | 0.097 | 0.007 | 0.104 | |
TSS.mouse.NCBIM37 | 0.082 | 0.017 | 0.098 | |
TSS.rat.RGSC3.4 | 0.081 | 0.003 | 0.084 | |
TSS.rat.Rnor_5.0 | 0.072 | 0.004 | 0.076 | |
TSS.zebrafish.Zv8 | 0.075 | 0.003 | 0.080 | |
TSS.zebrafish.Zv9 | 0.079 | 0.011 | 0.091 | |
addAncestors | 1.129 | 0.025 | 1.152 | |
addGeneIDs | 1.708 | 0.115 | 1.825 | |
addMetadata | 1.313 | 0.117 | 1.429 | |
annoGR | 0.000 | 0.000 | 0.001 | |
annoPeaks | 2.867 | 0.168 | 3.965 | |
annotatePeakInBatch | 13.005 | 0.357 | 13.361 | |
annotatedPeak | 0.058 | 0.000 | 0.058 | |
assignChromosomeRegion | 0.001 | 0.000 | 0.001 | |
bdp | 0.001 | 0.000 | 0.000 | |
binOverFeature | 0.804 | 0.012 | 0.816 | |
binOverGene | 0.001 | 0.000 | 0.001 | |
binOverRegions | 0.001 | 0.000 | 0.000 | |
condenseMatrixByColnames | 0.01 | 0.00 | 0.01 | |
convert2EntrezID | 0.353 | 0.000 | 0.353 | |
countPatternInSeqs | 0.157 | 0.004 | 0.161 | |
cumulativePercentage | 0.001 | 0.000 | 0.000 | |
downstreams | 0.017 | 0.004 | 0.021 | |
egOrgMap | 0 | 0 | 0 | |
enrichedGO | 0.002 | 0.000 | 0.002 | |
enrichmentPlot | 0.403 | 0.000 | 0.402 | |
estFragmentLength | 0 | 0 | 0 | |
estLibSize | 0 | 0 | 0 | |
featureAlignedDistribution | 0.210 | 0.004 | 0.215 | |
featureAlignedExtendSignal | 0.000 | 0.000 | 0.001 | |
featureAlignedHeatmap | 0.402 | 0.008 | 0.410 | |
featureAlignedSignal | 0.191 | 0.004 | 0.195 | |
findEnhancers | 21.051 | 0.288 | 21.339 | |
findMotifsInPromoterSeqs | 13.355 | 0.172 | 13.536 | |
findOverlappingPeaks | 0.001 | 0.000 | 0.001 | |
findOverlapsOfPeaks | 1.756 | 0.008 | 1.764 | |
genomicElementDistribution | 0.001 | 0.000 | 0.001 | |
genomicElementUpSetR | 0.000 | 0.000 | 0.001 | |
getAllPeakSequence | 0.523 | 0.012 | 0.535 | |
getAnnotation | 0.001 | 0.000 | 0.001 | |
getEnrichedGO | 0.008 | 0.000 | 0.008 | |
getEnrichedPATH | 0 | 0 | 0 | |
getGO | 0 | 0 | 0 | |
getGeneSeq | 0.001 | 0.000 | 0.001 | |
getUniqueGOidCount | 0.001 | 0.000 | 0.000 | |
getVennCounts | 0 | 0 | 0 | |
hyperGtest | 0.001 | 0.000 | 0.001 | |
makeVennDiagram | 0.002 | 0.000 | 0.002 | |
mergePlusMinusPeaks | 0.001 | 0.000 | 0.001 | |
metagenePlot | 2.086 | 0.064 | 2.151 | |
myPeakList | 0.015 | 0.000 | 0.015 | |
oligoFrequency | 0.190 | 0.004 | 0.194 | |
oligoSummary | 0.001 | 0.000 | 0.000 | |
peakPermTest | 0.001 | 0.000 | 0.002 | |
peaksNearBDP | 0.000 | 0.000 | 0.001 | |
pie1 | 0.007 | 0.000 | 0.008 | |
plotBinOverRegions | 0.000 | 0.000 | 0.001 | |
preparePool | 0 | 0 | 0 | |
reCenterPeaks | 0.026 | 0.000 | 0.026 | |
summarizeOverlapsByBins | 3.477 | 0.493 | 3.598 | |
summarizePatternInPeaks | 0.549 | 0.028 | 0.578 | |
tileCount | 0.286 | 0.223 | 0.437 | |
tileGRanges | 0.227 | 0.153 | 0.055 | |
toGRanges | 0.105 | 0.004 | 0.109 | |
translatePattern | 0 | 0 | 0 | |
wgEncodeTfbsV3 | 0.219 | 0.012 | 0.231 | |
write2FASTA | 0.014 | 0.004 | 0.018 | |
xget | 0.119 | 0.008 | 0.127 | |