Back to Multiple platform build/check report for BioC 3.15
ABCDEF[G]HIJKLMNOPQRSTUVWXYZ

This page was generated on 2022-01-18 11:11:06 -0500 (Tue, 18 Jan 2022).

HostnameOSArch (*)R versionInstalled pkgs
nebbiolo1Linux (Ubuntu 20.04.4 LTS)x86_64R Under development (unstable) (2022-01-05 r81451) -- "Unsuffered Consequences" 4161
riesling1Windows Server 2019 Standardx64R Under development (unstable) (2021-11-21 r81221) -- "Unsuffered Consequences" 4056
palomino3Windows Server 2022 Datacenterx64R Under development (unstable) (2021-12-21 r81400 ucrt) -- "Unsuffered Consequences" 3998
merida1macOS 10.14.6 Mojavex86_64R Under development (unstable) (2022-01-05 r81451) -- "Unsuffered Consequences" 4115
Click on any hostname to see more info about the system (e.g. compilers)      (*) as reported by 'uname -p', except on Windows and Mac OS X

BUILD BIN results for GenomicDataCommons on merida1


To the developers/maintainers of the GenomicDataCommons package:
- Please allow up to 24 hours (and sometimes 48 hours) for your latest push to git@git.bioconductor.org:packages/GenomicDataCommons.git to
reflect on this report. See How and When does the builder pull? When will my changes propagate? here for more information.
- Make sure to use the following settings in order to reproduce any error or warning you see on this page.

raw results

Package 746/2074HostnameOS / ArchINSTALLBUILDCHECKBUILD BIN
GenomicDataCommons 1.19.2  (landing page)
Sean Davis
Snapshot Date: 2022-01-17 13:55:17 -0500 (Mon, 17 Jan 2022)
git_url: https://git.bioconductor.org/packages/GenomicDataCommons
git_branch: master
git_last_commit: 06114f6
git_last_commit_date: 2022-01-10 11:13:44 -0500 (Mon, 10 Jan 2022)
nebbiolo1Linux (Ubuntu 20.04.4 LTS) / x86_64  OK    OK    WARNINGS  UNNEEDED, same version is already published
riesling1Windows Server 2019 Standard / x64  OK    OK    WARNINGS    OK  
palomino3Windows Server 2022 Datacenter / x64  OK    OK    WARNINGS    OK  NO, package depends on 'GenomicRanges' which is not available
merida1macOS 10.14.6 Mojave / x86_64  OK    OK    WARNINGS    OK  UNNEEDED, same version is already published

Summary

Package: GenomicDataCommons
Version: 1.19.2
Command: rm -rf GenomicDataCommons.buildbin-libdir && mkdir GenomicDataCommons.buildbin-libdir && /Users/biocbuild/BBS/utils/build-universal.sh GenomicDataCommons_1.19.2.tar.gz /Library/Frameworks/R.framework/Resources/bin/R GenomicDataCommons.buildbin-libdir
StartedAt: 2022-01-18 07:51:08 -0500 (Tue, 18 Jan 2022)
EndedAt: 2022-01-18 07:51:33 -0500 (Tue, 18 Jan 2022)
EllapsedTime: 25.1 seconds
RetCode: 0
Status:   OK  
PackageFile: GenomicDataCommons_1.19.2.tgz
PackageFileSize: 1.789 MiB

Command output

##############################################################################
##############################################################################
###
### Running command:
###
###   rm -rf GenomicDataCommons.buildbin-libdir && mkdir GenomicDataCommons.buildbin-libdir && /Users/biocbuild/BBS/utils/build-universal.sh GenomicDataCommons_1.19.2.tar.gz /Library/Frameworks/R.framework/Resources/bin/R GenomicDataCommons.buildbin-libdir
###
##############################################################################
##############################################################################


>>>>>>> 
>>>>>>> INSTALLATION WITH 'R CMD INSTALL --preclean --no-multiarch --library=GenomicDataCommons.buildbin-libdir GenomicDataCommons_1.19.2.tar.gz'
>>>>>>> 

* installing *source* package ‘GenomicDataCommons’ ...
** using staged installation
** R
** inst
** byte-compile and prepare package for lazy loading
** help
*** installing help indices
** building package indices
** installing vignettes
** testing if installed package can be loaded from temporary location
** testing if installed package can be loaded from final location
** testing if installed package keeps a record of temporary installation path
* DONE (GenomicDataCommons)