Back to Multiple platform build/check report for BioC 3.14
ABCDEFGHIJKLMNOP[Q]RSTUVWXYZ

This page was generated on 2021-10-21 12:05:30 -0400 (Thu, 21 Oct 2021).

INSTALL results for QDNAseq on merida1

To the developers/maintainers of the QDNAseq package:
- Please allow up to 24 hours (and sometimes 48 hours) for your latest push to git@git.bioconductor.org:packages/QDNAseq.git to
reflect on this report. See How and When does the builder pull? When will my changes propagate? here for more information.
- Make sure to use the following settings in order to reproduce any error or warning you see on this page.

raw results

Package 1491/2075HostnameOS / ArchINSTALLBUILDCHECKBUILD BIN
QDNAseq 1.29.5  (landing page)
Daoud Sie
Snapshot Date: 2021-10-20 14:50:05 -0400 (Wed, 20 Oct 2021)
git_url: https://git.bioconductor.org/packages/QDNAseq
git_branch: master
git_last_commit: a32bf44
git_last_commit_date: 2021-10-20 13:07:57 -0400 (Wed, 20 Oct 2021)
nebbiolo2Linux (Ubuntu 20.04.2 LTS) / x86_64  OK    OK    OK  YES
riesling1Windows Server 2019 Standard / x64  OK    OK    OK    OK  YES
merida1macOS 10.14.6 Mojave / x86_64  OK    OK    OK    NA  

Summary

Package: QDNAseq
Version: 1.29.5
Command: /Library/Frameworks/R.framework/Resources/bin/R CMD INSTALL QDNAseq
StartedAt: 2021-10-20 17:09:21 -0400 (Wed, 20 Oct 2021)
EndedAt: 2021-10-20 17:10:14 -0400 (Wed, 20 Oct 2021)
EllapsedTime: 52.2 seconds
RetCode: 0
Status:   OK  

Command output

##############################################################################
##############################################################################
###
### Running command:
###
###   /Library/Frameworks/R.framework/Resources/bin/R CMD INSTALL QDNAseq
###
##############################################################################
##############################################################################


* installing to library ‘/Library/Frameworks/R.framework/Versions/4.1/Resources/library’
* installing *source* package ‘QDNAseq’ ...
** using staged installation
** R
** data
** inst
** byte-compile and prepare package for lazy loading
** help
*** installing help indices
** building package indices
** installing vignettes
** testing if installed package can be loaded from temporary location
** testing if installed package can be loaded from final location
** testing if installed package keeps a record of temporary installation path
* DONE (QDNAseq)