Back to Multiple platform build/check report for BioC 3.15
A[B]CDEFGHIJKLMNOPQRSTUVWXYZ

This page was generated on 2022-01-21 11:10:56 -0500 (Fri, 21 Jan 2022).

HostnameOSArch (*)R versionInstalled pkgs
nebbiolo1Linux (Ubuntu 20.04.4 LTS)x86_64R Under development (unstable) (2022-01-05 r81451) -- "Unsuffered Consequences" 4163
riesling1Windows Server 2019 Standardx64R Under development (unstable) (2021-11-21 r81221) -- "Unsuffered Consequences" 4058
palomino3Windows Server 2022 Datacenterx64R Under development (unstable) (2021-12-21 r81400 ucrt) -- "Unsuffered Consequences" 4000
merida1macOS 10.14.6 Mojavex86_64R Under development (unstable) (2022-01-05 r81451) -- "Unsuffered Consequences" 4117
Click on any hostname to see more info about the system (e.g. compilers)      (*) as reported by 'uname -p', except on Windows and Mac OS X

BUILD BIN results for biscuiteer on merida1


To the developers/maintainers of the biscuiteer package:
- Please allow up to 24 hours (and sometimes 48 hours) for your latest push to git@git.bioconductor.org:packages/biscuiteer.git to
reflect on this report. See How and When does the builder pull? When will my changes propagate? here for more information.
- Make sure to use the following settings in order to reproduce any error or warning you see on this page.

raw results

Package 195/2075HostnameOS / ArchINSTALLBUILDCHECKBUILD BIN
biscuiteer 1.9.2  (landing page)
"Jacob Morrison"
Snapshot Date: 2022-01-20 13:55:17 -0500 (Thu, 20 Jan 2022)
git_url: https://git.bioconductor.org/packages/biscuiteer
git_branch: master
git_last_commit: a17221f
git_last_commit_date: 2021-11-20 23:10:29 -0500 (Sat, 20 Nov 2021)
nebbiolo1Linux (Ubuntu 20.04.4 LTS) / x86_64  OK    OK    WARNINGS  UNNEEDED, same version is already published
riesling1Windows Server 2019 Standard / x64  OK    OK    WARNINGS    OK  
palomino3Windows Server 2022 Datacenter / x64  OK    OK    WARNINGS    OK  NO, package depends on 'bsseq' which is not available
merida1macOS 10.14.6 Mojave / x86_64  OK    OK    WARNINGS    OK  UNNEEDED, same version is already published

Summary

Package: biscuiteer
Version: 1.9.2
Command: rm -rf biscuiteer.buildbin-libdir && mkdir biscuiteer.buildbin-libdir && /Users/biocbuild/BBS/utils/build-universal.sh biscuiteer_1.9.2.tar.gz /Library/Frameworks/R.framework/Resources/bin/R biscuiteer.buildbin-libdir
StartedAt: 2022-01-21 07:32:58 -0500 (Fri, 21 Jan 2022)
EndedAt: 2022-01-21 07:34:58 -0500 (Fri, 21 Jan 2022)
EllapsedTime: 119.4 seconds
RetCode: 0
Status:   OK  
PackageFile: biscuiteer_1.9.2.tgz
PackageFileSize: 5.14 MiB

Command output

##############################################################################
##############################################################################
###
### Running command:
###
###   rm -rf biscuiteer.buildbin-libdir && mkdir biscuiteer.buildbin-libdir && /Users/biocbuild/BBS/utils/build-universal.sh biscuiteer_1.9.2.tar.gz /Library/Frameworks/R.framework/Resources/bin/R biscuiteer.buildbin-libdir
###
##############################################################################
##############################################################################


>>>>>>> 
>>>>>>> INSTALLATION WITH 'R CMD INSTALL --preclean --no-multiarch --library=biscuiteer.buildbin-libdir biscuiteer_1.9.2.tar.gz'
>>>>>>> 

* installing *source* package ‘biscuiteer’ ...
** using staged installation
** R
** data
** inst
** byte-compile and prepare package for lazy loading
Warning: replacing previous import ‘BiocParallel::bpstart’ by ‘QDNAseq::bpstart’ when loading ‘biscuiteer’
** help
*** installing help indices
** building package indices
** installing vignettes
** testing if installed package can be loaded from temporary location
Warning: replacing previous import ‘BiocParallel::bpstart’ by ‘QDNAseq::bpstart’ when loading ‘biscuiteer’
** testing if installed package can be loaded from final location
Warning: replacing previous import ‘BiocParallel::bpstart’ by ‘QDNAseq::bpstart’ when loading ‘biscuiteer’
** testing if installed package keeps a record of temporary installation path
* DONE (biscuiteer)