Back to Multiple platform build/check report for BioC 3.18:   simplified   long
ABCDEFGHIJKL[M]NOPQRSTUVWXYZ

This page was generated on 2023-09-22 11:38:11 -0400 (Fri, 22 Sep 2023).

HostnameOSArch (*)R versionInstalled pkgs
nebbiolo2Linux (Ubuntu 22.04.2 LTS)x86_644.3.1 (2023-06-16) -- "Beagle Scouts" 4659
palomino4Windows Server 2022 Datacenterx644.3.1 (2023-06-16 ucrt) -- "Beagle Scouts" 4394
lconwaymacOS 12.6.5 Montereyx86_644.3.1 Patched (2023-06-17 r84564) -- "Beagle Scouts" 4408
kunpeng2Linux (openEuler 22.03 LTS-SP1)aarch644.3.1 (2023-06-16) -- "Beagle Scouts" 4397
Click on any hostname to see more info about the system (e.g. compilers)      (*) as reported by 'uname -p', except on Windows and Mac OS X

Package 1343/2233HostnameOS / ArchINSTALLBUILDCHECKBUILD BIN
multiHiCcompare 1.19.1  (landing page)
Mikhail Dozmorov
Snapshot Date: 2023-09-21 14:05:09 -0400 (Thu, 21 Sep 2023)
git_url: https://git.bioconductor.org/packages/multiHiCcompare
git_branch: devel
git_last_commit: af1c43e
git_last_commit_date: 2023-07-01 21:56:20 -0400 (Sat, 01 Jul 2023)
nebbiolo2Linux (Ubuntu 22.04.2 LTS) / x86_64  OK    OK    OK  UNNEEDED, same version is already published
palomino4Windows Server 2022 Datacenter / x64  OK    OK    OK    OK  UNNEEDED, same version is already published
lconwaymacOS 12.6.5 Monterey / x86_64  OK    OK    OK    OK  UNNEEDED, same version is already published
kunpeng2Linux (openEuler 22.03 LTS-SP1) / aarch64  OK    OK    OK  

BUILD results for multiHiCcompare on palomino4


To the developers/maintainers of the multiHiCcompare package:
- Allow up to 24 hours (and sometimes 48 hours) for your latest push to git@git.bioconductor.org:packages/multiHiCcompare.git to reflect on this report. See Troubleshooting Build Report for more information.
- Use the following Renviron settings to reproduce errors and warnings.
- If 'R CMD check' started to fail recently on the Linux builder(s) over a missing dependency, add the missing dependency to 'Suggests:' in your DESCRIPTION file. See Renviron.bioc for more information.

raw results


Summary

Package: multiHiCcompare
Version: 1.19.1
Command: chmod a+r multiHiCcompare -R && F:\biocbuild\bbs-3.18-bioc\R\bin\R.exe CMD build --keep-empty-dirs --no-resave-data multiHiCcompare
StartedAt: 2023-09-21 20:14:01 -0400 (Thu, 21 Sep 2023)
EndedAt: 2023-09-21 20:15:30 -0400 (Thu, 21 Sep 2023)
EllapsedTime: 89.2 seconds
RetCode: 0
Status:   OK  
PackageFile: multiHiCcompare_1.19.1.tar.gz
PackageFileSize: 4.488 MiB

Command output

##############################################################################
##############################################################################
###
### Running command:
###
###   chmod a+r multiHiCcompare -R && F:\biocbuild\bbs-3.18-bioc\R\bin\R.exe CMD build --keep-empty-dirs --no-resave-data multiHiCcompare
###
##############################################################################
##############################################################################


* checking for file 'multiHiCcompare/DESCRIPTION' ... OK
* preparing 'multiHiCcompare':
* checking DESCRIPTION meta-information ... OK
* installing the package to build vignettes
* creating vignettes ... OK
* checking for LF line-endings in source and make files and shell scripts
* checking for empty or unneeded directories
* building 'multiHiCcompare_1.19.1.tar.gz'