Back to Multiple platform build/check report for BioC 3.18:   simplified   long
AB[C]DEFGHIJKLMNOPQRSTUVWXYZ

This page was generated on 2023-09-29 12:03:25 -0400 (Fri, 29 Sep 2023).

HostnameOSArch (*)R versionInstalled pkgs
nebbiolo2Linux (Ubuntu 22.04.2 LTS)x86_644.3.1 (2023-06-16) -- "Beagle Scouts" 4660
palomino4Windows Server 2022 Datacenterx644.3.1 (2023-06-16 ucrt) -- "Beagle Scouts" 4395
lconwaymacOS 12.6.5 Montereyx86_644.3.1 Patched (2023-06-17 r84564) -- "Beagle Scouts" 4409
kunpeng2Linux (openEuler 22.03 LTS-SP1)aarch644.3.1 (2023-06-16) -- "Beagle Scouts" 4400
Click on any hostname to see more info about the system (e.g. compilers)      (*) as reported by 'uname -p', except on Windows and Mac OS X

Package 410/2233HostnameOS / ArchINSTALLBUILDCHECKBUILD BIN
compEpiTools 1.35.1  (landing page)
Mattia Furlan
Snapshot Date: 2023-09-28 14:05:06 -0400 (Thu, 28 Sep 2023)
git_url: https://git.bioconductor.org/packages/compEpiTools
git_branch: devel
git_last_commit: ae8ba19
git_last_commit_date: 2023-05-02 15:10:40 -0400 (Tue, 02 May 2023)
nebbiolo2Linux (Ubuntu 22.04.2 LTS) / x86_64  OK    OK    WARNINGS  UNNEEDED, same version is already published
palomino4Windows Server 2022 Datacenter / x64  OK    OK    WARNINGS    OK  UNNEEDED, same version is already published
lconwaymacOS 12.6.5 Monterey / x86_64  OK    OK    WARNINGS    OK  UNNEEDED, same version is already published
kunpeng2Linux (openEuler 22.03 LTS-SP1) / aarch64  OK    OK    ERROR  

BUILD results for compEpiTools on palomino4


To the developers/maintainers of the compEpiTools package:
- Allow up to 24 hours (and sometimes 48 hours) for your latest push to git@git.bioconductor.org:packages/compEpiTools.git to reflect on this report. See Troubleshooting Build Report for more information.
- Use the following Renviron settings to reproduce errors and warnings.
- If 'R CMD check' started to fail recently on the Linux builder(s) over a missing dependency, add the missing dependency to 'Suggests:' in your DESCRIPTION file. See Renviron.bioc for more information.

raw results


Summary

Package: compEpiTools
Version: 1.35.1
Command: chmod a+r compEpiTools -R && F:\biocbuild\bbs-3.18-bioc\R\bin\R.exe CMD build --keep-empty-dirs --no-resave-data compEpiTools
StartedAt: 2023-09-28 17:58:07 -0400 (Thu, 28 Sep 2023)
EndedAt: 2023-09-28 17:59:50 -0400 (Thu, 28 Sep 2023)
EllapsedTime: 102.9 seconds
RetCode: 0
Status:   OK  
PackageFile: compEpiTools_1.35.1.tar.gz
PackageFileSize: 2.164 MiB

Command output

##############################################################################
##############################################################################
###
### Running command:
###
###   chmod a+r compEpiTools -R && F:\biocbuild\bbs-3.18-bioc\R\bin\R.exe CMD build --keep-empty-dirs --no-resave-data compEpiTools
###
##############################################################################
##############################################################################


* checking for file 'compEpiTools/DESCRIPTION' ... OK
* preparing 'compEpiTools':
* checking DESCRIPTION meta-information ... OK
* installing the package to build vignettes
* creating vignettes ... OK
* checking for LF line-endings in source and make files and shell scripts
* checking for empty or unneeded directories
  NB: this package now depends on R (>= 3.5.0)
  WARNING: Added dependency on R >= 3.5.0 because serialized objects in
  serialize/load version 3 cannot be read in older versions of R.
  File(s) containing such objects:
    'compEpiTools/inst/extdata/CGIgr_mm9.Rdata'
    'compEpiTools/inst/extdata/H3K4me1GR.Rda'
    'compEpiTools/inst/extdata/H3K4me3GR.Rda'
    'compEpiTools/inst/extdata/Pol2GR.Rda'
* building 'compEpiTools_1.35.1.tar.gz'