Back to Multiple platform build/check report for BioC 3.17
ABCDEFGHIJKLMNOPQ[R]STUVWXYZ

This page was generated on 2022-12-01 11:10:45 -0500 (Thu, 01 Dec 2022).

HostnameOSArch (*)R versionInstalled pkgs
nebbiolo1Linux (Ubuntu 22.04.1 LTS)x86_64R Under development (unstable) (2022-10-25 r83175) -- "Unsuffered Consequences" 4462
palomino3Windows Server 2022 Datacenterx64R Under development (unstable) (2022-10-11 r83083 ucrt) -- "Unsuffered Consequences" 4203
merida1macOS 10.14.6 Mojavex86_64R Under development (unstable) (2022-11-13 r83342) -- "Unsuffered Consequences" 4231
Click on any hostname to see more info about the system (e.g. compilers)      (*) as reported by 'uname -p', except on Windows and Mac OS X

BUILD BIN results for regutools on merida1


To the developers/maintainers of the regutools package:
- Please allow up to 24 hours (and sometimes 48 hours) for your latest push to git@git.bioconductor.org:packages/regutools.git to
reflect on this report. See How and When does the builder pull? When will my changes propagate? for more information.
- Make sure to use the following settings in order to reproduce any error or warning you see on this page.

raw results

Package 1628/2154HostnameOS / ArchINSTALLBUILDCHECKBUILD BIN
regutools 1.11.0  (landing page)
Joselyn Chavez
Snapshot Date: 2022-11-30 14:00:15 -0500 (Wed, 30 Nov 2022)
git_url: https://git.bioconductor.org/packages/regutools
git_branch: master
git_last_commit: cdbd584
git_last_commit_date: 2022-11-01 11:22:01 -0500 (Tue, 01 Nov 2022)
nebbiolo1Linux (Ubuntu 22.04.1 LTS) / x86_64  OK    OK    OK  UNNEEDED, same version is already published
palomino3Windows Server 2022 Datacenter / x64  OK    OK    OK    OK  NO, package depends on 'GenomicRanges' which is not available
merida1macOS 10.14.6 Mojave / x86_64  OK    OK    OK    OK  NO, package depends on 'Gviz' which is not available

Summary

Package: regutools
Version: 1.11.0
Command: rm -rf regutools.buildbin-libdir && mkdir regutools.buildbin-libdir && /Users/biocbuild/BBS/utils/build-universal.sh regutools_1.11.0.tar.gz /Library/Frameworks/R.framework/Resources/bin/R regutools.buildbin-libdir
StartedAt: 2022-12-01 08:54:08 -0500 (Thu, 01 Dec 2022)
EndedAt: 2022-12-01 08:57:05 -0500 (Thu, 01 Dec 2022)
EllapsedTime: 176.6 seconds
RetCode: 0
Status:   OK  
PackageFile: regutools_1.11.0.tgz
PackageFileSize: 930.4 KiB

Command output

##############################################################################
##############################################################################
###
### Running command:
###
###   rm -rf regutools.buildbin-libdir && mkdir regutools.buildbin-libdir && /Users/biocbuild/BBS/utils/build-universal.sh regutools_1.11.0.tar.gz /Library/Frameworks/R.framework/Resources/bin/R regutools.buildbin-libdir
###
##############################################################################
##############################################################################


>>>>>>> 
>>>>>>> INSTALLATION WITH 'R CMD INSTALL --preclean --no-multiarch --library=regutools.buildbin-libdir regutools_1.11.0.tar.gz'
>>>>>>> 

* installing *source* package ‘regutools’ ...
** using staged installation
** R
** inst
** byte-compile and prepare package for lazy loading
** help
*** installing help indices
*** copying figures
** building package indices
** installing vignettes
** testing if installed package can be loaded from temporary location
** testing if installed package can be loaded from final location
** testing if installed package keeps a record of temporary installation path
* DONE (regutools)