Back to Multiple platform build/check report for BioC 3.14
ABCDEFGHIJKLMNOPQ[R]STUVWXYZ

This page was generated on 2021-10-14 12:06:19 -0400 (Thu, 14 Oct 2021).

BUILD results for Repitools on merida1

To the developers/maintainers of the Repitools package:
- Please allow up to 24 hours (and sometimes 48 hours) for your latest push to git@git.bioconductor.org:packages/Repitools.git to
reflect on this report. See How and When does the builder pull? When will my changes propagate? here for more information.
- Make sure to use the following settings in order to reproduce any error or warning you see on this page.

raw results

Package 1557/2056HostnameOS / ArchINSTALLBUILDCHECKBUILD BIN
Repitools 1.39.0  (landing page)
Mark Robinson
Snapshot Date: 2021-10-13 14:50:09 -0400 (Wed, 13 Oct 2021)
git_url: https://git.bioconductor.org/packages/Repitools
git_branch: master
git_last_commit: 426e950
git_last_commit_date: 2021-05-19 11:49:04 -0400 (Wed, 19 May 2021)
nebbiolo2Linux (Ubuntu 20.04.2 LTS) / x86_64  OK    OK    OK  UNNEEDED, same version is already published
riesling1Windows Server 2019 Standard / x64  OK    OK    OK    OK  UNNEEDED, same version is already published
merida1macOS 10.14.6 Mojave / x86_64  OK    OK    OK    NA  UNNEEDED, same version is already published

Summary

Package: Repitools
Version: 1.39.0
Command: /Library/Frameworks/R.framework/Resources/bin/R CMD build --keep-empty-dirs --no-resave-data Repitools
StartedAt: 2021-10-13 22:16:00 -0400 (Wed, 13 Oct 2021)
EndedAt: 2021-10-13 22:17:17 -0400 (Wed, 13 Oct 2021)
EllapsedTime: 76.5 seconds
RetCode: 0
Status:   OK  
PackageFile: Repitools_1.39.0.tar.gz
PackageFileSize: 1.644 MiB

Command output

##############################################################################
##############################################################################
###
### Running command:
###
###   /Library/Frameworks/R.framework/Resources/bin/R CMD build --keep-empty-dirs --no-resave-data Repitools
###
##############################################################################
##############################################################################


* checking for file ‘Repitools/DESCRIPTION’ ... OK
* preparing ‘Repitools’:
* checking DESCRIPTION meta-information ... OK
* cleaning src
* installing the package to build vignettes
* creating vignettes ... OK
* cleaning src
* checking for LF line-endings in source and make files and shell scripts
* checking for empty or unneeded directories
* looking to see if a ‘data/datalist’ file should be added
* building ‘Repitools_1.39.0.tar.gz’