Back to Multiple platform build/check report for BioC 3.17
A[B]CDEFGHIJKLMNOPQRSTUVWXYZ

This page was generated on 2023-02-02 11:09:23 -0500 (Thu, 02 Feb 2023).

HostnameOSArch (*)R versionInstalled pkgs
nebbiolo1Linux (Ubuntu 22.04.1 LTS)x86_64R Under development (unstable) (2023-01-10 r83596) -- "Unsuffered Consequences" 4483
palomino3Windows Server 2022 Datacenterx64R Under development (unstable) (2023-01-10 r83596 ucrt) -- "Unsuffered Consequences" 4249
merida1macOS 10.14.6 Mojavex86_64R Under development (unstable) (2023-01-10 r83596) -- "Unsuffered Consequences" 4272
Click on any hostname to see more info about the system (e.g. compilers)      (*) as reported by 'uname -p', except on Windows and Mac OS X

BUILD results for BadRegionFinder on merida1


To the developers/maintainers of the BadRegionFinder package:
- Please allow up to 24 hours (and sometimes 48 hours) for your latest push to git@git.bioconductor.org:packages/BadRegionFinder.git to
reflect on this report. See How and When does the builder pull? When will my changes propagate? for more information.
- Make sure to use the following settings in order to reproduce any error or warning you see on this page.

raw results

Package 104/2164HostnameOS / ArchINSTALLBUILDCHECKBUILD BIN
BadRegionFinder 1.27.0  (landing page)
Sarah Sandmann
Snapshot Date: 2023-02-01 14:00:21 -0500 (Wed, 01 Feb 2023)
git_url: https://git.bioconductor.org/packages/BadRegionFinder
git_branch: master
git_last_commit: 1b861d0
git_last_commit_date: 2022-11-01 11:13:25 -0500 (Tue, 01 Nov 2022)
nebbiolo1Linux (Ubuntu 22.04.1 LTS) / x86_64  OK    OK    OK  UNNEEDED, same version is already published
palomino3Windows Server 2022 Datacenter / x64  OK    OK    OK    OK  UNNEEDED, same version is already published
merida1macOS 10.14.6 Mojave / x86_64  OK    OK    OK    OK  UNNEEDED, same version is already published

Summary

Package: BadRegionFinder
Version: 1.27.0
Command: /Library/Frameworks/R.framework/Resources/bin/R CMD build --keep-empty-dirs --no-resave-data BadRegionFinder
StartedAt: 2023-02-01 16:41:37 -0500 (Wed, 01 Feb 2023)
EndedAt: 2023-02-01 16:44:52 -0500 (Wed, 01 Feb 2023)
EllapsedTime: 194.5 seconds
RetCode: 0
Status:   OK  
PackageFile: BadRegionFinder_1.27.0.tar.gz
PackageFileSize: 824.6 KiB

Command output

##############################################################################
##############################################################################
###
### Running command:
###
###   /Library/Frameworks/R.framework/Resources/bin/R CMD build --keep-empty-dirs --no-resave-data BadRegionFinder
###
##############################################################################
##############################################################################


* checking for file ‘BadRegionFinder/DESCRIPTION’ ... OK
* preparing ‘BadRegionFinder’:
* checking DESCRIPTION meta-information ... OK
* installing the package to process help pages
* saving partial Rd database
* creating vignettes ... OK
* checking for LF line-endings in source and make files and shell scripts
* checking for empty or unneeded directories
* building ‘BadRegionFinder_1.27.0.tar.gz’