Back to Multiple platform build/check report for BioC 3.17:   simplified   long
ABCDEFGHIJKL[M]NOPQRSTUVWXYZ

This page was generated on 2023-03-22 11:06:50 -0400 (Wed, 22 Mar 2023).

HostnameOSArch (*)R versionInstalled pkgs
nebbiolo1Linux (Ubuntu 22.04.1 LTS)x86_64R Under development (unstable) (2023-03-16 r83996) -- "Unsuffered Consequences" 4508
palomino3Windows Server 2022 Datacenterx64R Under development (unstable) (2023-03-15 r83984 ucrt) -- "Unsuffered Consequences" 4293
merida1macOS 10.14.6 Mojavex86_64R Under development (unstable) (2023-03-16 r83985) -- "Unsuffered Consequences" 4290
Click on any hostname to see more info about the system (e.g. compilers)      (*) as reported by 'uname -p', except on Windows and Mac OS X

CHECK results for minfi on merida1


To the developers/maintainers of the minfi package:
- Please allow up to 24 hours (and sometimes 48 hours) for your latest push to git@git.bioconductor.org:packages/minfi.git to
reflect on this report. See How and When does the builder pull? When will my changes propagate? for more information.
- Make sure to use the following settings in order to reproduce any error or warning you see on this page.

raw results

Package 1215/2189HostnameOS / ArchINSTALLBUILDCHECKBUILD BIN
minfi 1.45.0  (landing page)
Kasper Daniel Hansen
Snapshot Date: 2023-03-21 14:00:22 -0400 (Tue, 21 Mar 2023)
git_url: https://git.bioconductor.org/packages/minfi
git_branch: master
git_last_commit: 748572d
git_last_commit_date: 2022-11-01 11:06:23 -0400 (Tue, 01 Nov 2022)
nebbiolo1Linux (Ubuntu 22.04.1 LTS) / x86_64  OK    OK    OK  UNNEEDED, same version is already published
palomino3Windows Server 2022 Datacenter / x64  OK    OK    OK    OK  UNNEEDED, same version is already published
merida1macOS 10.14.6 Mojave / x86_64  OK    OK    OK    OK  UNNEEDED, same version is already published

Summary

Package: minfi
Version: 1.45.0
Command: /Library/Frameworks/R.framework/Resources/bin/R CMD check --install=check:minfi.install-out.txt --library=/Library/Frameworks/R.framework/Resources/library --no-vignettes --timings minfi_1.45.0.tar.gz
StartedAt: 2023-03-22 03:41:09 -0400 (Wed, 22 Mar 2023)
EndedAt: 2023-03-22 04:00:39 -0400 (Wed, 22 Mar 2023)
EllapsedTime: 1170.4 seconds
RetCode: 0
Status:   OK  
CheckDir: minfi.Rcheck
Warnings: 0

Command output

##############################################################################
##############################################################################
###
### Running command:
###
###   /Library/Frameworks/R.framework/Resources/bin/R CMD check --install=check:minfi.install-out.txt --library=/Library/Frameworks/R.framework/Resources/library --no-vignettes --timings minfi_1.45.0.tar.gz
###
##############################################################################
##############################################################################


* using log directory ‘/Users/biocbuild/bbs-3.17-bioc/meat/minfi.Rcheck’
* using R Under development (unstable) (2023-03-16 r83985)
* using platform: x86_64-apple-darwin17.0 (64-bit)
* R was compiled by
    Apple clang version 12.0.0 (clang-1200.0.32.29)
    GNU Fortran (GCC) 8.2.0
* running under: macOS Mojave 10.14.6
* using session charset: UTF-8
* using option ‘--no-vignettes’
* checking for file ‘minfi/DESCRIPTION’ ... OK
* this is package ‘minfi’ version ‘1.45.0’
* checking package namespace information ... OK
* checking package dependencies ... OK
* checking if this is a source package ... OK
* checking if there is a namespace ... OK
* checking for hidden files and directories ... OK
* checking for portable file names ... OK
* checking for sufficient/correct file permissions ... OK
* checking whether package ‘minfi’ can be installed ... OK
* checking installed package size ... OK
* checking package directory ... OK
* checking ‘build’ directory ... OK
* checking DESCRIPTION meta-information ... OK
* checking top-level files ... OK
* checking for left-over files ... OK
* checking index information ... OK
* checking package subdirectories ... OK
* checking R files for non-ASCII characters ... OK
* checking R files for syntax errors ... OK
* checking whether the package can be loaded ... OK
* checking whether the package can be loaded with stated dependencies ... OK
* checking whether the package can be unloaded cleanly ... OK
* checking whether the namespace can be loaded with stated dependencies ... OK
* checking whether the namespace can be unloaded cleanly ... OK
* checking dependencies in R code ... NOTE
Unexported objects imported by ':::' calls:
  ‘DelayedArray:::get_verbose_block_processing’
  ‘DelayedArray:::normarg_grid’ ‘bumphunter:::.getEstimate’
  See the note in ?`:::` about the use of this operator.
There are ::: calls to the package's namespace in its code. A package
  almost never needs to use ::: for its own objects:
  ‘.guessArrayTypes’
* checking S3 generic/method consistency ... OK
* checking replacement functions ... OK
* checking foreign function calls ... OK
* checking R code for possible problems ... NOTE
Found the following possibly unsafe calls:
File ‘minfi/R/IlluminaMethylationManifest-class.R’:
  unlockBinding(name, env = object@data)
* checking Rd files ... OK
* checking Rd metadata ... OK
* checking Rd cross-references ... OK
* checking for missing documentation entries ... OK
* checking for code/documentation mismatches ... OK
* checking Rd \usage sections ... OK
* checking Rd contents ... OK
* checking for unstated dependencies in examples ... OK
* checking files in ‘vignettes’ ... OK
* checking examples ... OK
Examples with CPU (user + system) or elapsed time > 5s
                                    user system elapsed
combineArrays                     92.454  2.922 128.533
bumphunter                        38.649  4.277  56.307
read.metharray.exp                12.523  0.112  17.889
read.metharray                     7.523  0.084  10.374
preprocessIllumina                 6.565  0.143   9.164
preprocessFunnorm                  6.399  0.274   9.058
densityPlot                        5.880  0.179   8.337
preprocessRaw                      5.489  0.101   7.395
IlluminaMethylationManifest-class  5.186  0.169   7.141
densityBeanPlot                    3.982  0.090   5.791
compartments                       3.510  0.268   5.227
controlStripPlot                   3.569  0.117   5.176
* checking for unstated dependencies in ‘tests’ ... OK
* checking tests ...
  Running ‘runTests.R’
 OK
* checking for unstated dependencies in vignettes ... OK
* checking package vignettes in ‘inst/doc’ ... OK
* checking running R code from vignettes ... SKIPPED
* checking re-building of vignette outputs ... SKIPPED
* checking PDF version of manual ... OK
* DONE

Status: 2 NOTEs
See
  ‘/Users/biocbuild/bbs-3.17-bioc/meat/minfi.Rcheck/00check.log’
for details.



Installation output

minfi.Rcheck/00install.out

##############################################################################
##############################################################################
###
### Running command:
###
###   /Library/Frameworks/R.framework/Resources/bin/R CMD INSTALL minfi
###
##############################################################################
##############################################################################


* installing to library ‘/Library/Frameworks/R.framework/Versions/4.3/Resources/library’
* installing *source* package ‘minfi’ ...
** using staged installation
** R
** inst
** byte-compile and prepare package for lazy loading
** help
*** installing help indices
** building package indices
** installing vignettes
** testing if installed package can be loaded from temporary location
** testing if installed package can be loaded from final location
** testing if installed package keeps a record of temporary installation path
* DONE (minfi)

Tests output

minfi.Rcheck/tests/runTests.Rout


R Under development (unstable) (2023-03-16 r83985) -- "Unsuffered Consequences"
Copyright (C) 2023 The R Foundation for Statistical Computing
Platform: x86_64-apple-darwin17.0 (64-bit)

R is free software and comes with ABSOLUTELY NO WARRANTY.
You are welcome to redistribute it under certain conditions.
Type 'license()' or 'licence()' for distribution details.

R is a collaborative project with many contributors.
Type 'contributors()' for more information and
'citation()' on how to cite R or R packages in publications.

Type 'demo()' for some demos, 'help()' for on-line help, or
'help.start()' for an HTML browser interface to help.
Type 'q()' to quit R.

> require("minfi") || stop("unable to load minfi")
Loading required package: minfi
Loading required package: BiocGenerics

Attaching package: 'BiocGenerics'

The following objects are masked from 'package:stats':

    IQR, mad, sd, var, xtabs

The following objects are masked from 'package:base':

    Filter, Find, Map, Position, Reduce, anyDuplicated, aperm, append,
    as.data.frame, basename, cbind, colnames, dirname, do.call,
    duplicated, eval, evalq, get, grep, grepl, intersect, is.unsorted,
    lapply, mapply, match, mget, order, paste, pmax, pmax.int, pmin,
    pmin.int, rank, rbind, rownames, sapply, setdiff, sort, table,
    tapply, union, unique, unsplit, which.max, which.min

Loading required package: GenomicRanges
Loading required package: stats4
Loading required package: S4Vectors

Attaching package: 'S4Vectors'

The following objects are masked from 'package:base':

    I, expand.grid, unname

Loading required package: IRanges
Loading required package: GenomeInfoDb
Loading required package: SummarizedExperiment
Loading required package: MatrixGenerics
Loading required package: matrixStats

Attaching package: 'MatrixGenerics'

The following objects are masked from 'package:matrixStats':

    colAlls, colAnyNAs, colAnys, colAvgsPerRowSet, colCollapse,
    colCounts, colCummaxs, colCummins, colCumprods, colCumsums,
    colDiffs, colIQRDiffs, colIQRs, colLogSumExps, colMadDiffs,
    colMads, colMaxs, colMeans2, colMedians, colMins, colOrderStats,
    colProds, colQuantiles, colRanges, colRanks, colSdDiffs, colSds,
    colSums2, colTabulates, colVarDiffs, colVars, colWeightedMads,
    colWeightedMeans, colWeightedMedians, colWeightedSds,
    colWeightedVars, rowAlls, rowAnyNAs, rowAnys, rowAvgsPerColSet,
    rowCollapse, rowCounts, rowCummaxs, rowCummins, rowCumprods,
    rowCumsums, rowDiffs, rowIQRDiffs, rowIQRs, rowLogSumExps,
    rowMadDiffs, rowMads, rowMaxs, rowMeans2, rowMedians, rowMins,
    rowOrderStats, rowProds, rowQuantiles, rowRanges, rowRanks,
    rowSdDiffs, rowSds, rowSums2, rowTabulates, rowVarDiffs, rowVars,
    rowWeightedMads, rowWeightedMeans, rowWeightedMedians,
    rowWeightedSds, rowWeightedVars

Loading required package: Biobase
Welcome to Bioconductor

    Vignettes contain introductory material; view with
    'browseVignettes()'. To cite Bioconductor, see
    'citation("Biobase")', and for packages 'citation("pkgname")'.


Attaching package: 'Biobase'

The following object is masked from 'package:MatrixGenerics':

    rowMedians

The following objects are masked from 'package:matrixStats':

    anyMissing, rowMedians

Loading required package: Biostrings
Loading required package: XVector

Attaching package: 'Biostrings'

The following object is masked from 'package:base':

    strsplit

Loading required package: bumphunter
Loading required package: foreach
Loading required package: iterators
Loading required package: parallel
Loading required package: locfit
locfit 1.5-9.7 	 2023-01-02
Setting options('download.file.method.GEOquery'='auto')
Setting options('GEOquery.inmemory.gpl'=FALSE)
[1] TRUE
> BiocGenerics:::testPackage("minfi")
Loading required package: minfiData
Loading required package: IlluminaHumanMethylation450kmanifest
Loading required package: IlluminaHumanMethylation450kanno.ilmn12.hg19
Loading required package: digest
Loading required package: DelayedArray
Loading required package: Matrix

Attaching package: 'Matrix'

The following object is masked from 'package:S4Vectors':

    expand


Attaching package: 'DelayedArray'

The following objects are masked from 'package:base':

    apply, rowsum, scale, sweep



RUNIT TEST PROTOCOL -- Wed Mar 22 04:00:21 2023 
*********************************************** 
Number of test functions: 10 
Number of errors: 0 
Number of failures: 0 

 
1 Test Suite : 
minfi RUnit Tests - 10 test functions, 0 errors, 0 failures
Number of test functions: 10 
Number of errors: 0 
Number of failures: 0 
> 
> proc.time()
   user  system elapsed 
 70.876   2.406 100.868 

Example timings

minfi.Rcheck/minfi-Ex.timings

nameusersystemelapsed
GenomicMethylSet-class0.0030.0010.003
GenomicRatioSet-class0.0010.0000.001
IlluminaMethylationManifest-class5.1860.1697.141
MethylSet-class0.0010.0000.001
RGChannelSet-class0.0020.0010.002
RatioSet-class0.0010.0010.005
bumphunter38.649 4.27756.307
combineArrays 92.454 2.922128.533
compartments3.5100.2685.227
controlStripPlot3.5690.1175.176
convertArray2.4480.0353.487
densityBeanPlot3.9820.0905.791
densityPlot5.8800.1798.337
detectionP0.7540.0101.042
dmpFinder0.1910.0070.276
estimateCellCounts000
fixMethOutliers2.4340.0883.428
gaphunter0.1760.0040.244
getAnnotation1.5010.0112.050
getGenomicRatioSetFromGEO000
getQC0.2830.0040.397
getSex1.5960.0382.186
logit20.0010.0000.001
makeGenomicRatioSetFromMatrix2.0620.1032.933
mapToGenome-methods0.3990.0040.541
mdsPlot0.2970.0050.403
minfiQC2.6730.0263.678
plotBetasByType0.0000.0000.001
plotCpg0.1930.0040.281
preprocessFunnorm6.3990.2749.058
preprocessIllumina6.5650.1439.164
preprocessNoob1.5820.0072.146
preprocessQuantile1.6210.0172.275
preprocessRaw5.4890.1017.395
preprocessSwan1.1290.0071.536
qcReport0.0850.0030.118
ratioConvert-methods0.1620.0040.219
read.metharray 7.523 0.08410.374
read.metharray.exp12.523 0.11217.889
read.metharray.sheet0.0890.0050.131
readGEORawFile0.0010.0010.000
readTCGA000
subsetByLoci1.3450.0111.938
utils0.2090.0040.297