Back to Multiple platform build/check report for BioC 3.16
ABCDEFGHIJKLMNOPQR[S]TUVWXYZ

This page was generated on 2022-08-15 11:06:56 -0400 (Mon, 15 Aug 2022).

HostnameOSArch (*)R versionInstalled pkgs
nebbiolo2Linux (Ubuntu 20.04.4 LTS)x86_644.2.1 (2022-06-23) -- "Funny-Looking Kid" 4378
palomino4Windows Server 2022 Datacenterx644.2.1 (2022-06-23 ucrt) -- "Funny-Looking Kid" 4161
lconwaymacOS 12.2.1 Montereyx86_644.2.1 Patched (2022-07-09 r82577) -- "Funny-Looking Kid" 4169
Click on any hostname to see more info about the system (e.g. compilers)      (*) as reported by 'uname -p', except on Windows and Mac OS X

BUILD results for sesame on palomino4


To the developers/maintainers of the sesame package:
- Please allow up to 24 hours (and sometimes 48 hours) for your latest push to git@git.bioconductor.org:packages/sesame.git to
reflect on this report. See How and When does the builder pull? When will my changes propagate? for more information.
- Make sure to use the following settings in order to reproduce any error or warning you see on this page.

raw results

Package 1820/2140HostnameOS / ArchINSTALLBUILDCHECKBUILD BIN
sesame 1.15.6  (landing page)
Wanding Zhou
Snapshot Date: 2022-08-14 14:00:05 -0400 (Sun, 14 Aug 2022)
git_url: https://git.bioconductor.org/packages/sesame
git_branch: master
git_last_commit: 5216376
git_last_commit_date: 2022-07-24 22:27:15 -0400 (Sun, 24 Jul 2022)
nebbiolo2Linux (Ubuntu 20.04.4 LTS) / x86_64  OK    OK    OK  UNNEEDED, same version is already published
palomino4Windows Server 2022 Datacenter / x64  OK    OK    OK    OK  UNNEEDED, same version is already published
lconwaymacOS 12.2.1 Monterey / x86_64  OK    OK    OK    OK  UNNEEDED, same version is already published

Summary

Package: sesame
Version: 1.15.6
Command: chmod a+r sesame -R && F:\biocbuild\bbs-3.16-bioc\R\bin\R.exe CMD build --keep-empty-dirs --no-resave-data sesame
StartedAt: 2022-08-14 21:29:12 -0400 (Sun, 14 Aug 2022)
EndedAt: 2022-08-14 21:35:25 -0400 (Sun, 14 Aug 2022)
EllapsedTime: 372.3 seconds
RetCode: 0
Status:   OK  
PackageFile: sesame_1.15.6.tar.gz
PackageFileSize: 15.25 MiB

Command output

##############################################################################
##############################################################################
###
### Running command:
###
###   chmod a+r sesame -R && F:\biocbuild\bbs-3.16-bioc\R\bin\R.exe CMD build --keep-empty-dirs --no-resave-data sesame
###
##############################################################################
##############################################################################


* checking for file 'sesame/DESCRIPTION' ... OK
* preparing 'sesame':
* checking DESCRIPTION meta-information ... OK
* installing the package to build vignettes
* creating vignettes ... OK
* checking for LF line-endings in source and make files and shell scripts
* checking for empty or unneeded directories
* building 'sesame_1.15.6.tar.gz'