Back to Multiple platform build/check report for BioC 3.15
AB[C]DEFGHIJKLMNOPQRSTUVWXYZ

This page was generated on 2021-11-27 14:05:35 -0500 (Sat, 27 Nov 2021).

BUILD BIN results for csaw on merida1

To the developers/maintainers of the csaw package:
- Please allow up to 24 hours (and sometimes 48 hours) for your latest push to git@git.bioconductor.org:packages/csaw.git to
reflect on this report. See How and When does the builder pull? When will my changes propagate? here for more information.
- Make sure to use the following settings in order to reproduce any error or warning you see on this page.

raw results

Package 420/2068HostnameOS / ArchINSTALLBUILDCHECKBUILD BIN
csaw 1.29.1  (landing page)
Aaron Lun
Snapshot Date: 2021-11-26 14:50:14 -0500 (Fri, 26 Nov 2021)
git_url: https://git.bioconductor.org/packages/csaw
git_branch: master
git_last_commit: e480196
git_last_commit_date: 2021-11-20 23:29:19 -0500 (Sat, 20 Nov 2021)
nebbiolo1Linux (Ubuntu 20.04.3 LTS) / x86_64  OK    OK    OK  UNNEEDED, same version is already published
riesling1Windows Server 2019 Standard / x64  OK    OK    OK    OK  
merida1macOS 10.14.6 Mojave / x86_64  OK    OK    OK    OK  UNNEEDED, same version is already published

Summary

Package: csaw
Version: 1.29.1
Command: rm -rf csaw.buildbin-libdir && mkdir csaw.buildbin-libdir && /Users/biocbuild/BBS/utils/build-universal.sh csaw_1.29.1.tar.gz /Library/Frameworks/R.framework/Resources/bin/R csaw.buildbin-libdir
StartedAt: 2021-11-27 09:49:41 -0500 (Sat, 27 Nov 2021)
EndedAt: 2021-11-27 09:51:39 -0500 (Sat, 27 Nov 2021)
EllapsedTime: 118.0 seconds
RetCode: 0
Status:   OK  
PackageFile: csaw_1.29.1.tgz
PackageFileSize: 1.074 MiB

Command output

##############################################################################
##############################################################################
###
### Running command:
###
###   rm -rf csaw.buildbin-libdir && mkdir csaw.buildbin-libdir && /Users/biocbuild/BBS/utils/build-universal.sh csaw_1.29.1.tar.gz /Library/Frameworks/R.framework/Resources/bin/R csaw.buildbin-libdir
###
##############################################################################
##############################################################################


>>>>>>> 
>>>>>>> INSTALLATION WITH 'R CMD INSTALL --preclean --no-multiarch --library=csaw.buildbin-libdir csaw_1.29.1.tar.gz'
>>>>>>> 

* installing *source* package ‘csaw’ ...
** using staged installation
** libs
clang++ -mmacosx-version-min=10.13 -std=gnu++11 -I"/Library/Frameworks/R.framework/Resources/include" -DNDEBUG -D_FILE_OFFSET_BITS=64 -I'/Library/Frameworks/R.framework/Versions/4.2/Resources/library/Rhtslib/include' -I'/Library/Frameworks/R.framework/Versions/4.2/Resources/library/zlibbioc/include' -I'/Library/Frameworks/R.framework/Versions/4.2/Resources/library/Rcpp/include' -I/usr/local/include   -fPIC  -Wall -g -O2  -c annotator.cpp -o annotator.o
clang++ -mmacosx-version-min=10.13 -std=gnu++11 -I"/Library/Frameworks/R.framework/Resources/include" -DNDEBUG -D_FILE_OFFSET_BITS=64 -I'/Library/Frameworks/R.framework/Versions/4.2/Resources/library/Rhtslib/include' -I'/Library/Frameworks/R.framework/Versions/4.2/Resources/library/zlibbioc/include' -I'/Library/Frameworks/R.framework/Versions/4.2/Resources/library/Rcpp/include' -I/usr/local/include   -fPIC  -Wall -g -O2  -c bam_utils.cpp -o bam_utils.o
clang++ -mmacosx-version-min=10.13 -std=gnu++11 -I"/Library/Frameworks/R.framework/Resources/include" -DNDEBUG -D_FILE_OFFSET_BITS=64 -I'/Library/Frameworks/R.framework/Versions/4.2/Resources/library/Rhtslib/include' -I'/Library/Frameworks/R.framework/Versions/4.2/Resources/library/zlibbioc/include' -I'/Library/Frameworks/R.framework/Versions/4.2/Resources/library/Rcpp/include' -I/usr/local/include   -fPIC  -Wall -g -O2  -c best_in_cluster.cpp -o best_in_cluster.o
clang++ -mmacosx-version-min=10.13 -std=gnu++11 -I"/Library/Frameworks/R.framework/Resources/include" -DNDEBUG -D_FILE_OFFSET_BITS=64 -I'/Library/Frameworks/R.framework/Versions/4.2/Resources/library/Rhtslib/include' -I'/Library/Frameworks/R.framework/Versions/4.2/Resources/library/zlibbioc/include' -I'/Library/Frameworks/R.framework/Versions/4.2/Resources/library/Rcpp/include' -I/usr/local/include   -fPIC  -Wall -g -O2  -c check_bimodality.cpp -o check_bimodality.o
clang++ -mmacosx-version-min=10.13 -std=gnu++11 -I"/Library/Frameworks/R.framework/Resources/include" -DNDEBUG -D_FILE_OFFSET_BITS=64 -I'/Library/Frameworks/R.framework/Versions/4.2/Resources/library/Rhtslib/include' -I'/Library/Frameworks/R.framework/Versions/4.2/Resources/library/zlibbioc/include' -I'/Library/Frameworks/R.framework/Versions/4.2/Resources/library/Rcpp/include' -I/usr/local/include   -fPIC  -Wall -g -O2  -c correlate_reads.cpp -o correlate_reads.o
clang++ -mmacosx-version-min=10.13 -std=gnu++11 -I"/Library/Frameworks/R.framework/Resources/include" -DNDEBUG -D_FILE_OFFSET_BITS=64 -I'/Library/Frameworks/R.framework/Versions/4.2/Resources/library/Rhtslib/include' -I'/Library/Frameworks/R.framework/Versions/4.2/Resources/library/zlibbioc/include' -I'/Library/Frameworks/R.framework/Versions/4.2/Resources/library/Rcpp/include' -I/usr/local/include   -fPIC  -Wall -g -O2  -c find_maxima.cpp -o find_maxima.o
clang++ -mmacosx-version-min=10.13 -std=gnu++11 -I"/Library/Frameworks/R.framework/Resources/include" -DNDEBUG -D_FILE_OFFSET_BITS=64 -I'/Library/Frameworks/R.framework/Versions/4.2/Resources/library/Rhtslib/include' -I'/Library/Frameworks/R.framework/Versions/4.2/Resources/library/zlibbioc/include' -I'/Library/Frameworks/R.framework/Versions/4.2/Resources/library/Rcpp/include' -I/usr/local/include   -fPIC  -Wall -g -O2  -c get_profile.cpp -o get_profile.o
clang++ -mmacosx-version-min=10.13 -std=gnu++11 -I"/Library/Frameworks/R.framework/Resources/include" -DNDEBUG -D_FILE_OFFSET_BITS=64 -I'/Library/Frameworks/R.framework/Versions/4.2/Resources/library/Rhtslib/include' -I'/Library/Frameworks/R.framework/Versions/4.2/Resources/library/zlibbioc/include' -I'/Library/Frameworks/R.framework/Versions/4.2/Resources/library/Rcpp/include' -I/usr/local/include   -fPIC  -Wall -g -O2  -c get_rle_counts.cpp -o get_rle_counts.o
clang++ -mmacosx-version-min=10.13 -std=gnu++11 -I"/Library/Frameworks/R.framework/Resources/include" -DNDEBUG -D_FILE_OFFSET_BITS=64 -I'/Library/Frameworks/R.framework/Versions/4.2/Resources/library/Rhtslib/include' -I'/Library/Frameworks/R.framework/Versions/4.2/Resources/library/zlibbioc/include' -I'/Library/Frameworks/R.framework/Versions/4.2/Resources/library/Rcpp/include' -I/usr/local/include   -fPIC  -Wall -g -O2  -c init.cpp -o init.o
clang++ -mmacosx-version-min=10.13 -std=gnu++11 -I"/Library/Frameworks/R.framework/Resources/include" -DNDEBUG -D_FILE_OFFSET_BITS=64 -I'/Library/Frameworks/R.framework/Versions/4.2/Resources/library/Rhtslib/include' -I'/Library/Frameworks/R.framework/Versions/4.2/Resources/library/zlibbioc/include' -I'/Library/Frameworks/R.framework/Versions/4.2/Resources/library/Rcpp/include' -I/usr/local/include   -fPIC  -Wall -g -O2  -c intersector.cpp -o intersector.o
clang++ -mmacosx-version-min=10.13 -std=gnu++11 -I"/Library/Frameworks/R.framework/Resources/include" -DNDEBUG -D_FILE_OFFSET_BITS=64 -I'/Library/Frameworks/R.framework/Versions/4.2/Resources/library/Rhtslib/include' -I'/Library/Frameworks/R.framework/Versions/4.2/Resources/library/zlibbioc/include' -I'/Library/Frameworks/R.framework/Versions/4.2/Resources/library/Rcpp/include' -I/usr/local/include   -fPIC  -Wall -g -O2  -c merge_windows.cpp -o merge_windows.o
clang++ -mmacosx-version-min=10.13 -std=gnu++11 -I"/Library/Frameworks/R.framework/Resources/include" -DNDEBUG -D_FILE_OFFSET_BITS=64 -I'/Library/Frameworks/R.framework/Versions/4.2/Resources/library/Rhtslib/include' -I'/Library/Frameworks/R.framework/Versions/4.2/Resources/library/zlibbioc/include' -I'/Library/Frameworks/R.framework/Versions/4.2/Resources/library/Rcpp/include' -I/usr/local/include   -fPIC  -Wall -g -O2  -c pair_reads.cpp -o pair_reads.o
clang++ -mmacosx-version-min=10.13 -std=gnu++11 -I"/Library/Frameworks/R.framework/Resources/include" -DNDEBUG -D_FILE_OFFSET_BITS=64 -I'/Library/Frameworks/R.framework/Versions/4.2/Resources/library/Rhtslib/include' -I'/Library/Frameworks/R.framework/Versions/4.2/Resources/library/zlibbioc/include' -I'/Library/Frameworks/R.framework/Versions/4.2/Resources/library/Rcpp/include' -I/usr/local/include   -fPIC  -Wall -g -O2  -c single_reads.cpp -o single_reads.o
clang++ -mmacosx-version-min=10.13 -std=gnu++11 -I"/Library/Frameworks/R.framework/Resources/include" -DNDEBUG -D_FILE_OFFSET_BITS=64 -I'/Library/Frameworks/R.framework/Versions/4.2/Resources/library/Rhtslib/include' -I'/Library/Frameworks/R.framework/Versions/4.2/Resources/library/zlibbioc/include' -I'/Library/Frameworks/R.framework/Versions/4.2/Resources/library/Rcpp/include' -I/usr/local/include   -fPIC  -Wall -g -O2  -c utils.cpp -o utils.o
clang++ -mmacosx-version-min=10.13 -std=gnu++11 -dynamiclib -Wl,-headerpad_max_install_names -undefined dynamic_lookup -single_module -multiply_defined suppress -L/Library/Frameworks/R.framework/Resources/lib -L/usr/local/lib -o csaw.so annotator.o bam_utils.o best_in_cluster.o check_bimodality.o correlate_reads.o find_maxima.o get_profile.o get_rle_counts.o init.o intersector.o merge_windows.o pair_reads.o single_reads.o utils.o /Library/Frameworks/R.framework/Versions/4.2/Resources/library/Rhtslib/usrlib/libhts.a -lcurl -F/Library/Frameworks/R.framework/.. -framework R -Wl,-framework -Wl,CoreFoundation
installing to /Users/biocbuild/bbs-3.15-bioc/meat/csaw.buildbin-libdir/00LOCK-csaw/00new/csaw/libs
** R
** inst
** byte-compile and prepare package for lazy loading
** help
*** installing help indices
** building package indices
** installing vignettes
** testing if installed package can be loaded from temporary location
** checking absolute paths in shared objects and dynamic libraries
** testing if installed package can be loaded from final location
** testing if installed package keeps a record of temporary installation path
* DONE (csaw)


>>>>>>> 
>>>>>>> FIXING LINKS FOR csaw.buildbin-libdir/csaw/libs/csaw.so
>>>>>>> 

install_name_tool -change "/usr/local/lib/libgcc_s.1.dylib" "/Library/Frameworks/R.framework/Versions/4.2/Resources/lib/libgcc_s.1.dylib" "csaw.buildbin-libdir/csaw/libs/csaw.so"
install_name_tool -change "/usr/local/lib/libgfortran.5.dylib" "/Library/Frameworks/R.framework/Versions/4.2/Resources/lib/libgfortran.5.dylib" "csaw.buildbin-libdir/csaw/libs/csaw.so"
install_name_tool -change "/usr/local/lib/libquadmath.0.dylib" "/Library/Frameworks/R.framework/Versions/4.2/Resources/lib/libquadmath.0.dylib" "csaw.buildbin-libdir/csaw/libs/csaw.so"