Back to Multiple platform build/check report for BioC 3.15
ABCDEFGHIJKLMNO[P]QRSTUVWXYZ

This page was generated on 2022-01-21 11:12:05 -0500 (Fri, 21 Jan 2022).

HostnameOSArch (*)R versionInstalled pkgs
nebbiolo1Linux (Ubuntu 20.04.4 LTS)x86_64R Under development (unstable) (2022-01-05 r81451) -- "Unsuffered Consequences" 4163
riesling1Windows Server 2019 Standardx64R Under development (unstable) (2021-11-21 r81221) -- "Unsuffered Consequences" 4058
palomino3Windows Server 2022 Datacenterx64R Under development (unstable) (2021-12-21 r81400 ucrt) -- "Unsuffered Consequences" 4000
merida1macOS 10.14.6 Mojavex86_64R Under development (unstable) (2022-01-05 r81451) -- "Unsuffered Consequences" 4117
Click on any hostname to see more info about the system (e.g. compilers)      (*) as reported by 'uname -p', except on Windows and Mac OS X

CHECK results for PureCN on merida1


To the developers/maintainers of the PureCN package:
- Please allow up to 24 hours (and sometimes 48 hours) for your latest push to git@git.bioconductor.org:packages/PureCN.git to
reflect on this report. See How and When does the builder pull? When will my changes propagate? here for more information.
- Make sure to use the following settings in order to reproduce any error or warning you see on this page.

raw results

Package 1481/2075HostnameOS / ArchINSTALLBUILDCHECKBUILD BIN
PureCN 2.1.6  (landing page)
Markus Riester
Snapshot Date: 2022-01-20 13:55:17 -0500 (Thu, 20 Jan 2022)
git_url: https://git.bioconductor.org/packages/PureCN
git_branch: master
git_last_commit: 26f9dbb
git_last_commit_date: 2021-12-22 15:47:20 -0500 (Wed, 22 Dec 2021)
nebbiolo1Linux (Ubuntu 20.04.4 LTS) / x86_64  OK    OK    OK  UNNEEDED, same version is already published
riesling1Windows Server 2019 Standard / x64  OK    OK    OK    OK  
palomino3Windows Server 2022 Datacenter / x64  OK    OK    OK    OK  NO, package depends on 'VariantAnnotation' which is not available
merida1macOS 10.14.6 Mojave / x86_64  OK    OK    OK    OK  UNNEEDED, same version is already published

Summary

Package: PureCN
Version: 2.1.6
Command: /Library/Frameworks/R.framework/Resources/bin/R CMD check --install=check:PureCN.install-out.txt --library=/Library/Frameworks/R.framework/Resources/library --no-vignettes --timings PureCN_2.1.6.tar.gz
StartedAt: 2022-01-21 04:28:19 -0500 (Fri, 21 Jan 2022)
EndedAt: 2022-01-21 04:56:43 -0500 (Fri, 21 Jan 2022)
EllapsedTime: 1704.3 seconds
RetCode: 0
Status:   OK  
CheckDir: PureCN.Rcheck
Warnings: 0

Command output

##############################################################################
##############################################################################
###
### Running command:
###
###   /Library/Frameworks/R.framework/Resources/bin/R CMD check --install=check:PureCN.install-out.txt --library=/Library/Frameworks/R.framework/Resources/library --no-vignettes --timings PureCN_2.1.6.tar.gz
###
##############################################################################
##############################################################################


* using log directory ‘/Users/biocbuild/bbs-3.15-bioc/meat/PureCN.Rcheck’
* using R Under development (unstable) (2022-01-05 r81451)
* using platform: x86_64-apple-darwin17.0 (64-bit)
* using session charset: UTF-8
* using option ‘--no-vignettes’
* checking for file ‘PureCN/DESCRIPTION’ ... OK
* checking extension type ... Package
* this is package ‘PureCN’ version ‘2.1.6’
* checking package namespace information ... OK
* checking package dependencies ... NOTE
Package which this enhances but not available for checking: ‘genomicsdb’
* checking if this is a source package ... OK
* checking if there is a namespace ... OK
* checking for hidden files and directories ... NOTE
Found the following hidden files and directories:
  .git_fetch_output.txt
  .git_merge_output.txt
These were most likely included in error. See section ‘Package
structure’ in the ‘Writing R Extensions’ manual.
* checking for portable file names ... OK
* checking for sufficient/correct file permissions ... OK
* checking whether package ‘PureCN’ can be installed ... OK
* checking installed package size ... NOTE
  installed size is  5.7Mb
  sub-directories of 1Mb or more:
    extdata   4.2Mb
* checking package directory ... OK
* checking ‘build’ directory ... OK
* checking DESCRIPTION meta-information ... OK
* checking top-level files ... OK
* checking for left-over files ... OK
* checking index information ... OK
* checking package subdirectories ... OK
* checking R files for non-ASCII characters ... OK
* checking R files for syntax errors ... OK
* checking whether the package can be loaded ... OK
* checking whether the package can be loaded with stated dependencies ... OK
* checking whether the package can be unloaded cleanly ... OK
* checking whether the namespace can be loaded with stated dependencies ... OK
* checking whether the namespace can be unloaded cleanly ... OK
* checking dependencies in R code ... OK
* checking S3 generic/method consistency ... OK
* checking replacement functions ... OK
* checking foreign function calls ... OK
* checking R code for possible problems ... OK
* checking Rd files ... OK
* checking Rd metadata ... OK
* checking Rd cross-references ... OK
* checking for missing documentation entries ... OK
* checking for code/documentation mismatches ... OK
* checking Rd \usage sections ... OK
* checking Rd contents ... OK
* checking for unstated dependencies in examples ... OK
* checking contents of ‘data’ directory ... OK
* checking data for non-ASCII characters ... OK
* checking data for ASCII and uncompressed saves ... OK
* checking sizes of PDF files under ‘inst/doc’ ... OK
* checking files in ‘vignettes’ ... OK
* checking examples ... OK
Examples with CPU (user + system) or elapsed time > 5s
                                user system elapsed
callAmplificationsInLowPurity 95.411  0.256  96.788
segmentationPSCBS             57.461  0.312  57.959
filterIntervals               41.963  0.234  42.260
runAbsoluteCN                 38.725  0.374  39.288
segmentationHclust            33.938  0.274  34.711
findFocal                     23.729  0.078  23.897
segmentationCBS               18.571  0.079  18.890
annotateTargets               12.955  0.535  13.852
processMultipleSamples         9.738  0.101   9.859
calculateTangentNormal         7.134  0.021   7.256
createNormalDatabase           5.939  0.018   5.966
* checking for unstated dependencies in ‘tests’ ... OK
* checking tests ...
  Running ‘testthat.R’
 OK
* checking for unstated dependencies in vignettes ... OK
* checking package vignettes in ‘inst/doc’ ... OK
* checking running R code from vignettes ... SKIPPED
* checking re-building of vignette outputs ... SKIPPED
* checking PDF version of manual ... OK
* DONE

Status: 3 NOTEs
See
  ‘/Users/biocbuild/bbs-3.15-bioc/meat/PureCN.Rcheck/00check.log’
for details.



Installation output

PureCN.Rcheck/00install.out

##############################################################################
##############################################################################
###
### Running command:
###
###   /Library/Frameworks/R.framework/Resources/bin/R CMD INSTALL PureCN
###
##############################################################################
##############################################################################


* installing to library ‘/Library/Frameworks/R.framework/Versions/4.2/Resources/library’
* installing *source* package ‘PureCN’ ...
** using staged installation
** R
** data
** inst
** byte-compile and prepare package for lazy loading
** help
*** installing help indices
** building package indices
** installing vignettes
** testing if installed package can be loaded from temporary location
** testing if installed package can be loaded from final location
** testing if installed package keeps a record of temporary installation path
* DONE (PureCN)

Tests output

PureCN.Rcheck/tests/testthat.Rout


R Under development (unstable) (2022-01-05 r81451) -- "Unsuffered Consequences"
Copyright (C) 2022 The R Foundation for Statistical Computing
Platform: x86_64-apple-darwin17.0 (64-bit)

R is free software and comes with ABSOLUTELY NO WARRANTY.
You are welcome to redistribute it under certain conditions.
Type 'license()' or 'licence()' for distribution details.

R is a collaborative project with many contributors.
Type 'contributors()' for more information and
'citation()' on how to cite R or R packages in publications.

Type 'demo()' for some demos, 'help()' for on-line help, or
'help.start()' for an HTML browser interface to help.
Type 'q()' to quit R.

> library(testthat)
> library(PureCN)
Loading required package: DNAcopy
Loading required package: VariantAnnotation
Loading required package: BiocGenerics

Attaching package: 'BiocGenerics'

The following objects are masked from 'package:stats':

    IQR, mad, sd, var, xtabs

The following objects are masked from 'package:base':

    Filter, Find, Map, Position, Reduce, anyDuplicated, append,
    as.data.frame, basename, cbind, colnames, dirname, do.call,
    duplicated, eval, evalq, get, grep, grepl, intersect, is.unsorted,
    lapply, mapply, match, mget, order, paste, pmax, pmax.int, pmin,
    pmin.int, rank, rbind, rownames, sapply, setdiff, sort, table,
    tapply, union, unique, unsplit, which.max, which.min

Loading required package: MatrixGenerics
Loading required package: matrixStats

Attaching package: 'MatrixGenerics'

The following objects are masked from 'package:matrixStats':

    colAlls, colAnyNAs, colAnys, colAvgsPerRowSet, colCollapse,
    colCounts, colCummaxs, colCummins, colCumprods, colCumsums,
    colDiffs, colIQRDiffs, colIQRs, colLogSumExps, colMadDiffs,
    colMads, colMaxs, colMeans2, colMedians, colMins, colOrderStats,
    colProds, colQuantiles, colRanges, colRanks, colSdDiffs, colSds,
    colSums2, colTabulates, colVarDiffs, colVars, colWeightedMads,
    colWeightedMeans, colWeightedMedians, colWeightedSds,
    colWeightedVars, rowAlls, rowAnyNAs, rowAnys, rowAvgsPerColSet,
    rowCollapse, rowCounts, rowCummaxs, rowCummins, rowCumprods,
    rowCumsums, rowDiffs, rowIQRDiffs, rowIQRs, rowLogSumExps,
    rowMadDiffs, rowMads, rowMaxs, rowMeans2, rowMedians, rowMins,
    rowOrderStats, rowProds, rowQuantiles, rowRanges, rowRanks,
    rowSdDiffs, rowSds, rowSums2, rowTabulates, rowVarDiffs, rowVars,
    rowWeightedMads, rowWeightedMeans, rowWeightedMedians,
    rowWeightedSds, rowWeightedVars

Loading required package: GenomeInfoDb
Loading required package: S4Vectors
Loading required package: stats4

Attaching package: 'S4Vectors'

The following objects are masked from 'package:base':

    I, expand.grid, unname

Loading required package: IRanges
Loading required package: GenomicRanges
Loading required package: SummarizedExperiment
Loading required package: Biobase
Welcome to Bioconductor

    Vignettes contain introductory material; view with
    'browseVignettes()'. To cite Bioconductor, see
    'citation("Biobase")', and for packages 'citation("pkgname")'.


Attaching package: 'Biobase'

The following object is masked from 'package:MatrixGenerics':

    rowMedians

The following objects are masked from 'package:matrixStats':

    anyMissing, rowMedians

Loading required package: Rsamtools
Loading required package: Biostrings
Loading required package: XVector

Attaching package: 'Biostrings'

The following object is masked from 'package:base':

    strsplit


Attaching package: 'VariantAnnotation'

The following object is masked from 'package:base':

    tabulate

> 
> test_check("PureCN")
WARN [2022-01-21 04:43:19] Attempted adding gene symbols to intervals. Heuristics have been used to pick symbols for overlapping genes.
WARN [2022-01-21 04:43:19] Chromosome naming style of txdb file (UCSC) was different from interval file (Ensembl).
WARN [2022-01-21 04:43:29] Attempted adding gene symbols to intervals. Heuristics have been used to pick symbols for overlapping genes.
FATAL [2022-01-21 04:43:34] tumor.coverage.file and interval.file do not align. 

FATAL [2022-01-21 04:43:34]  

FATAL [2022-01-21 04:43:34] This is most likely a user error due to invalid input data or 

FATAL [2022-01-21 04:43:34] parameters (PureCN 2.1.6). 

WARN [2022-01-21 04:43:36] Large potential mis-calibration of on- and off-target log2 ratios: 0.26
FATAL [2022-01-21 04:43:36] Need either f or purity and ploidy. 

FATAL [2022-01-21 04:43:36]  

FATAL [2022-01-21 04:43:36] This is most likely a user error due to invalid input data or 

FATAL [2022-01-21 04:43:36] parameters (PureCN 2.1.6). 

FATAL [2022-01-21 04:43:36] f not in expected range. 

FATAL [2022-01-21 04:43:36]  

FATAL [2022-01-21 04:43:36] This is most likely a user error due to invalid input data or 

FATAL [2022-01-21 04:43:36] parameters (PureCN 2.1.6). 

FATAL [2022-01-21 04:43:36] coverage not in expected range (>=2) 

FATAL [2022-01-21 04:43:36]  

FATAL [2022-01-21 04:43:36] This is most likely a user error due to invalid input data or 

FATAL [2022-01-21 04:43:36] parameters (PureCN 2.1.6). 

FATAL [2022-01-21 04:43:36] purity not in expected range. 

FATAL [2022-01-21 04:43:36]  

FATAL [2022-01-21 04:43:36] This is most likely a user error due to invalid input data or 

FATAL [2022-01-21 04:43:36] parameters (PureCN 2.1.6). 

FATAL [2022-01-21 04:43:36] ploidy not in expected range. 

FATAL [2022-01-21 04:43:36]  

FATAL [2022-01-21 04:43:36] This is most likely a user error due to invalid input data or 

FATAL [2022-01-21 04:43:36] parameters (PureCN 2.1.6). 

FATAL [2022-01-21 04:43:36] cell.fraction not in expected range. 

FATAL [2022-01-21 04:43:36]  

FATAL [2022-01-21 04:43:36] This is most likely a user error due to invalid input data or 

FATAL [2022-01-21 04:43:36] parameters (PureCN 2.1.6). 

INFO [2022-01-21 04:43:41] 576 on-target bins with low coverage in all samples.
WARN [2022-01-21 04:43:41] You are likely not using the correct baits file!
WARN [2022-01-21 04:43:41] Allosome coverage missing, cannot determine sex.
WARN [2022-01-21 04:43:41] Allosome coverage missing, cannot determine sex.
INFO [2022-01-21 04:43:41] Processing on-target regions...
INFO [2022-01-21 04:43:42] Removing 930 intervals with low coverage in normalDB.
INFO [2022-01-21 04:43:42] Removing 1 intervals with zero coverage in more than 3% of normalDB.
INFO [2022-01-21 04:43:46] Tumor/normal noise ratio: 19.041
WARN [2022-01-21 04:43:46] Extensive noise in tumor compared to normals.
INFO [2022-01-21 04:45:28] Tumor/normal noise ratio: 19.041
WARN [2022-01-21 04:45:28] Extensive noise in tumor compared to normals.
INFO [2022-01-21 04:45:30] Using BiocParallel for parallel optimization.
FATAL [2022-01-21 04:46:11] pvalue.cutoff not within expected range or format. 

FATAL [2022-01-21 04:46:11]  

FATAL [2022-01-21 04:46:11] This is most likely a user error due to invalid input data or 

FATAL [2022-01-21 04:46:11] parameters (PureCN 2.1.6). 

FATAL [2022-01-21 04:46:11] pvalue.cutoff not within expected range or format. 

FATAL [2022-01-21 04:46:11]  

FATAL [2022-01-21 04:46:11] This is most likely a user error due to invalid input data or 

FATAL [2022-01-21 04:46:11] parameters (PureCN 2.1.6). 

FATAL [2022-01-21 04:46:11] percentile.cutoff not in expected range (0 to 100). 

FATAL [2022-01-21 04:46:11]  

FATAL [2022-01-21 04:46:11] This is most likely a user error due to invalid input data or 

FATAL [2022-01-21 04:46:11] parameters (PureCN 2.1.6). 

FATAL [2022-01-21 04:46:11] percentile.cutoff not in expected range (0 to 100). 

FATAL [2022-01-21 04:46:11]  

FATAL [2022-01-21 04:46:11] This is most likely a user error due to invalid input data or 

FATAL [2022-01-21 04:46:11] parameters (PureCN 2.1.6). 

FATAL [2022-01-21 04:46:11] purity not within expected range or format. 

FATAL [2022-01-21 04:46:11]  

FATAL [2022-01-21 04:46:11] This is most likely a user error due to invalid input data or 

FATAL [2022-01-21 04:46:11] parameters (PureCN 2.1.6). 

FATAL [2022-01-21 04:46:11] purity not within expected range or format. 

FATAL [2022-01-21 04:46:11]  

FATAL [2022-01-21 04:46:11] This is most likely a user error due to invalid input data or 

FATAL [2022-01-21 04:46:11] parameters (PureCN 2.1.6). 

INFO [2022-01-21 04:46:15] ------------------------------------------------------------
INFO [2022-01-21 04:46:15] PureCN 2.1.6
INFO [2022-01-21 04:46:15] ------------------------------------------------------------
INFO [2022-01-21 04:46:15] Loading coverage files...
INFO [2022-01-21 04:46:15] Mean target coverages: 112X (tumor) 99X (normal).
WARN [2022-01-21 04:46:15] Allosome coverage missing, cannot determine sex.
WARN [2022-01-21 04:46:15] Allosome coverage missing, cannot determine sex.
INFO [2022-01-21 04:46:15] Removing 228 intervals with missing log.ratio.
INFO [2022-01-21 04:46:15] Removing 22 small (< 5bp) intervals.
INFO [2022-01-21 04:46:15] Removing 19 intervals with low total coverage in normal (< 150.00 reads).
WARN [2022-01-21 04:46:15] No normalDB provided. Provide one for better results.
INFO [2022-01-21 04:46:15] Removing 1724 low count (< 100 total reads) intervals.
INFO [2022-01-21 04:46:15] Removing 6 low coverage (< 15.0000X) intervals.
INFO [2022-01-21 04:46:15] Using 8050 intervals (8050 on-target, 0 off-target).
INFO [2022-01-21 04:46:15] No off-target intervals. If this is hybrid-capture data, consider adding them.
INFO [2022-01-21 04:46:15] No interval.file provided. Cannot check for any GC-biases.
INFO [2022-01-21 04:46:15] Loading VCF...
INFO [2022-01-21 04:46:16] Found 127 variants in VCF file.
INFO [2022-01-21 04:46:16] 127 (100.0%) variants annotated as likely germline (DB INFO flag).
INFO [2022-01-21 04:46:16] LIB-02240e4 is tumor in VCF file.
INFO [2022-01-21 04:46:16] No homozygous variants in VCF, provide unfiltered VCF.
INFO [2022-01-21 04:46:16] Removing 1 non heterozygous (in matched normal) germline SNPs.
INFO [2022-01-21 04:46:16] Base quality scores range from 29 to 35 (offset by 1)
INFO [2022-01-21 04:46:16] Minimum number of supporting reads ranges from 2 to 5, depending on coverage and BQS.
INFO [2022-01-21 04:46:17] Removing 1 variants with AF < 0.030 or AF >= 1.000 or insufficient supporting reads or depth < 15.
INFO [2022-01-21 04:46:17] Removing 0 low quality variants with non-offset BQ < 25.
INFO [2022-01-21 04:46:17] Total size of targeted genomic region: 1.53Mb (2.33Mb with 50bp padding).
INFO [2022-01-21 04:46:18] 1.2% of targets contain variants.
INFO [2022-01-21 04:46:18] Removing 4 variants outside intervals.
INFO [2022-01-21 04:46:18] Found SOMATIC annotation in VCF.
INFO [2022-01-21 04:46:18] Setting somatic prior probabilities for somatic variants to 0.999000 or to 0.000100 otherwise.
INFO [2022-01-21 04:46:18] Found SOMATIC annotation in VCF. Setting mapping bias to 0.972.
INFO [2022-01-21 04:46:18] Excluding 0 novel or poor quality variants from segmentation.
INFO [2022-01-21 04:46:18] Sample sex: ?
INFO [2022-01-21 04:46:18] Segmenting data...
INFO [2022-01-21 04:46:19] Loading pre-computed boundaries for DNAcopy...
INFO [2022-01-21 04:46:19] Setting undo.SD parameter to 1.000000.
INFO [2022-01-21 04:46:20] Setting prune.hclust.h parameter to 0.200000.
INFO [2022-01-21 04:46:20] Found 59 segments with median size of 17.67Mb.
INFO [2022-01-21 04:46:21] Using 121 variants.
INFO [2022-01-21 04:46:21] Mean standard deviation of log-ratios: 0.34 (MAPD: 0.30)
INFO [2022-01-21 04:46:21] 2D-grid search of purity and ploidy...
INFO [2022-01-21 04:46:23] Local optima: 0.63/1.9, 0.5/2
INFO [2022-01-21 04:46:23] Testing local optimum 1/2 at purity 0.63 and total ploidy 1.90...
INFO [2022-01-21 04:46:25] Testing local optimum 2/2 at purity 0.50 and total ploidy 2.00...
INFO [2022-01-21 04:46:28] Skipping 1 solutions that converged to the same optima.
INFO [2022-01-21 04:46:28] Fitting variants with beta model for local optimum 1/2...
INFO [2022-01-21 04:46:28] Fitting variants for purity 0.65, tumor ploidy 1.75 and contamination 0.01.
INFO [2022-01-21 04:46:33] Optimized purity: 0.65
INFO [2022-01-21 04:46:33] Done.
INFO [2022-01-21 04:46:33] ------------------------------------------------------------
INFO [2022-01-21 04:46:35] Estimating callable regions.
FATAL [2022-01-21 04:46:38] exclude not a GRanges object. 

FATAL [2022-01-21 04:46:38]  

FATAL [2022-01-21 04:46:38] This is most likely a user error due to invalid input data or 

FATAL [2022-01-21 04:46:38] parameters (PureCN 2.1.6). 

FATAL [2022-01-21 04:46:38] callable not a GRanges object. 

FATAL [2022-01-21 04:46:38]  

FATAL [2022-01-21 04:46:38] This is most likely a user error due to invalid input data or 

FATAL [2022-01-21 04:46:38] parameters (PureCN 2.1.6). 

WARN [2022-01-21 04:46:52] tumor.coverage.file and interval.file do not align.
INFO [2022-01-21 04:46:55] No Gene column in interval.file. You won't get gene-level calls.
FATAL [2022-01-21 04:46:57] No gc_bias column in interval.file. 

FATAL [2022-01-21 04:46:57]  

FATAL [2022-01-21 04:46:57] This is most likely a user error due to invalid input data or 

FATAL [2022-01-21 04:46:57] parameters (PureCN 2.1.6). 

FATAL [2022-01-21 04:46:58] Provided coverage is zero, most likely due to a corrupt BAM file. 

FATAL [2022-01-21 04:46:58]  

FATAL [2022-01-21 04:46:58] This is most likely a user error due to invalid input data or 

FATAL [2022-01-21 04:46:58] parameters (PureCN 2.1.6). 

INFO [2022-01-21 04:47:02] No reptiming column in interval.file.
INFO [2022-01-21 04:47:09] Reading /tmp/Rtmpa1rsno/file11c1432af71f5.rds...
INFO [2022-01-21 04:47:09] Reading /tmp/Rtmpa1rsno/file11c1432af71f5.rds...
INFO [2022-01-21 04:47:09] Reading /tmp/Rtmpa1rsno/file11c1432af71f5.rds...
INFO [2022-01-21 04:47:09] Reading /tmp/Rtmpa1rsno/file11c1432af71f5.rds...
INFO [2022-01-21 04:47:10] Reading /tmp/Rtmpa1rsno/file11c1432af71f5.rds...
INFO [2022-01-21 04:47:10] Reading /tmp/Rtmpa1rsno/file11c1432af71f5.rds...
FATAL [2022-01-21 04:47:10] Purity or Ploidy not numeric or in expected range. 

FATAL [2022-01-21 04:47:10]  

FATAL [2022-01-21 04:47:10] This is most likely a user error due to invalid input data or 

FATAL [2022-01-21 04:47:10] parameters (PureCN 2.1.6). 

INFO [2022-01-21 04:47:10] Reading /tmp/Rtmpa1rsno/file11c1432af71f5.rds...
INFO [2022-01-21 04:47:10] Reading /tmp/Rtmpa1rsno/file11c1432af71f5.rds...
FATAL [2022-01-21 04:47:10] 'Failed' column in /tmp/Rtmpa1rsno/file11c1432af71f5.csv not 

FATAL [2022-01-21 04:47:10] logical(1). 

FATAL [2022-01-21 04:47:10]  

FATAL [2022-01-21 04:47:10] This is most likely a user error due to invalid input data or 

FATAL [2022-01-21 04:47:10] parameters (PureCN 2.1.6). 

INFO [2022-01-21 04:47:12] 576 on-target bins with low coverage in all samples.
WARN [2022-01-21 04:47:12] You are likely not using the correct baits file!
WARN [2022-01-21 04:47:12] Allosome coverage missing, cannot determine sex.
WARN [2022-01-21 04:47:12] Allosome coverage missing, cannot determine sex.
INFO [2022-01-21 04:47:12] Processing on-target regions...
INFO [2022-01-21 04:47:13] Removing 930 intervals with low coverage in normalDB.
INFO [2022-01-21 04:47:13] Removing 1 intervals with zero coverage in more than 3% of normalDB.
INFO [2022-01-21 04:47:21] 576 on-target bins with low coverage in all samples.
WARN [2022-01-21 04:47:21] You are likely not using the correct baits file!
WARN [2022-01-21 04:47:21] Allosome coverage missing, cannot determine sex.
WARN [2022-01-21 04:47:21] Allosome coverage missing, cannot determine sex.
INFO [2022-01-21 04:47:21] Processing on-target regions...
INFO [2022-01-21 04:47:22] Removing 930 intervals with low coverage in normalDB.
INFO [2022-01-21 04:47:22] Removing 1 intervals with zero coverage in more than 3% of normalDB.
INFO [2022-01-21 04:47:27] 576 on-target bins with low coverage in all samples.
WARN [2022-01-21 04:47:27] You are likely not using the correct baits file!
WARN [2022-01-21 04:47:27] Allosome coverage missing, cannot determine sex.
WARN [2022-01-21 04:47:27] Allosome coverage missing, cannot determine sex.
INFO [2022-01-21 04:47:27] Processing on-target regions...
INFO [2022-01-21 04:47:28] Removing 930 intervals with low coverage in normalDB.
INFO [2022-01-21 04:47:28] Removing 1 intervals with zero coverage in more than 3% of normalDB.
WARN [2022-01-21 04:47:31] Allosome coverage missing, cannot determine sex.
INFO [2022-01-21 04:47:31] Sample sex: NA
WARN [2022-01-21 04:47:31] Allosome coverage missing, cannot determine sex.
INFO [2022-01-21 04:47:31] Sample sex: NA
INFO [2022-01-21 04:47:33] 576 on-target bins with low coverage in all samples.
WARN [2022-01-21 04:47:33] You are likely not using the correct baits file!
WARN [2022-01-21 04:47:33] Allosome coverage missing, cannot determine sex.
WARN [2022-01-21 04:47:33] Allosome coverage missing, cannot determine sex.
FATAL [2022-01-21 04:47:33] Length of normal.coverage.files and sex different 

FATAL [2022-01-21 04:47:33]  

FATAL [2022-01-21 04:47:33] This is most likely a user error due to invalid input data or 

FATAL [2022-01-21 04:47:33] parameters (PureCN 2.1.6). 

WARN [2022-01-21 04:47:41] Target intervals were not sorted.
INFO [2022-01-21 04:47:42] 560 on-target bins with low coverage in all samples.
WARN [2022-01-21 04:47:42] You are likely not using the correct baits file!
WARN [2022-01-21 04:47:42] Allosome coverage missing, cannot determine sex.
WARN [2022-01-21 04:47:42] Allosome coverage missing, cannot determine sex.
WARN [2022-01-21 04:47:42] Allosome coverage missing, cannot determine sex.
INFO [2022-01-21 04:47:42] Processing on-target regions...
INFO [2022-01-21 04:47:43] Removing 978 intervals with low coverage in normalDB.
INFO [2022-01-21 04:47:43] Removing 11 intervals with zero coverage in more than 3% of normalDB.
FATAL [2022-01-21 04:47:48] tumor.coverage.file and normalDB do not align. 

FATAL [2022-01-21 04:47:48]  

FATAL [2022-01-21 04:47:48] This is most likely a user error due to invalid input data or 

FATAL [2022-01-21 04:47:48] parameters (PureCN 2.1.6). 

FATAL [2022-01-21 04:47:48] At least 2 normal.coverage.files required. 

FATAL [2022-01-21 04:47:48]  

FATAL [2022-01-21 04:47:48] This is most likely a user error due to invalid input data or 

FATAL [2022-01-21 04:47:48] parameters (PureCN 2.1.6). 

INFO [2022-01-21 04:47:55] ------------------------------------------------------------
INFO [2022-01-21 04:47:55] PureCN 2.1.6
INFO [2022-01-21 04:47:55] ------------------------------------------------------------
INFO [2022-01-21 04:47:55] Loading coverage files...
INFO [2022-01-21 04:47:56] Mean target coverages: 112X (tumor) 99X (normal).
WARN [2022-01-21 04:47:56] Allosome coverage missing, cannot determine sex.
WARN [2022-01-21 04:47:57] Allosome coverage missing, cannot determine sex.
INFO [2022-01-21 04:47:57] Removing 228 intervals with missing log.ratio.
FATAL [2022-01-21 04:47:57] normalDB incompatible with this PureCN version. Please re-run 

FATAL [2022-01-21 04:47:57] NormalDB.R. 

FATAL [2022-01-21 04:47:57]  

FATAL [2022-01-21 04:47:57] This is most likely a user error due to invalid input data or 

FATAL [2022-01-21 04:47:57] parameters (PureCN 2.1.6). 

FATAL [2022-01-21 04:47:57] normalDB incompatible with this PureCN version. Please re-run 

FATAL [2022-01-21 04:47:57] NormalDB.R. 

FATAL [2022-01-21 04:47:57]  

FATAL [2022-01-21 04:47:57] This is most likely a user error due to invalid input data or 

FATAL [2022-01-21 04:47:57] parameters (PureCN 2.1.6). 

FATAL [2022-01-21 04:47:57] normal.coverage.files with _coverage.txt and _loess.txt suffix 

FATAL [2022-01-21 04:47:57] provided. Provide either only GC-normalized or raw coverage files! 

FATAL [2022-01-21 04:47:57]  

FATAL [2022-01-21 04:47:57] This is most likely a user error due to invalid input data or 

FATAL [2022-01-21 04:47:57] parameters (PureCN 2.1.6). 

INFO [2022-01-21 04:47:58] Removing 22 non heterozygous (in matched normal) germline SNPs.
INFO [2022-01-21 04:47:58] Base quality scores range from 7 to 35 (offset by 1)
INFO [2022-01-21 04:47:58] Minimum number of supporting reads ranges from 1 to 41, depending on coverage and BQS.
INFO [2022-01-21 04:47:59] Initial testing for significant sample cross-contamination: unlikely
INFO [2022-01-21 04:47:59] Removing 49 variants with AF < 0.030 or AF >= 1.000 or insufficient supporting reads or depth < 15.
INFO [2022-01-21 04:47:59] Removing 15 low quality variants with non-offset BQ < 25.
INFO [2022-01-21 04:47:59] Removing 22 non heterozygous (in matched normal) germline SNPs.
INFO [2022-01-21 04:47:59] Base quality scores range from 7 to 35 (offset by 1)
INFO [2022-01-21 04:47:59] Minimum number of supporting reads ranges from 1 to 41, depending on coverage and BQS.
INFO [2022-01-21 04:48:00] Initial testing for significant sample cross-contamination: unlikely
INFO [2022-01-21 04:48:00] Removing 49 variants with AF < 0.030 or AF >= 1.000 or insufficient supporting reads or depth < 15.
INFO [2022-01-21 04:48:01] Removing 6 blacklisted variants.
INFO [2022-01-21 04:48:01] Removing 15 low quality variants with non-offset BQ < 25.
INFO [2022-01-21 04:48:01] Removing 22 non heterozygous (in matched normal) germline SNPs.
INFO [2022-01-21 04:48:01] Base quality scores range from 7 to 35 (offset by 1)
INFO [2022-01-21 04:48:01] Minimum number of supporting reads ranges from 1 to 41, depending on coverage and BQS.
INFO [2022-01-21 04:48:02] Initial testing for significant sample cross-contamination: unlikely
INFO [2022-01-21 04:48:02] Removing 49 variants with AF < 0.030 or AF >= 1.000 or insufficient supporting reads or depth < 15.
INFO [2022-01-21 04:48:02] Removing 15 low quality variants with non-offset BQ < 25.
WARN [2022-01-21 04:48:02] MuTect stats file lacks contig and position columns.
INFO [2022-01-21 04:48:02] Removing 22 non heterozygous (in matched normal) germline SNPs.
INFO [2022-01-21 04:48:03] Base quality scores range from 7 to 35 (offset by 1)
INFO [2022-01-21 04:48:03] Minimum number of supporting reads ranges from 1 to 41, depending on coverage and BQS.
INFO [2022-01-21 04:48:03] Initial testing for significant sample cross-contamination: unlikely
INFO [2022-01-21 04:48:04] Removing 49 variants with AF < 0.030 or AF >= 1.000 or insufficient supporting reads or depth < 15.
INFO [2022-01-21 04:48:04] Removing 15 low quality variants with non-offset BQ < 25.
WARN [2022-01-21 04:48:04] MuTect stats file and VCF file do not align perfectly. Will remove 2325 unmatched variants.
WARN [2022-01-21 04:48:04] MuTect stats file lacks failure_reasons column. Keeping all variants listed in stats file.
INFO [2022-01-21 04:48:04] Removing 0 non heterozygous (in matched normal) germline SNPs.
INFO [2022-01-21 04:48:04] Base quality scores range from 31 to 33 (offset by 1)
INFO [2022-01-21 04:48:04] Minimum number of supporting reads ranges from 3 to 4, depending on coverage and BQS.
INFO [2022-01-21 04:48:05] Removing 0 variants with AF < 0.030 or AF >= 1.000 or insufficient supporting reads or depth < 15.
INFO [2022-01-21 04:48:05] Removing 0 low quality variants with non-offset BQ < 25.
INFO [2022-01-21 04:48:05] Removing 22 non heterozygous (in matched normal) germline SNPs.
INFO [2022-01-21 04:48:05] Base quality scores range from 7 to 35 (offset by 1)
INFO [2022-01-21 04:48:05] Minimum number of supporting reads ranges from 1 to 41, depending on coverage and BQS.
INFO [2022-01-21 04:48:06] Initial testing for significant sample cross-contamination: unlikely
INFO [2022-01-21 04:48:06] Removing 49 variants with AF < 0.030 or AF >= 1.000 or insufficient supporting reads or depth < 15.
INFO [2022-01-21 04:48:06] Removing 22 non heterozygous (in matched normal) germline SNPs.
INFO [2022-01-21 04:48:06] Base quality scores range from 7 to 35 (offset by 1)
INFO [2022-01-21 04:48:07] Minimum number of supporting reads ranges from 1 to 41, depending on coverage and BQS.
INFO [2022-01-21 04:48:07] Initial testing for significant sample cross-contamination: unlikely
INFO [2022-01-21 04:48:08] Removing 49 variants with AF < 0.030 or AF >= 1.000 or insufficient supporting reads or depth < 15.
INFO [2022-01-21 04:48:08] Removing 22 non heterozygous (in matched normal) germline SNPs.
INFO [2022-01-21 04:48:08] Base quality scores range from 7 to 35 (offset by 1)
INFO [2022-01-21 04:48:08] Minimum number of supporting reads ranges from 1 to 41, depending on coverage and BQS.
INFO [2022-01-21 04:48:09] Initial testing for significant sample cross-contamination: unlikely
INFO [2022-01-21 04:48:09] Removing 49 variants with AF < 0.030 or AF >= 1.000 or insufficient supporting reads or depth < 15.
FATAL [2022-01-21 04:48:09] No variants passed filter BQ. 

FATAL [2022-01-21 04:48:09]  

FATAL [2022-01-21 04:48:09] This is most likely a user error due to invalid input data or 

FATAL [2022-01-21 04:48:09] parameters (PureCN 2.1.6). 

INFO [2022-01-21 04:48:10] Found 11 variants in VCF file.
WARN [2022-01-21 04:48:10] vcf.file has no DB info field for membership in germline databases. Found and used valid population allele frequency > 0.001000 instead.
INFO [2022-01-21 04:48:10] 1 (9.1%) variants annotated as likely germline (DB INFO flag).
INFO [2022-01-21 04:48:14] Found 11 variants in VCF file.
WARN [2022-01-21 04:48:14] vcf.file has no DB info field for membership in germline databases. Found and used valid population allele frequency > 0.001000 instead.
INFO [2022-01-21 04:48:15] 1 (9.1%) variants annotated as likely germline (DB INFO flag).
INFO [2022-01-21 04:48:16] Found 11 variants in VCF file.
WARN [2022-01-21 04:48:16] vcf.file has no DB or POP_AF info field for membership in germline databases. Guessing it based on available dbSNP ID.
INFO [2022-01-21 04:48:16] 1 (9.1%) variants annotated as likely germline (DB INFO flag).
INFO [2022-01-21 04:48:18] Found 1000 variants in VCF file.
INFO [2022-01-21 04:48:18] Removing 2 triallelic sites.
WARN [2022-01-21 04:48:18] Having trouble guessing SOMATIC status...
WARN [2022-01-21 04:48:18] DP FORMAT field contains NAs. Removing 44 variants.
INFO [2022-01-21 04:48:18] 954 (100.0%) variants annotated as likely germline (DB INFO flag).
INFO [2022-01-21 04:48:22] Found 12 variants in VCF file.
INFO [2022-01-21 04:48:22] Removing 1 triallelic sites.
WARN [2022-01-21 04:48:22] DP FORMAT field contains NAs. Removing 1 variants.
WARN [2022-01-21 04:48:22] vcf.file has no DB info field for membership in germline databases. Found and used somatic status instead.
INFO [2022-01-21 04:48:22] 8 (80.0%) variants annotated as likely germline (DB INFO flag).
WARN [2022-01-21 04:48:22] BQ FORMAT field contains NAs. Removing 1 variants.
INFO [2022-01-21 04:48:23] Found 2331 variants in VCF file.
INFO [2022-01-21 04:48:23] 2282 (97.9%) variants annotated as likely germline (DB INFO flag).
INFO [2022-01-21 04:48:24] Found 2331 variants in VCF file.
INFO [2022-01-21 04:48:25] 2282 (97.9%) variants annotated as likely germline (DB INFO flag).
WARN [2022-01-21 04:48:25] Did not find base quality scores, will use global error rate of 0.0010 instead.
INFO [2022-01-21 04:48:25] Base quality scores range from 7 to 35 (offset by 1)
INFO [2022-01-21 04:48:25] Initial testing for significant sample cross-contamination: unlikely
INFO [2022-01-21 04:48:26] Removing 99 variants with AF < 0.030 or AF >= 0.970 or insufficient supporting reads or depth < 15.
INFO [2022-01-21 04:48:26] Removing 11 low quality variants with non-offset BQ < 25.
WARN [2022-01-21 04:48:26] Allosome coverage missing, cannot determine sex.
WARN [2022-01-21 04:48:27] Allosome coverage missing, cannot determine sex.
INFO [2022-01-21 04:48:27] Mean coverages: chrX: 108.58, chrY: 108.58, chr1-22: 104.87.
INFO [2022-01-21 04:48:27] Mean coverages: chrX: 108.58, chrY: 2.17, chr1-22: 104.87.
INFO [2022-01-21 04:48:27] Mean coverages: chrX: 108.58, chrY: 5.17, chr1-22: 104.87.
INFO [2022-01-21 04:48:28] No homozygous variants in VCF, provide unfiltered VCF.
INFO [2022-01-21 04:48:28] No germline variants in VCF.
FATAL [2022-01-21 04:48:28] No solution with id hello 

FATAL [2022-01-21 04:48:28]  

FATAL [2022-01-21 04:48:28] This is most likely a user error due to invalid input data or 

FATAL [2022-01-21 04:48:28] parameters (PureCN 2.1.6). 

FATAL [2022-01-21 04:48:28] No solution with id 100 

FATAL [2022-01-21 04:48:28]  

FATAL [2022-01-21 04:48:28] This is most likely a user error due to invalid input data or 

FATAL [2022-01-21 04:48:28] parameters (PureCN 2.1.6). 

FATAL [2022-01-21 04:48:30] all.data and w have different lengths. 

FATAL [2022-01-21 04:48:30]  

FATAL [2022-01-21 04:48:30] This is most likely a user error due to invalid input data or 

FATAL [2022-01-21 04:48:30] parameters (PureCN 2.1.6). 

INFO [2022-01-21 04:48:32] Splitting 5 large targets to an average width of 400.
WARN [2022-01-21 04:48:32] No mappability scores provided.
WARN [2022-01-21 04:48:32] No reptiming scores provided.
INFO [2022-01-21 04:48:32] Calculating GC-content...
INFO [2022-01-21 04:48:32] Splitting 5 large targets to an average width of 400.
WARN [2022-01-21 04:48:32] No mappability scores provided.
WARN [2022-01-21 04:48:32] No reptiming scores provided.
INFO [2022-01-21 04:48:32] Calculating GC-content...
INFO [2022-01-21 04:48:33] Splitting 5 large targets to an average width of 400.
INFO [2022-01-21 04:48:33] Removing 1 targets overlapping with exclude.
WARN [2022-01-21 04:48:33] No mappability scores provided.
WARN [2022-01-21 04:48:33] No reptiming scores provided.
INFO [2022-01-21 04:48:33] Calculating GC-content...
WARN [2022-01-21 04:48:34] Found small target regions (< 100bp). Will resize them.
INFO [2022-01-21 04:48:34] Splitting 5 large targets to an average width of 400.
FATAL [2022-01-21 04:48:34] off.target.padding must be negative. 

FATAL [2022-01-21 04:48:34]  

FATAL [2022-01-21 04:48:34] This is most likely a user error due to invalid input data or 

FATAL [2022-01-21 04:48:34] parameters (PureCN 2.1.6). 

FATAL [2022-01-21 04:48:34] Interval coordinates should start at 1, not at 0 

FATAL [2022-01-21 04:48:34]  

FATAL [2022-01-21 04:48:34] This is most likely a user error due to invalid input data or 

FATAL [2022-01-21 04:48:34] parameters (PureCN 2.1.6). 

WARN [2022-01-21 04:48:35] Found small target regions (< 100bp). Will resize them.
INFO [2022-01-21 04:48:35] Splitting 5 large targets to an average width of 400.
FATAL [2022-01-21 04:48:35] No off-target regions after filtering for mappability and 

FATAL [2022-01-21 04:48:35] off.target.padding 

FATAL [2022-01-21 04:48:35]  

FATAL [2022-01-21 04:48:35] This is most likely a user error due to invalid input data or 

FATAL [2022-01-21 04:48:35] parameters (PureCN 2.1.6). 

WARN [2022-01-21 04:48:35] Found small target regions (< 100bp). Will resize them.
INFO [2022-01-21 04:48:36] Splitting 5 large targets to an average width of 400.
WARN [2022-01-21 04:48:36] No mappability scores provided.
INFO [2022-01-21 04:48:36] Calculating GC-content...
WARN [2022-01-21 04:48:36] Found small target regions (< 100bp). Will resize them.
INFO [2022-01-21 04:48:36] Averaging reptiming into bins of size 200...
INFO [2022-01-21 04:48:37] Splitting 5 large targets to an average width of 400.
WARN [2022-01-21 04:48:37] No mappability scores provided.
INFO [2022-01-21 04:48:37] Calculating GC-content...
WARN [2022-01-21 04:48:37] Found small target regions (< 100bp). Will resize them.
INFO [2022-01-21 04:48:37] Splitting 6 large targets to an average width of 200.
WARN [2022-01-21 04:48:37] No mappability scores provided.
WARN [2022-01-21 04:48:37] No reptiming scores provided.
INFO [2022-01-21 04:48:37] Calculating GC-content...
WARN [2022-01-21 04:48:38] Found small target regions (< 100bp). Will resize them.
INFO [2022-01-21 04:48:38] Splitting 5 large targets to an average width of 400.
WARN [2022-01-21 04:48:38] No mappability scores provided.
WARN [2022-01-21 04:48:38] No reptiming scores provided.
INFO [2022-01-21 04:48:38] Calculating GC-content...
INFO [2022-01-21 04:48:39] Splitting 5 large targets to an average width of 400.
INFO [2022-01-21 04:48:39] Tiling off-target regions to an average width of 200000.
WARN [2022-01-21 04:48:39] No mappability scores provided.
WARN [2022-01-21 04:48:39] No reptiming scores provided.
INFO [2022-01-21 04:48:39] Calculating GC-content...
WARN [2022-01-21 04:48:39] Intervals contain off-target regions. Will not change intervals.
WARN [2022-01-21 04:48:39] No mappability scores provided.
WARN [2022-01-21 04:48:39] No reptiming scores provided.
INFO [2022-01-21 04:48:39] Calculating GC-content...
INFO [2022-01-21 04:48:40] Splitting 5 large targets to an average width of 400.
WARN [2022-01-21 04:48:40] No reptiming scores provided.
INFO [2022-01-21 04:48:40] Calculating GC-content...
WARN [2022-01-21 04:48:40] Found small target regions (< 100bp). Will resize them.
INFO [2022-01-21 04:48:41] Splitting 5 large targets to an average width of 400.
WARN [2022-01-21 04:48:41] No reptiming scores provided.
INFO [2022-01-21 04:48:41] Calculating GC-content...
WARN [2022-01-21 04:48:43] Found small target regions (< 100bp). Will resize them.
INFO [2022-01-21 04:48:43] Splitting 5 large targets to an average width of 400.
WARN [2022-01-21 04:48:43] 1 intervals without mappability score (1 on-target).
INFO [2022-01-21 04:48:43] Removing 1 intervals with low mappability score (<0.60).
WARN [2022-01-21 04:48:43] No reptiming scores provided.
INFO [2022-01-21 04:48:43] Calculating GC-content...
WARN [2022-01-21 04:48:43] Found small target regions (< 100bp). Will resize them.
INFO [2022-01-21 04:48:44] Splitting 5 large targets to an average width of 400.
INFO [2022-01-21 04:48:44] Tiling off-target regions to an average width of 200000.
WARN [2022-01-21 04:48:44] No reptiming scores provided.
INFO [2022-01-21 04:48:44] Calculating GC-content...
INFO [2022-01-21 04:48:45] Splitting 5 large targets to an average width of 400.
WARN [2022-01-21 04:48:46] No mappability scores provided.
WARN [2022-01-21 04:48:46] No reptiming scores provided.
INFO [2022-01-21 04:48:46] Calculating GC-content...
WARN [2022-01-21 04:48:46] Chromosome naming style of interval file (Ensembl) was different from reference (UCSC).
INFO [2022-01-21 04:48:46] Splitting 5 large targets to an average width of 400.
WARN [2022-01-21 04:48:46] No mappability scores provided.
WARN [2022-01-21 04:48:46] No reptiming scores provided.
INFO [2022-01-21 04:48:46] Calculating GC-content...
FATAL [2022-01-21 04:48:46] Chromosome naming style of interval file unknown, should be UCSC. 

FATAL [2022-01-21 04:48:46]  

FATAL [2022-01-21 04:48:46] This is most likely a user error due to invalid input data or 

FATAL [2022-01-21 04:48:46] parameters (PureCN 2.1.6). 

WARN [2022-01-21 04:48:47] Chromosome naming style of interval file (Ensembl) was different from reference (UCSC).
WARN [2022-01-21 04:48:47] Chromosome naming style of mappability file (Ensembl) was different from reference (UCSC).
INFO [2022-01-21 04:48:47] Splitting 5 large targets to an average width of 400.
WARN [2022-01-21 04:48:47] No reptiming scores provided.
INFO [2022-01-21 04:48:47] Calculating GC-content...
WARN [2022-01-21 04:48:48] Found small target regions (< 60bp). Will resize them.
INFO [2022-01-21 04:48:48] Splitting 5 large targets to an average width of 400.
WARN [2022-01-21 04:48:48] No mappability scores provided.
WARN [2022-01-21 04:48:48] No reptiming scores provided.
INFO [2022-01-21 04:48:48] Calculating GC-content...
WARN [2022-01-21 04:48:48] Found small target regions (< 60bp). Will drop them.
INFO [2022-01-21 04:48:48] Splitting 4 large targets to an average width of 400.
WARN [2022-01-21 04:48:49] No mappability scores provided.
WARN [2022-01-21 04:48:49] No reptiming scores provided.
INFO [2022-01-21 04:48:49] Calculating GC-content...
WARN [2022-01-21 04:48:49] Found small target regions (< 200bp). Will resize them.
INFO [2022-01-21 04:48:49] Splitting 5 large targets to an average width of 400.
WARN [2022-01-21 04:48:49] No mappability scores provided.
WARN [2022-01-21 04:48:49] No reptiming scores provided.
INFO [2022-01-21 04:48:49] Calculating GC-content...
INFO [2022-01-21 04:48:50] 576 on-target bins with low coverage in all samples.
WARN [2022-01-21 04:48:50] You are likely not using the correct baits file!
WARN [2022-01-21 04:48:50] Allosome coverage missing, cannot determine sex.
WARN [2022-01-21 04:48:50] Allosome coverage missing, cannot determine sex.
INFO [2022-01-21 04:48:50] Processing on-target regions...
INFO [2022-01-21 04:48:52] Removing 930 intervals with low coverage in normalDB.
INFO [2022-01-21 04:48:52] Removing 1 intervals with zero coverage in more than 3% of normalDB.
INFO [2022-01-21 04:48:58] Interval weights found, but currently not supported by copynumber. Will simply exclude intervals with low weight.
multipcf finished for chromosome arm 1p 
multipcf finished for chromosome arm 1q 
multipcf finished for chromosome arm 2p 
multipcf finished for chromosome arm 2q 
multipcf finished for chromosome arm 3p 
multipcf finished for chromosome arm 3q 
multipcf finished for chromosome arm 4p 
multipcf finished for chromosome arm 4q 
multipcf finished for chromosome arm 5p 
multipcf finished for chromosome arm 5q 
multipcf finished for chromosome arm 6p 
multipcf finished for chromosome arm 6q 
multipcf finished for chromosome arm 7p 
multipcf finished for chromosome arm 7q 
multipcf finished for chromosome arm 8p 
multipcf finished for chromosome arm 8q 
multipcf finished for chromosome arm 9p 
multipcf finished for chromosome arm 9q 
multipcf finished for chromosome arm 10p 
multipcf finished for chromosome arm 10q 
multipcf finished for chromosome arm 11p 
multipcf finished for chromosome arm 11q 
multipcf finished for chromosome arm 12p 
multipcf finished for chromosome arm 12q 
multipcf finished for chromosome arm 13q 
multipcf finished for chromosome arm 14q 
multipcf finished for chromosome arm 15q 
multipcf finished for chromosome arm 16p 
multipcf finished for chromosome arm 16q 
multipcf finished for chromosome arm 17p 
multipcf finished for chromosome arm 17q 
multipcf finished for chromosome arm 18p 
multipcf finished for chromosome arm 18q 
multipcf finished for chromosome arm 19p 
multipcf finished for chromosome arm 19q 
multipcf finished for chromosome arm 20p 
multipcf finished for chromosome arm 20q 
multipcf finished for chromosome arm 21q 
multipcf finished for chromosome arm 22q 
INFO [2022-01-21 04:49:02] Interval weights found, but currently not supported by copynumber. Will simply exclude intervals with low weight.
multipcf finished for chromosome arm 1p 
multipcf finished for chromosome arm 1q 
multipcf finished for chromosome arm 2p 
multipcf finished for chromosome arm 2q 
multipcf finished for chromosome arm 3p 
multipcf finished for chromosome arm 3q 
multipcf finished for chromosome arm 4p 
multipcf finished for chromosome arm 4q 
multipcf finished for chromosome arm 5p 
multipcf finished for chromosome arm 5q 
multipcf finished for chromosome arm 6p 
multipcf finished for chromosome arm 6q 
multipcf finished for chromosome arm 7p 
multipcf finished for chromosome arm 7q 
multipcf finished for chromosome arm 8p 
multipcf finished for chromosome arm 8q 
multipcf finished for chromosome arm 9p 
multipcf finished for chromosome arm 9q 
multipcf finished for chromosome arm 10p 
multipcf finished for chromosome arm 10q 
multipcf finished for chromosome arm 11p 
multipcf finished for chromosome arm 11q 
multipcf finished for chromosome arm 12p 
multipcf finished for chromosome arm 12q 
multipcf finished for chromosome arm 13q 
multipcf finished for chromosome arm 14q 
multipcf finished for chromosome arm 15q 
multipcf finished for chromosome arm 16p 
multipcf finished for chromosome arm 16q 
multipcf finished for chromosome arm 17p 
multipcf finished for chromosome arm 17q 
multipcf finished for chromosome arm 18p 
multipcf finished for chromosome arm 18q 
multipcf finished for chromosome arm 19p 
multipcf finished for chromosome arm 19q 
multipcf finished for chromosome arm 20p 
multipcf finished for chromosome arm 20q 
multipcf finished for chromosome arm 21q 
multipcf finished for chromosome arm 22q 
INFO [2022-01-21 04:49:04] ------------------------------------------------------------
INFO [2022-01-21 04:49:04] PureCN 2.1.6
INFO [2022-01-21 04:49:04] ------------------------------------------------------------
INFO [2022-01-21 04:49:04] Loading coverage files...
INFO [2022-01-21 04:49:05] seg.file and normal.coverage.file provided. Using both.
INFO [2022-01-21 04:49:05] Mean target coverages: 112X (tumor) 105X (normal).
WARN [2022-01-21 04:49:05] Allosome coverage missing, cannot determine sex.
WARN [2022-01-21 04:49:05] Allosome coverage missing, cannot determine sex.
INFO [2022-01-21 04:49:05] Removing 199 intervals with missing log.ratio.
INFO [2022-01-21 04:49:05] Using 9850 intervals (9850 on-target, 0 off-target).
INFO [2022-01-21 04:49:05] No off-target intervals. If this is hybrid-capture data, consider adding them.
INFO [2022-01-21 04:49:05] Loading VCF...
INFO [2022-01-21 04:49:05] Found 127 variants in VCF file.
INFO [2022-01-21 04:49:06] 127 (100.0%) variants annotated as likely germline (DB INFO flag).
INFO [2022-01-21 04:49:06] LIB-02240e4 is tumor in VCF file.
INFO [2022-01-21 04:49:06] No homozygous variants in VCF, provide unfiltered VCF.
INFO [2022-01-21 04:49:06] Removing 1 non heterozygous (in matched normal) germline SNPs.
INFO [2022-01-21 04:49:06] Base quality scores range from 29 to 35 (offset by 1)
INFO [2022-01-21 04:49:06] Minimum number of supporting reads ranges from 2 to 5, depending on coverage and BQS.
INFO [2022-01-21 04:49:07] Removing 1 variants with AF < 0.030 or AF >= 1.000 or insufficient supporting reads or depth < 15.
INFO [2022-01-21 04:49:07] Removing 0 low quality variants with non-offset BQ < 25.
INFO [2022-01-21 04:49:07] Total size of targeted genomic region: 1.68Mb (2.66Mb with 50bp padding).
INFO [2022-01-21 04:49:07] 1.0% of targets contain variants.
INFO [2022-01-21 04:49:07] Removing 0 variants outside intervals.
INFO [2022-01-21 04:49:07] Found SOMATIC annotation in VCF.
INFO [2022-01-21 04:49:08] Setting somatic prior probabilities for somatic variants to 0.999000 or to 0.000100 otherwise.
INFO [2022-01-21 04:49:08] Found SOMATIC annotation in VCF. Setting mapping bias to 0.976.
INFO [2022-01-21 04:49:08] Excluding 0 novel or poor quality variants from segmentation.
INFO [2022-01-21 04:49:08] Sample sex: ?
INFO [2022-01-21 04:49:08] Segmenting data...
INFO [2022-01-21 04:49:08] Loaded provided segmentation file file11c143600678c.seg (format DNAcopy).
INFO [2022-01-21 04:49:08] Re-centering provided segment means (offset 0.0110).
INFO [2022-01-21 04:49:08] Setting prune.hclust.h parameter to 0.200000.
INFO [2022-01-21 04:49:08] Found 59 segments with median size of 30.15Mb.
INFO [2022-01-21 04:49:08] Using 125 variants.
INFO [2022-01-21 04:49:09] Mean standard deviation of log-ratios: 0.34 (MAPD: 0.29)
INFO [2022-01-21 04:49:09] 2D-grid search of purity and ploidy...
INFO [2022-01-21 04:49:10] Local optima: 0.6/1.9
INFO [2022-01-21 04:49:10] Testing local optimum 1/1 at purity 0.60 and total ploidy 1.90...
INFO [2022-01-21 04:49:13] Fitting variants with beta model for local optimum 1/1...
INFO [2022-01-21 04:49:13] Fitting variants for purity 0.60, tumor ploidy 1.76 and contamination 0.01.
INFO [2022-01-21 04:49:18] Fitting variants for purity 0.40, tumor ploidy 1.76 and contamination 0.01.
INFO [2022-01-21 04:49:24] Fitting variants for purity 0.45, tumor ploidy 1.76 and contamination 0.01.
INFO [2022-01-21 04:49:30] Fitting variants for purity 0.50, tumor ploidy 1.76 and contamination 0.01.
INFO [2022-01-21 04:49:36] Fitting variants for purity 0.55, tumor ploidy 1.76 and contamination 0.01.
INFO [2022-01-21 04:49:42] Fitting variants for purity 0.65, tumor ploidy 1.76 and contamination 0.01.
INFO [2022-01-21 04:49:48] Fitting variants for purity 0.70, tumor ploidy 1.76 and contamination 0.01.
INFO [2022-01-21 04:49:54] Optimized purity: 0.65
INFO [2022-01-21 04:49:54] Done.
INFO [2022-01-21 04:49:54] ------------------------------------------------------------
INFO [2022-01-21 04:49:56] Interval weights found, but currently not supported by copynumber. Will simply exclude intervals with low weight.
FATAL [2022-01-21 04:49:56] Cannot find centromeres for hg20. Provide them manually or select a 

FATAL [2022-01-21 04:49:56] supported genome. 

FATAL [2022-01-21 04:49:56]  

FATAL [2022-01-21 04:49:56] This is most likely a user error due to invalid input data or 

FATAL [2022-01-21 04:49:56] parameters (PureCN 2.1.6). 

INFO [2022-01-21 04:49:57] Found 20 variants in VCF file.
INFO [2022-01-21 04:49:57] 20 (100.0%) variants annotated as likely germline (DB INFO flag).
WARN [2022-01-21 04:49:58] Did not find base quality scores, will use global error rate of 0.0010 instead.
INFO [2022-01-21 04:50:00] Found 127 variants in VCF file.
INFO [2022-01-21 04:50:00] 127 (100.0%) variants annotated as likely germline (DB INFO flag).
WARN [2022-01-21 04:50:00] Did not find base quality scores, will use global error rate of 0.0010 instead.
INFO [2022-01-21 04:50:00] ------------------------------------------------------------
INFO [2022-01-21 04:50:00] PureCN 2.1.6
INFO [2022-01-21 04:50:00] ------------------------------------------------------------
INFO [2022-01-21 04:50:00] Loading coverage files...
INFO [2022-01-21 04:50:01] Mean target coverages: 112X (tumor) 99X (normal).
WARN [2022-01-21 04:50:01] Allosome coverage missing, cannot determine sex.
WARN [2022-01-21 04:50:01] Allosome coverage missing, cannot determine sex.
INFO [2022-01-21 04:50:01] Removing 228 intervals with missing log.ratio.
INFO [2022-01-21 04:50:01] Removing 22 small (< 5bp) intervals.
INFO [2022-01-21 04:50:01] Removing 19 intervals with low total coverage in normal (< 150.00 reads).
WARN [2022-01-21 04:50:01] No normalDB provided. Provide one for better results.
INFO [2022-01-21 04:50:01] Removing 1724 low count (< 100 total reads) intervals.
INFO [2022-01-21 04:50:02] Removing 6 low coverage (< 15.0000X) intervals.
INFO [2022-01-21 04:50:02] Using 8050 intervals (8050 on-target, 0 off-target).
INFO [2022-01-21 04:50:02] No off-target intervals. If this is hybrid-capture data, consider adding them.
INFO [2022-01-21 04:50:02] No interval.file provided. Cannot check for any GC-biases.
INFO [2022-01-21 04:50:02] Loading VCF...
INFO [2022-01-21 04:50:02] Found 127 variants in VCF file.
INFO [2022-01-21 04:50:02] 127 (100.0%) variants annotated as likely germline (DB INFO flag).
INFO [2022-01-21 04:50:02] LIB-02240e4 is tumor in VCF file.
INFO [2022-01-21 04:50:02] No homozygous variants in VCF, provide unfiltered VCF.
INFO [2022-01-21 04:50:02] Removing 1 non heterozygous (in matched normal) germline SNPs.
INFO [2022-01-21 04:50:02] Base quality scores range from 29 to 35 (offset by 1)
INFO [2022-01-21 04:50:02] Minimum number of supporting reads ranges from 2 to 5, depending on coverage and BQS.
INFO [2022-01-21 04:50:04] Removing 1 variants with AF < 0.030 or AF >= 1.000 or insufficient supporting reads or depth < 15.
INFO [2022-01-21 04:50:04] Removing 0 low quality variants with non-offset BQ < 25.
INFO [2022-01-21 04:50:04] Total size of targeted genomic region: 1.53Mb (2.33Mb with 50bp padding).
INFO [2022-01-21 04:50:05] 1.2% of targets contain variants.
INFO [2022-01-21 04:50:05] Removing 4 variants outside intervals.
INFO [2022-01-21 04:50:05] Found SOMATIC annotation in VCF.
INFO [2022-01-21 04:50:05] Setting somatic prior probabilities for somatic variants to 0.999000 or to 0.000100 otherwise.
INFO [2022-01-21 04:50:05] Found SOMATIC annotation in VCF. Setting mapping bias to 0.972.
INFO [2022-01-21 04:50:05] Excluding 0 novel or poor quality variants from segmentation.
INFO [2022-01-21 04:50:05] Sample sex: ?
INFO [2022-01-21 04:50:05] Segmenting data...
INFO [2022-01-21 04:50:06] Loading pre-computed boundaries for DNAcopy...
INFO [2022-01-21 04:50:06] Setting undo.SD parameter to 1.000000.
INFO [2022-01-21 04:50:07] Setting prune.hclust.h parameter to 0.200000.
INFO [2022-01-21 04:50:08] Found 59 segments with median size of 17.67Mb.
INFO [2022-01-21 04:50:08] Using 121 variants.
INFO [2022-01-21 04:50:08] Mean standard deviation of log-ratios: 0.34 (MAPD: 0.30)
INFO [2022-01-21 04:50:08] 2D-grid search of purity and ploidy...
INFO [2022-01-21 04:50:08] Local optima: 0.65/1.8, 0.52/2
INFO [2022-01-21 04:50:08] Testing local optimum 1/2 at purity 0.65 and total ploidy 1.80...
INFO [2022-01-21 04:50:10] Testing local optimum 2/2 at purity 0.52 and total ploidy 2.00...
INFO [2022-01-21 04:50:12] Skipping 1 solutions that converged to the same optima.
INFO [2022-01-21 04:50:12] Fitting variants with beta model for local optimum 1/2...
INFO [2022-01-21 04:50:12] Fitting variants for purity 0.65, tumor ploidy 1.75 and contamination 0.01.
INFO [2022-01-21 04:50:17] Optimized purity: 0.65
INFO [2022-01-21 04:50:17] Done.
INFO [2022-01-21 04:50:17] ------------------------------------------------------------
FATAL [2022-01-21 04:50:20] log.ratio NULL in .writeLogRatioFileGATK4 

FATAL [2022-01-21 04:50:20]  

FATAL [2022-01-21 04:50:20] This runtime error might be caused by invalid input data or parameters. 

FATAL [2022-01-21 04:50:20] Please report bug (PureCN 2.1.6). 

INFO [2022-01-21 04:50:20] Loaded provided segmentation file example_seg.txt (format DNAcopy).
INFO [2022-01-21 04:50:20] Re-centering provided segment means (offset -0.0033).
INFO [2022-01-21 04:50:20] Loaded provided segmentation file example_gatk4_modelfinal.seg.gz (format GATK4).
WARN [2022-01-21 04:50:20] Expecting numeric chromosome names in seg.file, assuming file is properly sorted.
INFO [2022-01-21 04:50:20] Re-centering provided segment means (offset -0.0037).
INFO [2022-01-21 04:50:22] 576 on-target bins with low coverage in all samples.
WARN [2022-01-21 04:50:22] You are likely not using the correct baits file!
WARN [2022-01-21 04:50:22] Allosome coverage missing, cannot determine sex.
WARN [2022-01-21 04:50:22] Allosome coverage missing, cannot determine sex.
INFO [2022-01-21 04:50:22] Processing on-target regions...
INFO [2022-01-21 04:50:23] Removing 930 intervals with low coverage in normalDB.
INFO [2022-01-21 04:50:23] Removing 1 intervals with zero coverage in more than 3% of normalDB.
INFO [2022-01-21 04:50:27] ------------------------------------------------------------
INFO [2022-01-21 04:50:27] PureCN 2.1.6
INFO [2022-01-21 04:50:27] ------------------------------------------------------------
INFO [2022-01-21 04:50:27] Using BiocParallel for parallel optimization.
INFO [2022-01-21 04:50:27] Loading coverage files...
INFO [2022-01-21 04:50:28] Mean target coverages: 112X (tumor) 99X (normal).
WARN [2022-01-21 04:50:28] Allosome coverage missing, cannot determine sex.
WARN [2022-01-21 04:50:28] Allosome coverage missing, cannot determine sex.
INFO [2022-01-21 04:50:28] Removing 228 intervals with missing log.ratio.
INFO [2022-01-21 04:50:28] Removing 705 intervals excluded in normalDB.
INFO [2022-01-21 04:50:28] normalDB provided. Setting minimum coverage for segmentation to 0.0015X.
INFO [2022-01-21 04:50:28] Removing 1066 low count (< 100 total reads) intervals.
INFO [2022-01-21 04:50:28] Using 8050 intervals (8050 on-target, 0 off-target).
INFO [2022-01-21 04:50:28] No off-target intervals. If this is hybrid-capture data, consider adding them.
INFO [2022-01-21 04:50:28] No interval.file provided. Cannot check for any GC-biases.
INFO [2022-01-21 04:50:28] Sample sex: ?
INFO [2022-01-21 04:50:28] Segmenting data...
INFO [2022-01-21 04:50:28] Interval weights found, will use weighted CBS.
INFO [2022-01-21 04:50:28] Loading pre-computed boundaries for DNAcopy...
INFO [2022-01-21 04:50:28] Setting undo.SD parameter to 1.000000.
Setting multi-figure configuration
INFO [2022-01-21 04:50:31] Found 54 segments with median size of 23.50Mb.
INFO [2022-01-21 04:50:31] Mean standard deviation of log-ratios: 0.34 (MAPD: 0.30)
INFO [2022-01-21 04:50:31] 2D-grid search of purity and ploidy...
INFO [2022-01-21 04:50:31] Local optima: 0.65/1.8, 0.52/2
INFO [2022-01-21 04:50:35] Skipping 1 solutions that converged to the same optima.
INFO [2022-01-21 04:50:35] Done.
INFO [2022-01-21 04:50:35] ------------------------------------------------------------
INFO [2022-01-21 04:50:35] Reading /tmp/Rtmpa1rsno/file11c14523c126e.rds...
FATAL [2022-01-21 04:50:35] runAbsoluteCN was run without a VCF file. 

FATAL [2022-01-21 04:50:35]  

FATAL [2022-01-21 04:50:35] This is most likely a user error due to invalid input data or 

FATAL [2022-01-21 04:50:35] parameters (PureCN 2.1.6). 

FATAL [2022-01-21 04:50:35] runAbsoluteCN was run without a VCF file. 

FATAL [2022-01-21 04:50:35]  

FATAL [2022-01-21 04:50:35] This is most likely a user error due to invalid input data or 

FATAL [2022-01-21 04:50:35] parameters (PureCN 2.1.6). 

INFO [2022-01-21 04:50:35] ------------------------------------------------------------
INFO [2022-01-21 04:50:35] PureCN 2.1.6
INFO [2022-01-21 04:50:35] ------------------------------------------------------------
INFO [2022-01-21 04:50:35] Loading coverage files...
INFO [2022-01-21 04:50:36] Mean target coverages: 112X (tumor) 99X (normal).
WARN [2022-01-21 04:50:36] Allosome coverage missing, cannot determine sex.
WARN [2022-01-21 04:50:36] Allosome coverage missing, cannot determine sex.
INFO [2022-01-21 04:50:36] Removing 228 intervals with missing log.ratio.
INFO [2022-01-21 04:50:36] Removing 705 intervals excluded in normalDB.
INFO [2022-01-21 04:50:36] normalDB provided. Setting minimum coverage for segmentation to 0.0015X.
INFO [2022-01-21 04:50:36] Removing 1066 low count (< 100 total reads) intervals.
INFO [2022-01-21 04:50:36] Using 8050 intervals (8050 on-target, 0 off-target).
INFO [2022-01-21 04:50:36] No off-target intervals. If this is hybrid-capture data, consider adding them.
INFO [2022-01-21 04:50:37] No interval.file provided. Cannot check for any GC-biases.
INFO [2022-01-21 04:50:37] Sample sex: ?
INFO [2022-01-21 04:50:37] Segmenting data...
INFO [2022-01-21 04:50:37] Interval weights found, will use weighted PSCBS.
FATAL [2022-01-21 04:50:37] segmentationPSCBS requires VCF file. 

FATAL [2022-01-21 04:50:37]  

FATAL [2022-01-21 04:50:37] This is most likely a user error due to invalid input data or 

FATAL [2022-01-21 04:50:37] parameters (PureCN 2.1.6). 

INFO [2022-01-21 04:50:49] ------------------------------------------------------------
INFO [2022-01-21 04:50:49] PureCN 2.1.6
INFO [2022-01-21 04:50:49] ------------------------------------------------------------
INFO [2022-01-21 04:50:49] Loading coverage files...
FATAL [2022-01-21 04:50:50] Need a normal coverage file if log.ratio and seg.file are not provided. 

FATAL [2022-01-21 04:50:50]  

FATAL [2022-01-21 04:50:50] This is most likely a user error due to invalid input data or 

FATAL [2022-01-21 04:50:50] parameters (PureCN 2.1.6). 

INFO [2022-01-21 04:50:50] ------------------------------------------------------------
INFO [2022-01-21 04:50:50] PureCN 2.1.6
INFO [2022-01-21 04:50:50] ------------------------------------------------------------
FATAL [2022-01-21 04:50:50] min.ploidy or max.ploidy not within expected range. 

FATAL [2022-01-21 04:50:50]  

FATAL [2022-01-21 04:50:50] This is most likely a user error due to invalid input data or 

FATAL [2022-01-21 04:50:50] parameters (PureCN 2.1.6). 

INFO [2022-01-21 04:50:50] ------------------------------------------------------------
INFO [2022-01-21 04:50:50] PureCN 2.1.6
INFO [2022-01-21 04:50:50] ------------------------------------------------------------
FATAL [2022-01-21 04:50:50] min.ploidy or max.ploidy not within expected range. 

FATAL [2022-01-21 04:50:50]  

FATAL [2022-01-21 04:50:50] This is most likely a user error due to invalid input data or 

FATAL [2022-01-21 04:50:50] parameters (PureCN 2.1.6). 

INFO [2022-01-21 04:50:50] ------------------------------------------------------------
INFO [2022-01-21 04:50:50] PureCN 2.1.6
INFO [2022-01-21 04:50:50] ------------------------------------------------------------
INFO [2022-01-21 04:50:50] ------------------------------------------------------------
INFO [2022-01-21 04:50:50] PureCN 2.1.6
INFO [2022-01-21 04:50:50] ------------------------------------------------------------
INFO [2022-01-21 04:50:50] ------------------------------------------------------------
INFO [2022-01-21 04:50:50] PureCN 2.1.6
INFO [2022-01-21 04:50:50] ------------------------------------------------------------
FATAL [2022-01-21 04:50:50] test.num.copy not within expected range. 

FATAL [2022-01-21 04:50:50]  

FATAL [2022-01-21 04:50:50] This is most likely a user error due to invalid input data or 

FATAL [2022-01-21 04:50:50] parameters (PureCN 2.1.6). 

INFO [2022-01-21 04:50:50] ------------------------------------------------------------
INFO [2022-01-21 04:50:50] PureCN 2.1.6
INFO [2022-01-21 04:50:50] ------------------------------------------------------------
WARN [2022-01-21 04:50:50] test.num.copy outside recommended range.
FATAL [2022-01-21 04:50:50] max.non.clonal not within expected range or format. 

FATAL [2022-01-21 04:50:50]  

FATAL [2022-01-21 04:50:50] This is most likely a user error due to invalid input data or 

FATAL [2022-01-21 04:50:50] parameters (PureCN 2.1.6). 

INFO [2022-01-21 04:50:50] ------------------------------------------------------------
INFO [2022-01-21 04:50:50] PureCN 2.1.6
INFO [2022-01-21 04:50:50] ------------------------------------------------------------
WARN [2022-01-21 04:50:50] test.num.copy outside recommended range.
FATAL [2022-01-21 04:50:50] max.non.clonal not within expected range or format. 

FATAL [2022-01-21 04:50:50]  

FATAL [2022-01-21 04:50:50] This is most likely a user error due to invalid input data or 

FATAL [2022-01-21 04:50:50] parameters (PureCN 2.1.6). 

INFO [2022-01-21 04:50:50] ------------------------------------------------------------
INFO [2022-01-21 04:50:50] PureCN 2.1.6
INFO [2022-01-21 04:50:50] ------------------------------------------------------------
FATAL [2022-01-21 04:50:50] test.purity not within expected range. 

FATAL [2022-01-21 04:50:50]  

FATAL [2022-01-21 04:50:50] This is most likely a user error due to invalid input data or 

FATAL [2022-01-21 04:50:50] parameters (PureCN 2.1.6). 

INFO [2022-01-21 04:50:50] ------------------------------------------------------------
INFO [2022-01-21 04:50:50] PureCN 2.1.6
INFO [2022-01-21 04:50:50] ------------------------------------------------------------
INFO [2022-01-21 04:50:50] Loading coverage files...
FATAL [2022-01-21 04:50:51] Tumor and normal are identical. This won't give any meaningful results 

FATAL [2022-01-21 04:50:51] and I'm stopping here. 

FATAL [2022-01-21 04:50:51]  

FATAL [2022-01-21 04:50:51] This is most likely a user error due to invalid input data or 

FATAL [2022-01-21 04:50:51] parameters (PureCN 2.1.6). 

INFO [2022-01-21 04:50:51] ------------------------------------------------------------
INFO [2022-01-21 04:50:51] PureCN 2.1.6
INFO [2022-01-21 04:50:51] ------------------------------------------------------------
INFO [2022-01-21 04:50:51] Loading coverage files...
FATAL [2022-01-21 04:50:51] Length of log.ratio different from tumor coverage. 

FATAL [2022-01-21 04:50:51]  

FATAL [2022-01-21 04:50:51] This is most likely a user error due to invalid input data or 

FATAL [2022-01-21 04:50:51] parameters (PureCN 2.1.6). 

INFO [2022-01-21 04:50:51] ------------------------------------------------------------
INFO [2022-01-21 04:50:51] PureCN 2.1.6
INFO [2022-01-21 04:50:51] ------------------------------------------------------------
FATAL [2022-01-21 04:50:51] prior.purity must have the same length as test.purity. 

FATAL [2022-01-21 04:50:51]  

FATAL [2022-01-21 04:50:51] This is most likely a user error due to invalid input data or 

FATAL [2022-01-21 04:50:51] parameters (PureCN 2.1.6). 

INFO [2022-01-21 04:50:51] ------------------------------------------------------------
INFO [2022-01-21 04:50:51] PureCN 2.1.6
INFO [2022-01-21 04:50:51] ------------------------------------------------------------
FATAL [2022-01-21 04:50:51] min.gof not within expected range or format. 

FATAL [2022-01-21 04:50:51]  

FATAL [2022-01-21 04:50:51] This is most likely a user error due to invalid input data or 

FATAL [2022-01-21 04:50:51] parameters (PureCN 2.1.6). 

INFO [2022-01-21 04:50:51] ------------------------------------------------------------
INFO [2022-01-21 04:50:51] PureCN 2.1.6
INFO [2022-01-21 04:50:51] ------------------------------------------------------------
FATAL [2022-01-21 04:50:51] prior.purity not within expected range or format. 

FATAL [2022-01-21 04:50:51]  

FATAL [2022-01-21 04:50:51] This is most likely a user error due to invalid input data or 

FATAL [2022-01-21 04:50:51] parameters (PureCN 2.1.6). 

INFO [2022-01-21 04:50:51] ------------------------------------------------------------
INFO [2022-01-21 04:50:51] PureCN 2.1.6
INFO [2022-01-21 04:50:51] ------------------------------------------------------------
FATAL [2022-01-21 04:50:51] prior.purity must add to 1. Sum is 1.5 

FATAL [2022-01-21 04:50:51]  

FATAL [2022-01-21 04:50:51] This is most likely a user error due to invalid input data or 

FATAL [2022-01-21 04:50:51] parameters (PureCN 2.1.6). 

INFO [2022-01-21 04:50:51] ------------------------------------------------------------
INFO [2022-01-21 04:50:51] PureCN 2.1.6
INFO [2022-01-21 04:50:52] ------------------------------------------------------------
FATAL [2022-01-21 04:50:52] max.homozygous.loss not within expected range or format. 

FATAL [2022-01-21 04:50:52]  

FATAL [2022-01-21 04:50:52] This is most likely a user error due to invalid input data or 

FATAL [2022-01-21 04:50:52] parameters (PureCN 2.1.6). 

INFO [2022-01-21 04:50:52] ------------------------------------------------------------
INFO [2022-01-21 04:50:52] PureCN 2.1.6
INFO [2022-01-21 04:50:52] ------------------------------------------------------------
FATAL [2022-01-21 04:50:52] prior.K not within expected range or format. 

FATAL [2022-01-21 04:50:52]  

FATAL [2022-01-21 04:50:52] This is most likely a user error due to invalid input data or 

FATAL [2022-01-21 04:50:52] parameters (PureCN 2.1.6). 

INFO [2022-01-21 04:50:52] ------------------------------------------------------------
INFO [2022-01-21 04:50:52] PureCN 2.1.6
INFO [2022-01-21 04:50:52] ------------------------------------------------------------
FATAL [2022-01-21 04:50:52] prior.contamination not within expected range or format. 

FATAL [2022-01-21 04:50:52]  

FATAL [2022-01-21 04:50:52] This is most likely a user error due to invalid input data or 

FATAL [2022-01-21 04:50:52] parameters (PureCN 2.1.6). 

INFO [2022-01-21 04:50:52] ------------------------------------------------------------
INFO [2022-01-21 04:50:52] PureCN 2.1.6
INFO [2022-01-21 04:50:52] ------------------------------------------------------------
FATAL [2022-01-21 04:50:52] Iterations not in the expected range from 10 to 250. 

FATAL [2022-01-21 04:50:52]  

FATAL [2022-01-21 04:50:52] This is most likely a user error due to invalid input data or 

FATAL [2022-01-21 04:50:52] parameters (PureCN 2.1.6). 

INFO [2022-01-21 04:50:52] ------------------------------------------------------------
INFO [2022-01-21 04:50:52] PureCN 2.1.6
INFO [2022-01-21 04:50:52] ------------------------------------------------------------
FATAL [2022-01-21 04:50:52] Iterations not in the expected range from 10 to 250. 

FATAL [2022-01-21 04:50:52]  

FATAL [2022-01-21 04:50:52] This is most likely a user error due to invalid input data or 

FATAL [2022-01-21 04:50:52] parameters (PureCN 2.1.6). 

INFO [2022-01-21 04:50:52] ------------------------------------------------------------
INFO [2022-01-21 04:50:52] PureCN 2.1.6
INFO [2022-01-21 04:50:52] ------------------------------------------------------------
INFO [2022-01-21 04:50:52] Loading coverage files...
FATAL [2022-01-21 04:50:52] Missing tumor.coverage.file requires seg.file or log.ratio and 

FATAL [2022-01-21 04:50:52] interval.file. 

FATAL [2022-01-21 04:50:52]  

FATAL [2022-01-21 04:50:52] This is most likely a user error due to invalid input data or 

FATAL [2022-01-21 04:50:52] parameters (PureCN 2.1.6). 

INFO [2022-01-21 04:50:52] ------------------------------------------------------------
INFO [2022-01-21 04:50:52] PureCN 2.1.6
INFO [2022-01-21 04:50:52] ------------------------------------------------------------
INFO [2022-01-21 04:50:53] ------------------------------------------------------------
INFO [2022-01-21 04:50:53] PureCN 2.1.6
INFO [2022-01-21 04:50:53] ------------------------------------------------------------
INFO [2022-01-21 04:50:53] Loading coverage files...
FATAL [2022-01-21 04:50:53] Interval files in normal and tumor different. 

FATAL [2022-01-21 04:50:53]  

FATAL [2022-01-21 04:50:53] This is most likely a user error due to invalid input data or 

FATAL [2022-01-21 04:50:53] parameters (PureCN 2.1.6). 

INFO [2022-01-21 04:50:53] ------------------------------------------------------------
INFO [2022-01-21 04:50:53] PureCN 2.1.6
INFO [2022-01-21 04:50:53] ------------------------------------------------------------
INFO [2022-01-21 04:50:53] Loading coverage files...
INFO [2022-01-21 04:50:54] Mean target coverages: 0X (tumor) 99X (normal).
WARN [2022-01-21 04:50:54] Large difference in coverage of tumor and normal.
FATAL [2022-01-21 04:50:54] No finite intervals. 

FATAL [2022-01-21 04:50:54]  

FATAL [2022-01-21 04:50:54] This is most likely a user error due to invalid input data or 

FATAL [2022-01-21 04:50:54] parameters (PureCN 2.1.6). 

INFO [2022-01-21 04:50:54] ------------------------------------------------------------
INFO [2022-01-21 04:50:54] PureCN 2.1.6
INFO [2022-01-21 04:50:54] ------------------------------------------------------------
INFO [2022-01-21 04:50:54] Loading coverage files...
INFO [2022-01-21 04:50:55] Mean target coverages: 112X (tumor) 99X (normal).
WARN [2022-01-21 04:50:55] Allosome coverage missing, cannot determine sex.
WARN [2022-01-21 04:50:55] Allosome coverage missing, cannot determine sex.
INFO [2022-01-21 04:50:55] Removing 228 intervals with missing log.ratio.
INFO [2022-01-21 04:50:55] Removing 22 small (< 5bp) intervals.
INFO [2022-01-21 04:50:55] Removing 19 intervals with low total coverage in normal (< 150.00 reads).
WARN [2022-01-21 04:50:55] No normalDB provided. Provide one for better results.
INFO [2022-01-21 04:50:55] Removing 1724 low count (< 100 total reads) intervals.
INFO [2022-01-21 04:50:55] Removing 6 low coverage (< 15.0000X) intervals.
INFO [2022-01-21 04:50:55] Using 8050 intervals (8050 on-target, 0 off-target).
INFO [2022-01-21 04:50:55] No off-target intervals. If this is hybrid-capture data, consider adding them.
INFO [2022-01-21 04:50:55] No interval.file provided. Cannot check for any GC-biases.
INFO [2022-01-21 04:50:55] Loading VCF...
INFO [2022-01-21 04:50:56] Found 127 variants in VCF file.
INFO [2022-01-21 04:50:56] 127 (100.0%) variants annotated as likely germline (DB INFO flag).
INFO [2022-01-21 04:50:56] LIB-02240e4 is tumor in VCF file.
INFO [2022-01-21 04:50:56] No homozygous variants in VCF, provide unfiltered VCF.
INFO [2022-01-21 04:50:56] Removing 1 non heterozygous (in matched normal) germline SNPs.
INFO [2022-01-21 04:50:56] Base quality scores range from 29 to 35 (offset by 1)
INFO [2022-01-21 04:50:56] Minimum number of supporting reads ranges from 2 to 5, depending on coverage and BQS.
INFO [2022-01-21 04:50:57] Removing 1 variants with AF < 0.030 or AF >= 1.000 or insufficient supporting reads or depth < 15.
Error in h(simpleError(msg, call)) : 
  error in evaluating the argument 'con' in selecting a method for function 'import': Format 'txt' unsupported
In addition: Warning messages:
1: In match.arg(method) :
  closing unused connection 5 (/tmp/Rtmpa1rsno/file11c1464ef8f6a.tsv)
2: In match.arg(method) :
  closing unused connection 4 (/Library/Frameworks/R.framework/Versions/4.2/Resources/library/PureCN/extdata/example_gatk4_denoised_cr.tsv.gz)
FATAL [2022-01-21 04:50:57] Could not import snp.blacklist 

FATAL [2022-01-21 04:50:57] /Library/Frameworks/R.framework/Versions/4.2/Resources/library/PureCN/extdata/example_normal.txt:Error 

FATAL [2022-01-21 04:50:57] in h(simpleError(msg, call)) : error in evaluating the argument 'con' 

FATAL [2022-01-21 04:50:57] in selecting a method for function 'import': Format 'txt' unsupported 

FATAL [2022-01-21 04:50:57]  

FATAL [2022-01-21 04:50:57] This is most likely a user error due to invalid input data or 

FATAL [2022-01-21 04:50:57] parameters (PureCN 2.1.6). 

INFO [2022-01-21 04:50:57] ------------------------------------------------------------
INFO [2022-01-21 04:50:57] PureCN 2.1.6
INFO [2022-01-21 04:50:57] ------------------------------------------------------------
INFO [2022-01-21 04:50:57] Loading coverage files...
INFO [2022-01-21 04:50:58] Mean target coverages: 112X (tumor) 99X (normal).
WARN [2022-01-21 04:50:58] Allosome coverage missing, cannot determine sex.
WARN [2022-01-21 04:50:58] Allosome coverage missing, cannot determine sex.
INFO [2022-01-21 04:50:58] Removing 228 intervals with missing log.ratio.
INFO [2022-01-21 04:50:58] Removing 22 small (< 5bp) intervals.
INFO [2022-01-21 04:50:58] Removing 19 intervals with low total coverage in normal (< 150.00 reads).
WARN [2022-01-21 04:50:58] No normalDB provided. Provide one for better results.
INFO [2022-01-21 04:50:58] Removing 233 low coverage (< 15.0000X) intervals.
INFO [2022-01-21 04:50:58] Using 9547 intervals (9547 on-target, 0 off-target).
INFO [2022-01-21 04:50:58] No off-target intervals. If this is hybrid-capture data, consider adding them.
INFO [2022-01-21 04:50:58] No interval.file provided. Cannot check for any GC-biases.
INFO [2022-01-21 04:50:58] Loading VCF...
INFO [2022-01-21 04:50:59] Found 127 variants in VCF file.
INFO [2022-01-21 04:50:59] 127 (100.0%) variants annotated as likely germline (DB INFO flag).
INFO [2022-01-21 04:50:59] LIB-02240e4 is tumor in VCF file.
INFO [2022-01-21 04:50:59] No homozygous variants in VCF, provide unfiltered VCF.
INFO [2022-01-21 04:51:00] Removing 1 non heterozygous (in matched normal) germline SNPs.
INFO [2022-01-21 04:51:00] Base quality scores range from 29 to 35 (offset by 1)
INFO [2022-01-21 04:51:00] Minimum number of supporting reads ranges from 2 to 5, depending on coverage and BQS.
INFO [2022-01-21 04:51:00] Removing 1 variants with AF < 0.030 or AF >= 1.000 or insufficient supporting reads or depth < 15.
INFO [2022-01-21 04:51:00] Removing 0 low quality variants with non-offset BQ < 25.
INFO [2022-01-21 04:51:00] Total size of targeted genomic region: 1.63Mb (2.58Mb with 50bp padding).
INFO [2022-01-21 04:51:01] 1.0% of targets contain variants.
INFO [2022-01-21 04:51:01] Removing 2 variants outside intervals.
INFO [2022-01-21 04:51:01] Found SOMATIC annotation in VCF.
INFO [2022-01-21 04:51:01] Setting somatic prior probabilities for somatic variants to 0.999000 or to 0.000100 otherwise.
INFO [2022-01-21 04:51:01] Found SOMATIC annotation in VCF. Setting mapping bias to 0.973.
INFO [2022-01-21 04:51:02] Excluding 0 novel or poor quality variants from segmentation.
INFO [2022-01-21 04:51:02] Sample sex: ?
INFO [2022-01-21 04:51:02] Segmenting data...
INFO [2022-01-21 04:51:02] Loading pre-computed boundaries for DNAcopy...
INFO [2022-01-21 04:51:02] Setting undo.SD parameter to 1.000000.
INFO [2022-01-21 04:51:03] Setting prune.hclust.h parameter to 0.200000.
INFO [2022-01-21 04:51:03] Found 54 segments with median size of 24.88Mb.
INFO [2022-01-21 04:51:04] Using 123 variants.
INFO [2022-01-21 04:51:04] Mean standard deviation of log-ratios: 0.37 (MAPD: 0.32)
INFO [2022-01-21 04:51:04] 2D-grid search of purity and ploidy...
INFO [2022-01-21 04:51:06] Local optima: 0.62/1.9, 0.3/1.9, 0.32/2
INFO [2022-01-21 04:51:06] Testing local optimum 1/3 at purity 0.62 and total ploidy 1.90...
INFO [2022-01-21 04:51:08] Testing local optimum 2/3 at purity 0.30 and total ploidy 1.90...
INFO [2022-01-21 04:51:08] Recalibrating log-ratios...
INFO [2022-01-21 04:51:08] Testing local optimum 2/3 at purity 0.30 and total ploidy 1.90...
INFO [2022-01-21 04:51:09] Recalibrating log-ratios...
INFO [2022-01-21 04:51:09] Testing local optimum 2/3 at purity 0.30 and total ploidy 1.90...
INFO [2022-01-21 04:51:10] Recalibrating log-ratios...
INFO [2022-01-21 04:51:10] Testing local optimum 2/3 at purity 0.30 and total ploidy 1.90...
INFO [2022-01-21 04:51:11] Testing local optimum 3/3 at purity 0.32 and total ploidy 2.00...
INFO [2022-01-21 04:51:11] Recalibrating log-ratios...
INFO [2022-01-21 04:51:11] Testing local optimum 3/3 at purity 0.32 and total ploidy 2.00...
INFO [2022-01-21 04:51:12] Recalibrating log-ratios...
INFO [2022-01-21 04:51:12] Testing local optimum 3/3 at purity 0.32 and total ploidy 2.00...
INFO [2022-01-21 04:51:12] Recalibrating log-ratios...
INFO [2022-01-21 04:51:12] Testing local optimum 3/3 at purity 0.32 and total ploidy 2.00...
INFO [2022-01-21 04:51:13] Skipping 1 solutions that converged to the same optima.
INFO [2022-01-21 04:51:13] Skipping 1 solutions exceeding max.non.clonal (0.20): 0.3/1.9 (purity/tumor ploidy)
INFO [2022-01-21 04:51:13] Fitting variants with beta model for local optimum 1/3...
INFO [2022-01-21 04:51:13] Fitting variants for purity 0.65, tumor ploidy 1.74 and contamination 0.01.
INFO [2022-01-21 04:51:18] Optimized purity: 0.65
INFO [2022-01-21 04:51:18] Done.
INFO [2022-01-21 04:51:18] ------------------------------------------------------------
INFO [2022-01-21 04:51:19] ------------------------------------------------------------
INFO [2022-01-21 04:51:19] PureCN 2.1.6
INFO [2022-01-21 04:51:19] ------------------------------------------------------------
INFO [2022-01-21 04:51:19] Loading coverage files...
INFO [2022-01-21 04:51:20] Mean target coverages: 112X (tumor) 99X (normal).
WARN [2022-01-21 04:51:20] Allosome coverage missing, cannot determine sex.
WARN [2022-01-21 04:51:20] Allosome coverage missing, cannot determine sex.
INFO [2022-01-21 04:51:20] Removing 228 intervals with missing log.ratio.
INFO [2022-01-21 04:51:20] Removing 22 small (< 5bp) intervals.
INFO [2022-01-21 04:51:20] Removing 19 intervals with low total coverage in normal (< 150.00 reads).
WARN [2022-01-21 04:51:20] No normalDB provided. Provide one for better results.
INFO [2022-01-21 04:51:20] Removing 1724 low count (< 100 total reads) intervals.
INFO [2022-01-21 04:51:20] Removing 6 low coverage (< 15.0000X) intervals.
INFO [2022-01-21 04:51:20] Using 8050 intervals (8050 on-target, 0 off-target).
INFO [2022-01-21 04:51:20] No off-target intervals. If this is hybrid-capture data, consider adding them.
INFO [2022-01-21 04:51:20] No interval.file provided. Cannot check for any GC-biases.
INFO [2022-01-21 04:51:20] Loading VCF...
INFO [2022-01-21 04:51:20] Found 127 variants in VCF file.
WARN [2022-01-21 04:51:20] DP FORMAT field contains NAs. Removing 3 variants.
WARN [2022-01-21 04:51:21] DB INFO flag contains NAs
INFO [2022-01-21 04:51:21] 119 (96.0%) variants annotated as likely germline (DB INFO flag).
INFO [2022-01-21 04:51:21] LIB-02240e4 is tumor in VCF file.
INFO [2022-01-21 04:51:21] No homozygous variants in VCF, provide unfiltered VCF.
INFO [2022-01-21 04:51:21] Base quality scores range from 29 to 35 (offset by 1)
INFO [2022-01-21 04:51:21] Minimum number of supporting reads ranges from 2 to 5, depending on coverage and BQS.
INFO [2022-01-21 04:51:22] Removing 1 variants with AF < 0.030 or AF >= 0.970 or insufficient supporting reads or depth < 15.
INFO [2022-01-21 04:51:22] Removing 0 low quality variants with non-offset BQ < 25.
INFO [2022-01-21 04:51:22] Total size of targeted genomic region: 1.53Mb (2.33Mb with 50bp padding).
INFO [2022-01-21 04:51:22] 1.2% of targets contain variants.
INFO [2022-01-21 04:51:22] Setting somatic prior probabilities for dbSNP hits to 0.000500 or to 0.500000 otherwise.
INFO [2022-01-21 04:51:23] Excluding 5 novel or poor quality variants from segmentation.
INFO [2022-01-21 04:51:23] Sample sex: ?
INFO [2022-01-21 04:51:23] Segmenting data...
INFO [2022-01-21 04:51:23] Loading pre-computed boundaries for DNAcopy...
INFO [2022-01-21 04:51:23] Setting undo.SD parameter to 1.000000.
Setting multi-figure configuration
INFO [2022-01-21 04:51:25] Setting prune.hclust.h parameter to 0.200000.
INFO [2022-01-21 04:51:25] Found 59 segments with median size of 17.67Mb.
INFO [2022-01-21 04:51:25] Using 123 variants.
INFO [2022-01-21 04:51:25] Mean standard deviation of log-ratios: 0.34 (MAPD: 0.30)
INFO [2022-01-21 04:51:25] 2D-grid search of purity and ploidy...
INFO [2022-01-21 04:51:27] Local optima: 0.62/1.9, 0.3/1.9, 0.32/2
INFO [2022-01-21 04:51:27] Testing local optimum 1/3 at purity 0.62 and total ploidy 1.90...
INFO [2022-01-21 04:51:29] Testing local optimum 2/3 at purity 0.30 and total ploidy 1.90...
INFO [2022-01-21 04:51:29] Recalibrating log-ratios...
INFO [2022-01-21 04:51:29] Testing local optimum 2/3 at purity 0.30 and total ploidy 1.90...
INFO [2022-01-21 04:51:30] Recalibrating log-ratios...
INFO [2022-01-21 04:51:30] Testing local optimum 2/3 at purity 0.30 and total ploidy 1.90...
INFO [2022-01-21 04:51:30] Recalibrating log-ratios...
INFO [2022-01-21 04:51:30] Testing local optimum 2/3 at purity 0.30 and total ploidy 1.90...
INFO [2022-01-21 04:51:31] Testing local optimum 3/3 at purity 0.32 and total ploidy 2.00...
INFO [2022-01-21 04:51:32] Recalibrating log-ratios...
INFO [2022-01-21 04:51:32] Testing local optimum 3/3 at purity 0.32 and total ploidy 2.00...
INFO [2022-01-21 04:51:32] Recalibrating log-ratios...
INFO [2022-01-21 04:51:32] Testing local optimum 3/3 at purity 0.32 and total ploidy 2.00...
INFO [2022-01-21 04:51:33] Recalibrating log-ratios...
INFO [2022-01-21 04:51:33] Testing local optimum 3/3 at purity 0.32 and total ploidy 2.00...
INFO [2022-01-21 04:51:34] Skipping 2 solutions exceeding max.non.clonal (0.20): 0.3/1.9, 0.35/1.61 (purity/tumor ploidy)
INFO [2022-01-21 04:51:34] Fitting variants with beta model for local optimum 1/3...
INFO [2022-01-21 04:51:34] Fitting variants for purity 0.65, tumor ploidy 1.75 and contamination 0.01.
INFO [2022-01-21 04:51:39] Optimized purity: 0.65
INFO [2022-01-21 04:51:39] Done.
INFO [2022-01-21 04:51:39] ------------------------------------------------------------
INFO [2022-01-21 04:51:39] ------------------------------------------------------------
INFO [2022-01-21 04:51:39] PureCN 2.1.6
INFO [2022-01-21 04:51:39] ------------------------------------------------------------
INFO [2022-01-21 04:51:39] Loading coverage files...
INFO [2022-01-21 04:51:40] Mean target coverages: 112X (tumor) 99X (normal).
WARN [2022-01-21 04:51:40] Allosome coverage missing, cannot determine sex.
WARN [2022-01-21 04:51:40] Allosome coverage missing, cannot determine sex.
INFO [2022-01-21 04:51:41] No Gene column in interval.file. You won't get gene-level calls.
INFO [2022-01-21 04:51:42] Removing 228 intervals with missing log.ratio.
INFO [2022-01-21 04:51:42] Removing 15 low/high GC targets.
INFO [2022-01-21 04:51:42] Removing 21 small (< 5bp) intervals.
INFO [2022-01-21 04:51:42] Removing 19 intervals with low total coverage in normal (< 150.00 reads).
WARN [2022-01-21 04:51:42] No normalDB provided. Provide one for better results.
INFO [2022-01-21 04:51:42] Removing 1718 low count (< 100 total reads) intervals.
INFO [2022-01-21 04:51:42] Removing 6 low coverage (< 15.0000X) intervals.
INFO [2022-01-21 04:51:42] Removing 36 low mappability intervals.
INFO [2022-01-21 04:51:42] Using 8006 intervals (8006 on-target, 0 off-target).
INFO [2022-01-21 04:51:42] No off-target intervals. If this is hybrid-capture data, consider adding them.
INFO [2022-01-21 04:51:42] AT/GC dropout: 1.01 (tumor), 1.03 (normal), 0.98 (coverage log-ratio). 
INFO [2022-01-21 04:51:42] Loading VCF...
INFO [2022-01-21 04:51:42] Found 127 variants in VCF file.
INFO [2022-01-21 04:51:43] 127 (100.0%) variants annotated as likely germline (DB INFO flag).
INFO [2022-01-21 04:51:43] LIB-02240e4 is tumor in VCF file.
INFO [2022-01-21 04:51:43] No homozygous variants in VCF, provide unfiltered VCF.
INFO [2022-01-21 04:51:43] Removing 1 non heterozygous (in matched normal) germline SNPs.
INFO [2022-01-21 04:51:43] Base quality scores range from 29 to 35 (offset by 1)
INFO [2022-01-21 04:51:43] Minimum number of supporting reads ranges from 2 to 5, depending on coverage and BQS.
INFO [2022-01-21 04:51:44] Removing 1 variants with AF < 0.030 or AF >= Inf or insufficient supporting reads or depth < 15.
INFO [2022-01-21 04:51:44] Removing 0 low quality variants with non-offset BQ < 25.
INFO [2022-01-21 04:51:44] Total size of targeted genomic region: 1.51Mb (2.31Mb with 50bp padding).
INFO [2022-01-21 04:51:45] 1.2% of targets contain variants.
INFO [2022-01-21 04:51:45] Removing 11 variants outside intervals.
INFO [2022-01-21 04:51:45] Found SOMATIC annotation in VCF.
INFO [2022-01-21 04:51:45] Setting somatic prior probabilities for somatic variants to 0.999000 or to 0.000100 otherwise.
INFO [2022-01-21 04:51:45] Found SOMATIC annotation in VCF. Setting mapping bias to 0.970.
INFO [2022-01-21 04:51:45] Excluding 0 novel or poor quality variants from segmentation.
INFO [2022-01-21 04:51:45] Sample sex: ?
INFO [2022-01-21 04:51:45] Segmenting data...
INFO [2022-01-21 04:51:45] MAPD of 114 allelic fractions: 0.14 (0.15 adjusted).
INFO [2022-01-21 04:51:46] Using unweighted PSCBS.
INFO [2022-01-21 04:51:46] Setting undo.SD parameter to 1.000000.
INFO [2022-01-21 04:52:18] Setting prune.hclust.h parameter to 0.200000.
INFO [2022-01-21 04:52:18] Found 72 segments with median size of 27.25Mb.
INFO [2022-01-21 04:52:18] Using 114 variants.
INFO [2022-01-21 04:52:18] Mean standard deviation of log-ratios: 0.34 (MAPD: 0.30)
INFO [2022-01-21 04:52:18] 2D-grid search of purity and ploidy...
INFO [2022-01-21 04:52:18] Local optima: 0.65/1.8, 0.38/2.2
INFO [2022-01-21 04:52:18] Testing local optimum 1/2 at purity 0.65 and total ploidy 1.80...
INFO [2022-01-21 04:52:19] Recalibrating log-ratios...
INFO [2022-01-21 04:52:19] Testing local optimum 1/2 at purity 0.65 and total ploidy 1.80...
INFO [2022-01-21 04:52:20] Recalibrating log-ratios...
INFO [2022-01-21 04:52:20] Testing local optimum 1/2 at purity 0.65 and total ploidy 1.80...
INFO [2022-01-21 04:52:21] Recalibrating log-ratios...
INFO [2022-01-21 04:52:21] Testing local optimum 1/2 at purity 0.65 and total ploidy 1.80...
INFO [2022-01-21 04:52:21] Testing local optimum 2/2 at purity 0.38 and total ploidy 2.20...
INFO [2022-01-21 04:52:25] Skipping 1 solutions exceeding max.non.clonal (0.20): 0.65/2.04 (purity/tumor ploidy)
INFO [2022-01-21 04:52:25] Fitting variants with beta model for local optimum 2/2...
INFO [2022-01-21 04:52:25] Fitting variants for purity 0.40, tumor ploidy 2.55 and contamination 0.01.
INFO [2022-01-21 04:52:30] Optimized purity: 0.40
INFO [2022-01-21 04:52:30] Done.
INFO [2022-01-21 04:52:31] ------------------------------------------------------------
FATAL [2022-01-21 04:52:31] This function requires gene-level calls. Please add a column 'Gene' 

FATAL [2022-01-21 04:52:31] containing gene symbols to the interval.file. 

FATAL [2022-01-21 04:52:31]  

FATAL [2022-01-21 04:52:31] This is most likely a user error due to invalid input data or 

FATAL [2022-01-21 04:52:31] parameters (PureCN 2.1.6). 

INFO [2022-01-21 04:52:33] ------------------------------------------------------------
INFO [2022-01-21 04:52:33] PureCN 2.1.6
INFO [2022-01-21 04:52:33] ------------------------------------------------------------
INFO [2022-01-21 04:52:33] Loading coverage files...
INFO [2022-01-21 04:52:34] Mean target coverages: 112X (tumor) 99X (normal).
WARN [2022-01-21 04:52:34] Allosome coverage missing, cannot determine sex.
WARN [2022-01-21 04:52:34] Allosome coverage missing, cannot determine sex.
INFO [2022-01-21 04:52:34] Removing 228 intervals with missing log.ratio.
INFO [2022-01-21 04:52:34] Removing 22 small (< 5bp) intervals.
INFO [2022-01-21 04:52:34] Removing 19 intervals with low total coverage in normal (< 150.00 reads).
WARN [2022-01-21 04:52:34] No normalDB provided. Provide one for better results.
INFO [2022-01-21 04:52:34] Removing 1724 low count (< 100 total reads) intervals.
INFO [2022-01-21 04:52:34] Removing 6 low coverage (< 15.0000X) intervals.
INFO [2022-01-21 04:52:34] Using 8050 intervals (8050 on-target, 0 off-target).
INFO [2022-01-21 04:52:34] No off-target intervals. If this is hybrid-capture data, consider adding them.
INFO [2022-01-21 04:52:34] No interval.file provided. Cannot check for any GC-biases.
INFO [2022-01-21 04:52:34] Loading VCF...
INFO [2022-01-21 04:52:35] Found 127 variants in VCF file.
INFO [2022-01-21 04:52:35] 127 (100.0%) variants annotated as likely germline (DB INFO flag).
FATAL [2022-01-21 04:52:35] Different chromosome names in coverage and VCF. 

FATAL [2022-01-21 04:52:35]  

FATAL [2022-01-21 04:52:35] This is most likely a user error due to invalid input data or 

FATAL [2022-01-21 04:52:35] parameters (PureCN 2.1.6). 

INFO [2022-01-21 04:52:35] ------------------------------------------------------------
INFO [2022-01-21 04:52:35] PureCN 2.1.6
INFO [2022-01-21 04:52:35] ------------------------------------------------------------
INFO [2022-01-21 04:52:35] Loading coverage files...
INFO [2022-01-21 04:52:35] Mean target coverages: 112X (tumor) 99X (normal).
WARN [2022-01-21 04:52:35] Allosome coverage missing, cannot determine sex.
WARN [2022-01-21 04:52:35] Allosome coverage missing, cannot determine sex.
FATAL [2022-01-21 04:52:36] tumor.coverage.file and interval.file do not align. 

FATAL [2022-01-21 04:52:36]  

FATAL [2022-01-21 04:52:36] This is most likely a user error due to invalid input data or 

FATAL [2022-01-21 04:52:36] parameters (PureCN 2.1.6). 

INFO [2022-01-21 04:52:36] ------------------------------------------------------------
INFO [2022-01-21 04:52:36] PureCN 2.1.6
INFO [2022-01-21 04:52:36] ------------------------------------------------------------
INFO [2022-01-21 04:52:36] Loading coverage files...
INFO [2022-01-21 04:52:36] Mean target coverages: 112X (tumor) 99X (normal).
WARN [2022-01-21 04:52:37] Allosome coverage missing, cannot determine sex.
WARN [2022-01-21 04:52:37] Allosome coverage missing, cannot determine sex.
INFO [2022-01-21 04:52:39] Removing 228 intervals with missing log.ratio.
INFO [2022-01-21 04:52:39] Removing 15 low/high GC targets.
INFO [2022-01-21 04:52:39] Removing 21 small (< 5bp) intervals.
INFO [2022-01-21 04:52:39] Removing 19 intervals with low total coverage in normal (< 150.00 reads).
WARN [2022-01-21 04:52:39] No normalDB provided. Provide one for better results.
INFO [2022-01-21 04:52:39] Removing 1718 low count (< 100 total reads) intervals.
INFO [2022-01-21 04:52:39] Removing 6 low coverage (< 15.0000X) intervals.
INFO [2022-01-21 04:52:39] Removing 36 low mappability intervals.
INFO [2022-01-21 04:52:39] Using 8006 intervals (8006 on-target, 0 off-target).
INFO [2022-01-21 04:52:39] No off-target intervals. If this is hybrid-capture data, consider adding them.
INFO [2022-01-21 04:52:39] AT/GC dropout: 1.01 (tumor), 1.03 (normal), 0.98 (coverage log-ratio). 
INFO [2022-01-21 04:52:39] Loading VCF...
INFO [2022-01-21 04:52:39] Found 127 variants in VCF file.
INFO [2022-01-21 04:52:40] 127 (100.0%) variants annotated as likely germline (DB INFO flag).
INFO [2022-01-21 04:52:40] LIB-02240e4 is tumor in VCF file.
INFO [2022-01-21 04:52:40] No homozygous variants in VCF, provide unfiltered VCF.
INFO [2022-01-21 04:52:40] Removing 1 non heterozygous (in matched normal) germline SNPs.
INFO [2022-01-21 04:52:40] Base quality scores range from 29 to 35 (offset by 1)
INFO [2022-01-21 04:52:40] Minimum number of supporting reads ranges from 2 to 5, depending on coverage and BQS.
INFO [2022-01-21 04:52:41] Removing 1 variants with AF < 0.030 or AF >= 1.000 or insufficient supporting reads or depth < 15.
INFO [2022-01-21 04:52:41] Removing 0 low quality variants with non-offset BQ < 25.
INFO [2022-01-21 04:52:41] Total size of targeted genomic region: 1.51Mb (2.31Mb with 50bp padding).
INFO [2022-01-21 04:52:42] 1.2% of targets contain variants.
INFO [2022-01-21 04:52:42] Removing 11 variants outside intervals.
INFO [2022-01-21 04:52:42] Found SOMATIC annotation in VCF.
INFO [2022-01-21 04:52:42] Setting somatic prior probabilities for somatic variants to 0.999000 or to 0.000100 otherwise.
INFO [2022-01-21 04:52:42] Found SOMATIC annotation in VCF. Setting mapping bias to 0.970.
INFO [2022-01-21 04:52:42] Excluding 0 novel or poor quality variants from segmentation.
INFO [2022-01-21 04:52:42] Sample sex: ?
INFO [2022-01-21 04:52:42] Segmenting data...
INFO [2022-01-21 04:52:42] Loading pre-computed boundaries for DNAcopy...
INFO [2022-01-21 04:52:42] Setting undo.SD parameter to 1.000000.
INFO [2022-01-21 04:52:44] Setting prune.hclust.h parameter to 0.200000.
INFO [2022-01-21 04:52:44] Found 59 segments with median size of 17.67Mb.
INFO [2022-01-21 04:52:44] Using 114 variants.
INFO [2022-01-21 04:52:44] Mean standard deviation of log-ratios: 0.34 (MAPD: 0.30)
INFO [2022-01-21 04:52:45] 2D-grid search of purity and ploidy...
INFO [2022-01-21 04:52:46] Local optima: 0.63/1.9
INFO [2022-01-21 04:52:46] Testing local optimum 1/1 at purity 0.63 and total ploidy 1.90...
INFO [2022-01-21 04:52:48] Fitting variants with beta model for local optimum 1/1...
INFO [2022-01-21 04:52:48] Fitting variants for purity 0.65, tumor ploidy 1.75 and contamination 0.01.
INFO [2022-01-21 04:52:53] Optimized purity: 0.65
INFO [2022-01-21 04:52:53] Done.
INFO [2022-01-21 04:52:54] ------------------------------------------------------------
INFO [2022-01-21 04:52:54] ------------------------------------------------------------
INFO [2022-01-21 04:52:54] PureCN 2.1.6
INFO [2022-01-21 04:52:54] ------------------------------------------------------------
INFO [2022-01-21 04:52:54] Loading coverage files...
INFO [2022-01-21 04:52:54] Mean target coverages: 112X (tumor) 99X (normal).
WARN [2022-01-21 04:52:54] Allosome coverage missing, cannot determine sex.
WARN [2022-01-21 04:52:54] Allosome coverage missing, cannot determine sex.
INFO [2022-01-21 04:52:56] Removing 228 intervals with missing log.ratio.
INFO [2022-01-21 04:52:56] Removing 15 low/high GC targets.
INFO [2022-01-21 04:52:56] Removing 21 small (< 5bp) intervals.
INFO [2022-01-21 04:52:56] Removing 19 intervals with low total coverage in normal (< 150.00 reads).
WARN [2022-01-21 04:52:56] No normalDB provided. Provide one for better results.
INFO [2022-01-21 04:52:56] Removing 1718 low count (< 100 total reads) intervals.
INFO [2022-01-21 04:52:56] Removing 6 low coverage (< 15.0000X) intervals.
INFO [2022-01-21 04:52:56] Removing 36 low mappability intervals.
INFO [2022-01-21 04:52:56] Using 8006 intervals (8006 on-target, 0 off-target).
INFO [2022-01-21 04:52:56] No off-target intervals. If this is hybrid-capture data, consider adding them.
INFO [2022-01-21 04:52:56] AT/GC dropout: 1.01 (tumor), 1.03 (normal), 0.98 (coverage log-ratio). 
INFO [2022-01-21 04:52:56] Loading VCF...
INFO [2022-01-21 04:52:57] Found 127 variants in VCF file.
INFO [2022-01-21 04:52:57] 127 (100.0%) variants annotated as likely germline (DB INFO flag).
INFO [2022-01-21 04:52:57] LIB-02240e4 is tumor in VCF file.
INFO [2022-01-21 04:52:57] No homozygous variants in VCF, provide unfiltered VCF.
INFO [2022-01-21 04:52:57] Removing 1 non heterozygous (in matched normal) germline SNPs.
INFO [2022-01-21 04:52:57] Base quality scores range from 29 to 35 (offset by 1)
INFO [2022-01-21 04:52:57] Minimum number of supporting reads ranges from 2 to 5, depending on coverage and BQS.
INFO [2022-01-21 04:52:58] Removing 1 variants with AF < 0.030 or AF >= 1.000 or insufficient supporting reads or depth < 15.
INFO [2022-01-21 04:52:58] Removing 0 low quality variants with non-offset BQ < 25.
INFO [2022-01-21 04:52:58] Total size of targeted genomic region: 1.51Mb (2.31Mb with 50bp padding).
INFO [2022-01-21 04:52:59] 1.2% of targets contain variants.
INFO [2022-01-21 04:52:59] Removing 11 variants outside intervals.
INFO [2022-01-21 04:52:59] Found SOMATIC annotation in VCF.
INFO [2022-01-21 04:52:59] Setting somatic prior probabilities for somatic variants to 0.999000 or to 0.000100 otherwise.
INFO [2022-01-21 04:52:59] Found SOMATIC annotation in VCF. Setting mapping bias to 0.970.
INFO [2022-01-21 04:52:59] Excluding 0 novel or poor quality variants from segmentation.
INFO [2022-01-21 04:52:59] Sample sex: ?
INFO [2022-01-21 04:52:59] Segmenting data...
INFO [2022-01-21 04:53:00] Loading pre-computed boundaries for DNAcopy...
INFO [2022-01-21 04:53:00] Setting undo.SD parameter to 1.000000.
INFO [2022-01-21 04:53:01] Setting prune.hclust.h parameter to 0.200000.
INFO [2022-01-21 04:53:01] Found 59 segments with median size of 17.67Mb.
INFO [2022-01-21 04:53:02] Using 114 variants.
INFO [2022-01-21 04:53:02] Mean standard deviation of log-ratios: 0.34 (MAPD: 0.30)
INFO [2022-01-21 04:53:02] 2D-grid search of purity and ploidy...
INFO [2022-01-21 04:53:03] Local optima: 0.63/1.9
INFO [2022-01-21 04:53:03] Testing local optimum 1/1 at purity 0.63 and total ploidy 1.90...
INFO [2022-01-21 04:53:05] Fitting variants with beta model for local optimum 1/1...
INFO [2022-01-21 04:53:05] Fitting variants for purity 0.65, tumor ploidy 1.75 and contamination 0.01.
INFO [2022-01-21 04:53:10] Optimized purity: 0.65
INFO [2022-01-21 04:53:10] Done.
INFO [2022-01-21 04:53:10] ------------------------------------------------------------
FATAL [2022-01-21 04:53:11] chr1 not valid chromosome name(s). Valid names are: 

FATAL [2022-01-21 04:53:11] 1,2,3,4,5,6,7,8,9,10,11,12,13,14,15,16,17,18,19,20,21,22 

FATAL [2022-01-21 04:53:11]  

FATAL [2022-01-21 04:53:11] This is most likely a user error due to invalid input data or 

FATAL [2022-01-21 04:53:11] parameters (PureCN 2.1.6). 

INFO [2022-01-21 04:53:11] ------------------------------------------------------------
INFO [2022-01-21 04:53:11] PureCN 2.1.6
INFO [2022-01-21 04:53:11] ------------------------------------------------------------
INFO [2022-01-21 04:53:11] Loading coverage files...
WARN [2022-01-21 04:53:11] Provided sampleid (Sample2) does not match Sample1 found in segmentation.
WARN [2022-01-21 04:53:11] Allosome coverage missing, cannot determine sex.
WARN [2022-01-21 04:53:11] Allosome coverage missing, cannot determine sex.
INFO [2022-01-21 04:53:11] Removing 10 intervals with missing log.ratio.
INFO [2022-01-21 04:53:11] Using 10039 intervals (10039 on-target, 0 off-target).
INFO [2022-01-21 04:53:11] No off-target intervals. If this is hybrid-capture data, consider adding them.
INFO [2022-01-21 04:53:11] Loading VCF...
INFO [2022-01-21 04:53:12] Found 127 variants in VCF file.
INFO [2022-01-21 04:53:12] 127 (100.0%) variants annotated as likely germline (DB INFO flag).
INFO [2022-01-21 04:53:12] LIB-02240e4 is tumor in VCF file.
INFO [2022-01-21 04:53:12] No homozygous variants in VCF, provide unfiltered VCF.
INFO [2022-01-21 04:53:12] Removing 1 non heterozygous (in matched normal) germline SNPs.
INFO [2022-01-21 04:53:12] Base quality scores range from 29 to 35 (offset by 1)
INFO [2022-01-21 04:53:12] Minimum number of supporting reads ranges from 2 to 5, depending on coverage and BQS.
INFO [2022-01-21 04:53:13] Removing 1 variants with AF < 0.030 or AF >= 1.000 or insufficient supporting reads or depth < 15.
INFO [2022-01-21 04:53:13] Removing 0 low quality variants with non-offset BQ < 25.
INFO [2022-01-21 04:53:13] Total size of targeted genomic region: 1.71Mb (2.70Mb with 50bp padding).
INFO [2022-01-21 04:53:14] 1.0% of targets contain variants.
INFO [2022-01-21 04:53:14] Removing 0 variants outside intervals.
INFO [2022-01-21 04:53:14] Found SOMATIC annotation in VCF.
INFO [2022-01-21 04:53:14] Setting somatic prior probabilities for somatic variants to 0.999000 or to 0.000100 otherwise.
INFO [2022-01-21 04:53:14] Found SOMATIC annotation in VCF. Setting mapping bias to 0.976.
INFO [2022-01-21 04:53:14] Excluding 0 novel or poor quality variants from segmentation.
INFO [2022-01-21 04:53:14] Sample sex: ?
INFO [2022-01-21 04:53:14] Segmenting data...
INFO [2022-01-21 04:53:14] Loaded provided segmentation file example_seg.txt (format DNAcopy).
WARN [2022-01-21 04:53:14] Provided sampleid (Sample2) does not match Sample1 found in segmentation.
INFO [2022-01-21 04:53:14] Re-centering provided segment means (offset -0.0033).
INFO [2022-01-21 04:53:14] Loading pre-computed boundaries for DNAcopy...
INFO [2022-01-21 04:53:14] Setting undo.SD parameter to 0.000000.
Setting multi-figure configuration
INFO [2022-01-21 04:53:15] Setting prune.hclust.h parameter to 0.200000.
INFO [2022-01-21 04:53:15] Found 54 segments with median size of 24.88Mb.
INFO [2022-01-21 04:53:15] Using 125 variants.
INFO [2022-01-21 04:53:15] Mean standard deviation of log-ratios: 0.40 (MAPD: 0.00)
INFO [2022-01-21 04:53:15] 2D-grid search of purity and ploidy...
INFO [2022-01-21 04:53:17] Local optima: 0.6/1.9
INFO [2022-01-21 04:53:17] Testing local optimum 1/1 at purity 0.60 and total ploidy 1.90...
INFO [2022-01-21 04:53:19] Fitting variants with beta model for local optimum 1/1...
INFO [2022-01-21 04:53:19] Fitting variants for purity 0.65, tumor ploidy 1.74 and contamination 0.01.
INFO [2022-01-21 04:53:24] Optimized purity: 0.65
INFO [2022-01-21 04:53:24] Done.
INFO [2022-01-21 04:53:24] ------------------------------------------------------------
WARN [2022-01-21 04:53:25] Allosome coverage missing, cannot determine sex.
WARN [2022-01-21 04:53:25] Allosome coverage missing, cannot determine sex.
Setting multi-figure configuration
FATAL [2022-01-21 04:53:39] Segmentation file expected with colnames ID, chrom, loc.start, loc.end, 

FATAL [2022-01-21 04:53:39] num.mark, seg.mean 

FATAL [2022-01-21 04:53:39]  

FATAL [2022-01-21 04:53:39] This is most likely a user error due to invalid input data or 

FATAL [2022-01-21 04:53:39] parameters (PureCN 2.1.6). 

FATAL [2022-01-21 04:53:40] seg.file contains multiple samples and sampleid missing. 

FATAL [2022-01-21 04:53:40]  

FATAL [2022-01-21 04:53:40] This is most likely a user error due to invalid input data or 

FATAL [2022-01-21 04:53:40] parameters (PureCN 2.1.6). 

FATAL [2022-01-21 04:53:40] seg.file contains multiple samples and sampleid does not match any. 

FATAL [2022-01-21 04:53:40]  

FATAL [2022-01-21 04:53:40] This is most likely a user error due to invalid input data or 

FATAL [2022-01-21 04:53:40] parameters (PureCN 2.1.6). 

WARN [2022-01-21 04:53:41] Allosome coverage missing, cannot determine sex.
WARN [2022-01-21 04:53:41] Allosome coverage missing, cannot determine sex.
WARN [2022-01-21 04:53:57] Allosome coverage missing, cannot determine sex.
WARN [2022-01-21 04:53:57] Allosome coverage missing, cannot determine sex.
WARN [2022-01-21 04:53:57] Provided sampleid (example_tumor.txt) does not match Sample1 found in segmentation.
WARN [2022-01-21 04:54:02] Allosome coverage missing, cannot determine sex.
WARN [2022-01-21 04:54:02] Allosome coverage missing, cannot determine sex.
WARN [2022-01-21 04:54:05] No normalDB provided. Provide one for better results.
WARN [2022-01-21 04:54:19] Allosome coverage missing, cannot determine sex.
WARN [2022-01-21 04:54:19] Allosome coverage missing, cannot determine sex.
WARN [2022-01-21 04:54:24] Provided sampleid (Sample.1) does not match Sample1 found in segmentation.
Setting multi-figure configuration
WARN [2022-01-21 04:54:38] Allosome coverage missing, cannot determine sex.
WARN [2022-01-21 04:54:38] Allosome coverage missing, cannot determine sex.
WARN [2022-01-21 04:54:38] No normalDB provided. Provide one for better results.
WARN [2022-01-21 04:54:38] Sampleid looks like a normal in VCF, not like a tumor.
WARN [2022-01-21 04:54:50] Allosome coverage missing, cannot determine sex.
WARN [2022-01-21 04:54:50] Allosome coverage missing, cannot determine sex.
FATAL [2022-01-21 04:54:50] normalDB not a valid normalDB object. Use createNormalDatabase to 

FATAL [2022-01-21 04:54:50] create one. 

FATAL [2022-01-21 04:54:50]  

FATAL [2022-01-21 04:54:50] This is most likely a user error due to invalid input data or 

FATAL [2022-01-21 04:54:50] parameters (PureCN 2.1.6). 

WARN [2022-01-21 04:54:51] You are likely not using the correct baits file!
WARN [2022-01-21 04:54:53] Allosome coverage missing, cannot determine sex.
WARN [2022-01-21 04:54:53] Allosome coverage missing, cannot determine sex.
WARN [2022-01-21 04:54:59] Allosome coverage missing, cannot determine sex.
WARN [2022-01-21 04:54:59] Allosome coverage missing, cannot determine sex.
FATAL [2022-01-21 04:54:59] normalDB appears to be empty. 

FATAL [2022-01-21 04:54:59]  

FATAL [2022-01-21 04:54:59] This is most likely a user error due to invalid input data or 

FATAL [2022-01-21 04:54:59] parameters (PureCN 2.1.6). 

WARN [2022-01-21 04:55:01] Allosome coverage missing, cannot determine sex.
WARN [2022-01-21 04:55:01] Allosome coverage missing, cannot determine sex.
WARN [2022-01-21 04:55:01] Intervals in coverage and interval.file have conflicting on/off-target annotation.
WARN [2022-01-21 04:55:20] Allosome coverage missing, cannot determine sex.
WARN [2022-01-21 04:55:20] Allosome coverage missing, cannot determine sex.
FATAL [2022-01-21 04:55:20] Seqlevels missing in provided segmentation: 6 

FATAL [2022-01-21 04:55:20]  

FATAL [2022-01-21 04:55:20] This is most likely a user error due to invalid input data or 

FATAL [2022-01-21 04:55:20] parameters (PureCN 2.1.6). 

sh: gatk: command not found
WARN [2022-01-21 04:55:23] Cannot find gatk binary in path.
WARN [2022-01-21 04:55:24] Allosome coverage missing, cannot determine sex.
WARN [2022-01-21 04:55:24] Allosome coverage missing, cannot determine sex.
WARN [2022-01-21 04:55:24] No normalDB provided. Provide one for better results.
FATAL [2022-01-21 04:55:24] segmentationHclust requires an input segmentation. 

FATAL [2022-01-21 04:55:24]  

FATAL [2022-01-21 04:55:24] This is most likely a user error due to invalid input data or 

FATAL [2022-01-21 04:55:24] parameters (PureCN 2.1.6). 

WARN [2022-01-21 04:55:25] Allosome coverage missing, cannot determine sex.
WARN [2022-01-21 04:55:25] Allosome coverage missing, cannot determine sex.
WARN [2022-01-21 04:55:25] No normalDB provided. Provide one for better results.
FATAL [2022-01-21 04:56:25] The normal.panel.vcf.file contains only a single sample. 

FATAL [2022-01-21 04:56:25]  

FATAL [2022-01-21 04:56:25] This is most likely a user error due to invalid input data or 

FATAL [2022-01-21 04:56:25] parameters (PureCN 2.1.6). 

FATAL [2022-01-21 04:56:25] mapping.bias.file must be a file with *.rds suffix. 

FATAL [2022-01-21 04:56:25]  

FATAL [2022-01-21 04:56:25] This is most likely a user error due to invalid input data or 

FATAL [2022-01-21 04:56:25] parameters (PureCN 2.1.6). 

Failed with error:  'there is no package called 'genomicsdb''
FATAL [2022-01-21 04:56:27] min.normals (0) must be >= 1. 

FATAL [2022-01-21 04:56:27]  

FATAL [2022-01-21 04:56:27] This is most likely a user error due to invalid input data or 

FATAL [2022-01-21 04:56:27] parameters (PureCN 2.1.6). 

FATAL [2022-01-21 04:56:28] min.normals (10) cannot be larger than min.normals.assign.betafit (3). 

FATAL [2022-01-21 04:56:28]  

FATAL [2022-01-21 04:56:28] This is most likely a user error due to invalid input data or 

FATAL [2022-01-21 04:56:28] parameters (PureCN 2.1.6). 

FATAL [2022-01-21 04:56:28] min.normals.assign.betafit (10) cannot be larger than 

FATAL [2022-01-21 04:56:28] min.normals.betafit (7). 

FATAL [2022-01-21 04:56:28]  

FATAL [2022-01-21 04:56:28] This is most likely a user error due to invalid input data or 

FATAL [2022-01-21 04:56:28] parameters (PureCN 2.1.6). 

FATAL [2022-01-21 04:56:29] min.normals.betafit (20) cannot be larger than 

FATAL [2022-01-21 04:56:29] min.normals.position.specific.fit (10). 

FATAL [2022-01-21 04:56:29]  

FATAL [2022-01-21 04:56:29] This is most likely a user error due to invalid input data or 

FATAL [2022-01-21 04:56:29] parameters (PureCN 2.1.6). 

FATAL [2022-01-21 04:56:29] min.betafit.rho not within expected range or format. 

FATAL [2022-01-21 04:56:29]  

FATAL [2022-01-21 04:56:29] This is most likely a user error due to invalid input data or 

FATAL [2022-01-21 04:56:29] parameters (PureCN 2.1.6). 

FATAL [2022-01-21 04:56:30] max.betafit.rho not within expected range or format. 

FATAL [2022-01-21 04:56:30]  

FATAL [2022-01-21 04:56:30] This is most likely a user error due to invalid input data or 

FATAL [2022-01-21 04:56:30] parameters (PureCN 2.1.6). 

FATAL [2022-01-21 04:56:30] min.betafit.rho (0.9) cannot be larger than max.betafit.rho (0.2). 

FATAL [2022-01-21 04:56:30]  

FATAL [2022-01-21 04:56:30] This is most likely a user error due to invalid input data or 

FATAL [2022-01-21 04:56:30] parameters (PureCN 2.1.6). 

══ Skipped tests ═══════════════════════════════════════════════════════════════
• gatk binary > 4.1.7.0 required (1)
• genomicsdb required (1)

[ FAIL 0 | WARN 10 | SKIP 2 | PASS 394 ]
> 
> proc.time()
   user  system elapsed 
919.087  17.557 828.192 

Example timings

PureCN.Rcheck/PureCN-Ex.timings

nameusersystemelapsed
annotateTargets12.955 0.53513.852
bootstrapResults1.3310.1301.462
calculateBamCoverageByInterval0.4140.0070.421
calculateLogRatio0.9720.0110.989
calculateMappingBiasGatk4000
calculateMappingBiasVcf4.3980.1314.542
calculatePowerDetectSomatic2.9830.0102.996
calculateTangentNormal7.1340.0217.256
callAlterations0.2070.0100.237
callAlterationsFromSegmentation3.6820.0403.970
callAmplificationsInLowPurity95.411 0.25696.788
callCIN0.4090.0100.421
callLOH0.3280.0090.337
callMutationBurden3.1320.0463.183
centromeres0.0020.0060.008
correctCoverageBias3.5900.0233.618
createCurationFile0.5100.0140.525
createNormalDatabase5.9390.0185.966
filterIntervals41.963 0.23442.260
filterVcfBasic1.4860.0081.496
filterVcfMuTect1.4350.0071.444
filterVcfMuTect21.4420.0111.455
findFocal23.729 0.07823.897
getSexFromCoverage0.3850.0010.386
getSexFromVcf0.6370.0050.644
plotAbs0.4510.0120.466
poolCoverage0.9920.0030.997
predictSomatic0.9870.0111.001
preprocessIntervals1.5850.0111.609
processMultipleSamples9.7380.1019.859
readAllelicCountsFile1.5520.0071.585
readCoverageFile0.4460.0090.474
readCurationFile0.3690.0110.381
readIntervalFile0.3320.0020.336
readLogRatioFile0.0610.0000.062
readSegmentationFile0.0140.0000.015
runAbsoluteCN38.725 0.37439.288
segmentationCBS18.571 0.07918.890
segmentationGATK40.0030.0000.004
segmentationHclust33.938 0.27434.711
segmentationPSCBS57.461 0.31257.959
setMappingBiasVcf0.7200.0080.728
setPriorVcf0.6720.0070.681