Back to Multiple platform build/check report for BioC 3.15
ABCDEFG[H]IJKLMNOPQRSTUVWXYZ

This page was generated on 2022-01-19 11:11:41 -0500 (Wed, 19 Jan 2022).

HostnameOSArch (*)R versionInstalled pkgs
nebbiolo1Linux (Ubuntu 20.04.4 LTS)x86_64R Under development (unstable) (2022-01-05 r81451) -- "Unsuffered Consequences" 4161
riesling1Windows Server 2019 Standardx64R Under development (unstable) (2021-11-21 r81221) -- "Unsuffered Consequences" 4056
palomino3Windows Server 2022 Datacenterx64R Under development (unstable) (2021-12-21 r81400 ucrt) -- "Unsuffered Consequences" 3998
merida1macOS 10.14.6 Mojavex86_64R Under development (unstable) (2022-01-05 r81451) -- "Unsuffered Consequences" 4115
Click on any hostname to see more info about the system (e.g. compilers)      (*) as reported by 'uname -p', except on Windows and Mac OS X

BUILD results for HelloRanges on merida1


To the developers/maintainers of the HelloRanges package:
- Please allow up to 24 hours (and sometimes 48 hours) for your latest push to git@git.bioconductor.org:packages/HelloRanges.git to
reflect on this report. See How and When does the builder pull? When will my changes propagate? here for more information.
- Make sure to use the following settings in order to reproduce any error or warning you see on this page.

raw results

Package 856/2074HostnameOS / ArchINSTALLBUILDCHECKBUILD BIN
HelloRanges 1.21.0  (landing page)
Michael Lawrence
Snapshot Date: 2022-01-18 13:55:18 -0500 (Tue, 18 Jan 2022)
git_url: https://git.bioconductor.org/packages/HelloRanges
git_branch: master
git_last_commit: af59c99
git_last_commit_date: 2021-10-26 12:30:55 -0500 (Tue, 26 Oct 2021)
nebbiolo1Linux (Ubuntu 20.04.4 LTS) / x86_64  OK    OK    WARNINGS  UNNEEDED, same version is already published
riesling1Windows Server 2019 Standard / x64  OK    OK    WARNINGS    OK  
palomino3Windows Server 2022 Datacenter / x64  OK    OK    WARNINGS    OK  NO, package depends on 'BiocGenerics' which is not available
merida1macOS 10.14.6 Mojave / x86_64  OK    OK    WARNINGS    OK  UNNEEDED, same version is already published

Summary

Package: HelloRanges
Version: 1.21.0
Command: /Library/Frameworks/R.framework/Resources/bin/R CMD build --keep-empty-dirs --no-resave-data HelloRanges
StartedAt: 2022-01-18 18:21:55 -0500 (Tue, 18 Jan 2022)
EndedAt: 2022-01-18 18:28:28 -0500 (Tue, 18 Jan 2022)
EllapsedTime: 393.6 seconds
RetCode: 0
Status:   OK  
PackageFile: HelloRanges_1.21.0.tar.gz
PackageFileSize: 942.5 KiB

Command output

##############################################################################
##############################################################################
###
### Running command:
###
###   /Library/Frameworks/R.framework/Resources/bin/R CMD build --keep-empty-dirs --no-resave-data HelloRanges
###
##############################################################################
##############################################################################


* checking for file ‘HelloRanges/DESCRIPTION’ ... OK
* preparing ‘HelloRanges’:
* checking DESCRIPTION meta-information ... OK
* installing the package to build vignettes
* creating vignettes ... OK
* checking for LF line-endings in source and make files and shell scripts
* checking for empty or unneeded directories
* building ‘HelloRanges_1.21.0.tar.gz’