Back to Multiple platform build/check report for BioC 3.17
ABCD[E]FGHIJKLMNOPQRSTUVWXYZ

This page was generated on 2023-01-28 11:08:43 -0500 (Sat, 28 Jan 2023).

HostnameOSArch (*)R versionInstalled pkgs
nebbiolo1Linux (Ubuntu 22.04.1 LTS)x86_64R Under development (unstable) (2023-01-10 r83596) -- "Unsuffered Consequences" 4465
palomino3Windows Server 2022 Datacenterx64R Under development (unstable) (2023-01-10 r83596 ucrt) -- "Unsuffered Consequences" 4246
merida1macOS 10.14.6 Mojavex86_64R Under development (unstable) (2023-01-10 r83596) -- "Unsuffered Consequences" 4269
Click on any hostname to see more info about the system (e.g. compilers)      (*) as reported by 'uname -p', except on Windows and Mac OS X

BUILD BIN results for esATAC on merida1


To the developers/maintainers of the esATAC package:
- Please allow up to 24 hours (and sometimes 48 hours) for your latest push to git@git.bioconductor.org:packages/esATAC.git to
reflect on this report. See How and When does the builder pull? When will my changes propagate? for more information.
- Make sure to use the following settings in order to reproduce any error or warning you see on this page.

raw results

Package 627/2162HostnameOS / ArchINSTALLBUILDCHECKBUILD BIN
esATAC 1.21.0  (landing page)
Zheng Wei
Snapshot Date: 2023-01-27 14:00:19 -0500 (Fri, 27 Jan 2023)
git_url: https://git.bioconductor.org/packages/esATAC
git_branch: master
git_last_commit: dc1b794
git_last_commit_date: 2022-11-01 11:16:47 -0500 (Tue, 01 Nov 2022)
nebbiolo1Linux (Ubuntu 22.04.1 LTS) / x86_64  OK    OK    WARNINGS  UNNEEDED, same version is already published
palomino3Windows Server 2022 Datacenter / x64  OK    OK    WARNINGS    NA  
merida1macOS 10.14.6 Mojave / x86_64  OK    OK    WARNINGS    OK  NO, package depends on 'ChIPseeker' which is not available

Summary

Package: esATAC
Version: 1.21.0
Command: rm -rf esATAC.buildbin-libdir && mkdir esATAC.buildbin-libdir && /Users/biocbuild/BBS/utils/build-universal.sh esATAC_1.21.0.tar.gz /Library/Frameworks/R.framework/Resources/bin/R esATAC.buildbin-libdir
StartedAt: 2023-01-28 09:08:04 -0500 (Sat, 28 Jan 2023)
EndedAt: 2023-01-28 09:14:41 -0500 (Sat, 28 Jan 2023)
EllapsedTime: 396.6 seconds
RetCode: 0
Status:   OK  
PackageFile: esATAC_1.21.0.tgz
PackageFileSize: 8.157 MiB

Command output

##############################################################################
##############################################################################
###
### Running command:
###
###   rm -rf esATAC.buildbin-libdir && mkdir esATAC.buildbin-libdir && /Users/biocbuild/BBS/utils/build-universal.sh esATAC_1.21.0.tar.gz /Library/Frameworks/R.framework/Resources/bin/R esATAC.buildbin-libdir
###
##############################################################################
##############################################################################


>>>>>>> 
>>>>>>> INSTALLATION WITH 'R CMD INSTALL --preclean --no-multiarch --library=esATAC.buildbin-libdir esATAC_1.21.0.tar.gz'
>>>>>>> 

* installing *source* package ‘esATAC’ ...
** using staged installation
** libs
using C++ compiler: ‘Apple clang version 11.0.0 (clang-1100.0.33.17)’
using C++11
using SDK: ‘’
clang++ -mmacosx-version-min=10.13 -std=gnu++11 -I"/Library/Frameworks/R.framework/Resources/include" -DNDEBUG -DNDEBUG -DPLF_SYS_LINUX  -DR_EVN_FLAG -I'/Library/Frameworks/R.framework/Versions/4.3/Resources/library/Rcpp/include' -I/usr/local/include    -fPIC  -Wall -g -O2  -c BedLine.cpp -o BedLine.o
clang++ -mmacosx-version-min=10.13 -std=gnu++11 -I"/Library/Frameworks/R.framework/Resources/include" -DNDEBUG -DNDEBUG -DPLF_SYS_LINUX  -DR_EVN_FLAG -I'/Library/Frameworks/R.framework/Versions/4.3/Resources/library/Rcpp/include' -I/usr/local/include    -fPIC  -Wall -g -O2  -c BedUtils.cpp -o BedUtils.o
clang++ -mmacosx-version-min=10.13 -std=gnu++11 -I"/Library/Frameworks/R.framework/Resources/include" -DNDEBUG -DNDEBUG -DPLF_SYS_LINUX  -DR_EVN_FLAG -I'/Library/Frameworks/R.framework/Versions/4.3/Resources/library/Rcpp/include' -I/usr/local/include    -fPIC  -Wall -g -O2  -c ChrDivi.cpp -o ChrDivi.o
clang++ -mmacosx-version-min=10.13 -std=gnu++11 -I"/Library/Frameworks/R.framework/Resources/include" -DNDEBUG -DNDEBUG -DPLF_SYS_LINUX  -DR_EVN_FLAG -I'/Library/Frameworks/R.framework/Versions/4.3/Resources/library/Rcpp/include' -I/usr/local/include    -fPIC  -Wall -g -O2  -c CutCountPre.cpp -o CutCountPre.o
clang++ -mmacosx-version-min=10.13 -std=gnu++11 -I"/Library/Frameworks/R.framework/Resources/include" -DNDEBUG -DNDEBUG -DPLF_SYS_LINUX  -DR_EVN_FLAG -I'/Library/Frameworks/R.framework/Versions/4.3/Resources/library/Rcpp/include' -I/usr/local/include    -fPIC  -Wall -g -O2  -c CutSiteCount.cpp -o CutSiteCount.o
clang++ -mmacosx-version-min=10.13 -std=gnu++11 -I"/Library/Frameworks/R.framework/Resources/include" -DNDEBUG -DNDEBUG -DPLF_SYS_LINUX  -DR_EVN_FLAG -I'/Library/Frameworks/R.framework/Versions/4.3/Resources/library/Rcpp/include' -I/usr/local/include    -fPIC  -Wall -g -O2  -c LibComplexQC.cpp -o LibComplexQC.o
clang++ -mmacosx-version-min=10.13 -std=gnu++11 -I"/Library/Frameworks/R.framework/Resources/include" -DNDEBUG -DNDEBUG -DPLF_SYS_LINUX  -DR_EVN_FLAG -I'/Library/Frameworks/R.framework/Versions/4.3/Resources/library/Rcpp/include' -I/usr/local/include    -fPIC  -Wall -g -O2  -c RcppExports.cpp -o RcppExports.o
clang++ -mmacosx-version-min=10.13 -std=gnu++11 -I"/Library/Frameworks/R.framework/Resources/include" -DNDEBUG -DNDEBUG -DPLF_SYS_LINUX  -DR_EVN_FLAG -I'/Library/Frameworks/R.framework/Versions/4.3/Resources/library/Rcpp/include' -I/usr/local/include    -fPIC  -Wall -g -O2  -c SortBed.cpp -o SortBed.o
clang++ -mmacosx-version-min=10.13 -std=gnu++11 -I"/Library/Frameworks/R.framework/Resources/include" -DNDEBUG -DNDEBUG -DPLF_SYS_LINUX  -DR_EVN_FLAG -I'/Library/Frameworks/R.framework/Versions/4.3/Resources/library/Rcpp/include' -I/usr/local/include    -fPIC  -Wall -g -O2  -c rcpp_wrapper.cpp -o rcpp_wrapper.o
clang++ -mmacosx-version-min=10.13 -std=gnu++11 -I"/Library/Frameworks/R.framework/Resources/include" -DNDEBUG -DNDEBUG -DPLF_SYS_LINUX  -DR_EVN_FLAG -I'/Library/Frameworks/R.framework/Versions/4.3/Resources/library/Rcpp/include' -I/usr/local/include    -fPIC  -Wall -g -O2  -c renamer.cpp -o renamer.o
clang++ -mmacosx-version-min=10.13 -std=gnu++11 -I"/Library/Frameworks/R.framework/Resources/include" -DNDEBUG -DNDEBUG -DPLF_SYS_LINUX  -DR_EVN_FLAG -I'/Library/Frameworks/R.framework/Versions/4.3/Resources/library/Rcpp/include' -I/usr/local/include    -fPIC  -Wall -g -O2  -c sam2bed.cc -o sam2bed.o
sam2bed.cc:125:16: warning: unused variable 'xspm' [-Wunused-variable]
    regmatch_t xspm[1];
               ^
sam2bed.cc:294:16: warning: unused variable 'xspm' [-Wunused-variable]
    regmatch_t xspm[1];
               ^
2 warnings generated.
clang++ -mmacosx-version-min=10.13 -std=gnu++11 -dynamiclib -Wl,-headerpad_max_install_names -undefined dynamic_lookup -single_module -multiply_defined suppress -L/Library/Frameworks/R.framework/Resources/lib -L/usr/local/lib -o esATAC.so BedLine.o BedUtils.o ChrDivi.o CutCountPre.o CutSiteCount.o LibComplexQC.o RcppExports.o SortBed.o rcpp_wrapper.o renamer.o sam2bed.o -F/Library/Frameworks/R.framework/.. -framework R -Wl,-framework -Wl,CoreFoundation
installing to /Users/biocbuild/bbs-3.17-bioc/meat/esATAC.buildbin-libdir/00LOCK-esATAC/00new/esATAC/libs
** R
** inst
** byte-compile and prepare package for lazy loading
** help
*** installing help indices
** building package indices
** installing vignettes
** testing if installed package can be loaded from temporary location
** checking absolute paths in shared objects and dynamic libraries
** testing if installed package can be loaded from final location
** testing if installed package keeps a record of temporary installation path
* DONE (esATAC)


>>>>>>> 
>>>>>>> FIXING LINKS FOR esATAC.buildbin-libdir/esATAC/libs/esATAC.so
>>>>>>> 

install_name_tool -change "/usr/local/lib/libgcc_s.1.dylib" "/Library/Frameworks/R.framework/Versions/4.3/Resources/lib/libgcc_s.1.dylib" "esATAC.buildbin-libdir/esATAC/libs/esATAC.so"
install_name_tool -change "/usr/local/lib/libgfortran.5.dylib" "/Library/Frameworks/R.framework/Versions/4.3/Resources/lib/libgfortran.5.dylib" "esATAC.buildbin-libdir/esATAC/libs/esATAC.so"
install_name_tool -change "/usr/local/lib/libquadmath.0.dylib" "/Library/Frameworks/R.framework/Versions/4.3/Resources/lib/libquadmath.0.dylib" "esATAC.buildbin-libdir/esATAC/libs/esATAC.so"