Back to Multiple platform build/check report for BioC 3.15
AB[C]DEFGHIJKLMNOPQRSTUVWXYZ

This page was generated on 2022-01-22 11:09:57 -0500 (Sat, 22 Jan 2022).

HostnameOSArch (*)R versionInstalled pkgs
nebbiolo1Linux (Ubuntu 20.04.4 LTS)x86_64R Under development (unstable) (2022-01-05 r81451) -- "Unsuffered Consequences" 4163
riesling1Windows Server 2019 Standardx64R Under development (unstable) (2021-11-21 r81221) -- "Unsuffered Consequences" 4058
palomino3Windows Server 2022 Datacenterx64R Under development (unstable) (2021-12-21 r81400 ucrt) -- "Unsuffered Consequences" 4000
merida1macOS 10.14.6 Mojavex86_64R Under development (unstable) (2022-01-05 r81451) -- "Unsuffered Consequences" 4117
Click on any hostname to see more info about the system (e.g. compilers)      (*) as reported by 'uname -p', except on Windows and Mac OS X

BUILD BIN results for chipseq on merida1


To the developers/maintainers of the chipseq package:
- Please allow up to 24 hours (and sometimes 48 hours) for your latest push to git@git.bioconductor.org:packages/chipseq.git to
reflect on this report. See How and When does the builder pull? When will my changes propagate? here for more information.
- Make sure to use the following settings in order to reproduce any error or warning you see on this page.

raw results

Package 302/2075HostnameOS / ArchINSTALLBUILDCHECKBUILD BIN
chipseq 1.45.1  (landing page)
Bioconductor Package Maintainer
Snapshot Date: 2022-01-21 13:55:18 -0500 (Fri, 21 Jan 2022)
git_url: https://git.bioconductor.org/packages/chipseq
git_branch: master
git_last_commit: ca93b17
git_last_commit_date: 2021-11-20 23:21:56 -0500 (Sat, 20 Nov 2021)
nebbiolo1Linux (Ubuntu 20.04.4 LTS) / x86_64  OK    OK    WARNINGS  UNNEEDED, same version is already published
riesling1Windows Server 2019 Standard / x64  OK    OK    NA    NA  
palomino3Windows Server 2022 Datacenter / x64  OK    OK    WARNINGS    OK  NO, package depends on 'BiocGenerics' which is not available
merida1macOS 10.14.6 Mojave / x86_64  OK    OK    WARNINGS    OK  UNNEEDED, same version is already published

Summary

Package: chipseq
Version: 1.45.1
Command: rm -rf chipseq.buildbin-libdir && mkdir chipseq.buildbin-libdir && /Users/biocbuild/BBS/utils/build-universal.sh chipseq_1.45.1.tar.gz /Library/Frameworks/R.framework/Resources/bin/R chipseq.buildbin-libdir
StartedAt: 2022-01-22 07:34:49 -0500 (Sat, 22 Jan 2022)
EndedAt: 2022-01-22 07:35:42 -0500 (Sat, 22 Jan 2022)
EllapsedTime: 53.3 seconds
RetCode: 0
Status:   OK  
PackageFile: chipseq_1.45.1.tgz
PackageFileSize: 2.203 MiB

Command output

##############################################################################
##############################################################################
###
### Running command:
###
###   rm -rf chipseq.buildbin-libdir && mkdir chipseq.buildbin-libdir && /Users/biocbuild/BBS/utils/build-universal.sh chipseq_1.45.1.tar.gz /Library/Frameworks/R.framework/Resources/bin/R chipseq.buildbin-libdir
###
##############################################################################
##############################################################################


>>>>>>> 
>>>>>>> INSTALLATION WITH 'R CMD INSTALL --preclean --no-multiarch --library=chipseq.buildbin-libdir chipseq_1.45.1.tar.gz'
>>>>>>> 

* installing *source* package ‘chipseq’ ...
** using staged installation
** libs
clang -mmacosx-version-min=10.13 -I"/Library/Frameworks/R.framework/Resources/include" -DNDEBUG   -I/usr/local/include   -fPIC  -Wall -g -O2  -c rlesumprod.c -o rlesumprod.o
clang -mmacosx-version-min=10.13 -dynamiclib -Wl,-headerpad_max_install_names -undefined dynamic_lookup -single_module -multiply_defined suppress -L/Library/Frameworks/R.framework/Resources/lib -L/usr/local/lib -o chipseq.so rlesumprod.o -F/Library/Frameworks/R.framework/.. -framework R -Wl,-framework -Wl,CoreFoundation
installing to /Users/biocbuild/bbs-3.15-bioc/meat/chipseq.buildbin-libdir/00LOCK-chipseq/00new/chipseq/libs
** R
** data
** inst
** byte-compile and prepare package for lazy loading
** help
*** installing help indices
** building package indices
** installing vignettes
** testing if installed package can be loaded from temporary location
** checking absolute paths in shared objects and dynamic libraries
** testing if installed package can be loaded from final location
** testing if installed package keeps a record of temporary installation path
* DONE (chipseq)


>>>>>>> 
>>>>>>> FIXING LINKS FOR chipseq.buildbin-libdir/chipseq/libs/chipseq.so
>>>>>>> 

install_name_tool -change "/usr/local/lib/libgcc_s.1.dylib" "/Library/Frameworks/R.framework/Versions/4.2/Resources/lib/libgcc_s.1.dylib" "chipseq.buildbin-libdir/chipseq/libs/chipseq.so"
install_name_tool -change "/usr/local/lib/libgfortran.5.dylib" "/Library/Frameworks/R.framework/Versions/4.2/Resources/lib/libgfortran.5.dylib" "chipseq.buildbin-libdir/chipseq/libs/chipseq.so"
install_name_tool -change "/usr/local/lib/libquadmath.0.dylib" "/Library/Frameworks/R.framework/Versions/4.2/Resources/lib/libquadmath.0.dylib" "chipseq.buildbin-libdir/chipseq/libs/chipseq.so"