Back to Multiple platform build/check report for BioC 3.15
ABCDEF[G]HIJKLMNOPQRSTUVWXYZ

This page was generated on 2022-01-19 11:11:35 -0500 (Wed, 19 Jan 2022).

HostnameOSArch (*)R versionInstalled pkgs
nebbiolo1Linux (Ubuntu 20.04.4 LTS)x86_64R Under development (unstable) (2022-01-05 r81451) -- "Unsuffered Consequences" 4161
riesling1Windows Server 2019 Standardx64R Under development (unstable) (2021-11-21 r81221) -- "Unsuffered Consequences" 4056
palomino3Windows Server 2022 Datacenterx64R Under development (unstable) (2021-12-21 r81400 ucrt) -- "Unsuffered Consequences" 3998
merida1macOS 10.14.6 Mojavex86_64R Under development (unstable) (2022-01-05 r81451) -- "Unsuffered Consequences" 4115
Click on any hostname to see more info about the system (e.g. compilers)      (*) as reported by 'uname -p', except on Windows and Mac OS X

BUILD BIN results for GenomicTuples on merida1


To the developers/maintainers of the GenomicTuples package:
- Please allow up to 24 hours (and sometimes 48 hours) for your latest push to git@git.bioconductor.org:packages/GenomicTuples.git to
reflect on this report. See How and When does the builder pull? When will my changes propagate? here for more information.
- Make sure to use the following settings in order to reproduce any error or warning you see on this page.

raw results

Package 756/2074HostnameOS / ArchINSTALLBUILDCHECKBUILD BIN
GenomicTuples 1.29.1  (landing page)
Peter Hickey
Snapshot Date: 2022-01-18 13:55:18 -0500 (Tue, 18 Jan 2022)
git_url: https://git.bioconductor.org/packages/GenomicTuples
git_branch: master
git_last_commit: b07bb8c
git_last_commit_date: 2021-11-21 05:49:21 -0500 (Sun, 21 Nov 2021)
nebbiolo1Linux (Ubuntu 20.04.4 LTS) / x86_64  OK    OK    OK  UNNEEDED, same version is already published
riesling1Windows Server 2019 Standard / x64  OK    OK    OK    OK  
palomino3Windows Server 2022 Datacenter / x64  OK    OK    OK    OK  NO, package depends on 'GenomicRanges' which is not available
merida1macOS 10.14.6 Mojave / x86_64  OK    OK    OK    OK  UNNEEDED, same version is already published

Summary

Package: GenomicTuples
Version: 1.29.1
Command: rm -rf GenomicTuples.buildbin-libdir && mkdir GenomicTuples.buildbin-libdir && /Users/biocbuild/BBS/utils/build-universal.sh GenomicTuples_1.29.1.tar.gz /Library/Frameworks/R.framework/Resources/bin/R GenomicTuples.buildbin-libdir
StartedAt: 2022-01-19 07:54:17 -0500 (Wed, 19 Jan 2022)
EndedAt: 2022-01-19 07:55:27 -0500 (Wed, 19 Jan 2022)
EllapsedTime: 69.7 seconds
RetCode: 0
Status:   OK  
PackageFile: GenomicTuples_1.29.1.tgz
PackageFileSize: 903.1 KiB

Command output

##############################################################################
##############################################################################
###
### Running command:
###
###   rm -rf GenomicTuples.buildbin-libdir && mkdir GenomicTuples.buildbin-libdir && /Users/biocbuild/BBS/utils/build-universal.sh GenomicTuples_1.29.1.tar.gz /Library/Frameworks/R.framework/Resources/bin/R GenomicTuples.buildbin-libdir
###
##############################################################################
##############################################################################


>>>>>>> 
>>>>>>> INSTALLATION WITH 'R CMD INSTALL --preclean --no-multiarch --library=GenomicTuples.buildbin-libdir GenomicTuples_1.29.1.tar.gz'
>>>>>>> 

* installing *source* package ‘GenomicTuples’ ...
** using staged installation
** libs
clang++ -mmacosx-version-min=10.13 -std=gnu++14 -I"/Library/Frameworks/R.framework/Resources/include" -DNDEBUG  -I'/Library/Frameworks/R.framework/Versions/4.2/Resources/library/Rcpp/include' -I/usr/local/include   -fPIC  -Wall -g -O2  -c IPD.cpp -o IPD.o
clang++ -mmacosx-version-min=10.13 -std=gnu++14 -I"/Library/Frameworks/R.framework/Resources/include" -DNDEBUG  -I'/Library/Frameworks/R.framework/Versions/4.2/Resources/library/Rcpp/include' -I/usr/local/include   -fPIC  -Wall -g -O2  -c RcppExports.cpp -o RcppExports.o
clang++ -mmacosx-version-min=10.13 -std=gnu++14 -I"/Library/Frameworks/R.framework/Resources/include" -DNDEBUG  -I'/Library/Frameworks/R.framework/Versions/4.2/Resources/library/Rcpp/include' -I/usr/local/include   -fPIC  -Wall -g -O2  -c allTuplesSorted.cpp -o allTuplesSorted.o
clang++ -mmacosx-version-min=10.13 -std=gnu++14 -I"/Library/Frameworks/R.framework/Resources/include" -DNDEBUG  -I'/Library/Frameworks/R.framework/Versions/4.2/Resources/library/Rcpp/include' -I/usr/local/include   -fPIC  -Wall -g -O2  -c pcompareGTuples.cpp -o pcompareGTuples.o
clang++ -mmacosx-version-min=10.13 -std=gnu++14 -dynamiclib -Wl,-headerpad_max_install_names -undefined dynamic_lookup -single_module -multiply_defined suppress -L/Library/Frameworks/R.framework/Resources/lib -L/usr/local/lib -o GenomicTuples.so IPD.o RcppExports.o allTuplesSorted.o pcompareGTuples.o -F/Library/Frameworks/R.framework/.. -framework R -Wl,-framework -Wl,CoreFoundation
installing to /Users/biocbuild/bbs-3.15-bioc/meat/GenomicTuples.buildbin-libdir/00LOCK-GenomicTuples/00new/GenomicTuples/libs
** R
** inst
** byte-compile and prepare package for lazy loading
** help
*** installing help indices
** building package indices
** installing vignettes
** testing if installed package can be loaded from temporary location
** checking absolute paths in shared objects and dynamic libraries
** testing if installed package can be loaded from final location
** testing if installed package keeps a record of temporary installation path
* DONE (GenomicTuples)


>>>>>>> 
>>>>>>> FIXING LINKS FOR GenomicTuples.buildbin-libdir/GenomicTuples/libs/GenomicTuples.so
>>>>>>> 

install_name_tool -change "/usr/local/lib/libgcc_s.1.dylib" "/Library/Frameworks/R.framework/Versions/4.2/Resources/lib/libgcc_s.1.dylib" "GenomicTuples.buildbin-libdir/GenomicTuples/libs/GenomicTuples.so"
install_name_tool -change "/usr/local/lib/libgfortran.5.dylib" "/Library/Frameworks/R.framework/Versions/4.2/Resources/lib/libgfortran.5.dylib" "GenomicTuples.buildbin-libdir/GenomicTuples/libs/GenomicTuples.so"
install_name_tool -change "/usr/local/lib/libquadmath.0.dylib" "/Library/Frameworks/R.framework/Versions/4.2/Resources/lib/libquadmath.0.dylib" "GenomicTuples.buildbin-libdir/GenomicTuples/libs/GenomicTuples.so"