Back to Multiple platform build/check report for BioC 3.17
ABCDEFGHIJKLMNOPQ[R]STUVWXYZ

This page was generated on 2022-12-01 11:10:47 -0500 (Thu, 01 Dec 2022).

HostnameOSArch (*)R versionInstalled pkgs
nebbiolo1Linux (Ubuntu 22.04.1 LTS)x86_64R Under development (unstable) (2022-10-25 r83175) -- "Unsuffered Consequences" 4462
palomino3Windows Server 2022 Datacenterx64R Under development (unstable) (2022-10-11 r83083 ucrt) -- "Unsuffered Consequences" 4203
merida1macOS 10.14.6 Mojavex86_64R Under development (unstable) (2022-11-13 r83342) -- "Unsuffered Consequences" 4231
Click on any hostname to see more info about the system (e.g. compilers)      (*) as reported by 'uname -p', except on Windows and Mac OS X

INSTALL results for ribosomeProfilingQC on merida1


To the developers/maintainers of the ribosomeProfilingQC package:
- Please allow up to 24 hours (and sometimes 48 hours) for your latest push to git@git.bioconductor.org:packages/ribosomeProfilingQC.git to
reflect on this report. See How and When does the builder pull? When will my changes propagate? for more information.
- Make sure to use the following settings in order to reproduce any error or warning you see on this page.

raw results

Package 1662/2154HostnameOS / ArchINSTALLBUILDCHECKBUILD BIN
ribosomeProfilingQC 1.11.0  (landing page)
Jianhong Ou
Snapshot Date: 2022-11-30 14:00:15 -0500 (Wed, 30 Nov 2022)
git_url: https://git.bioconductor.org/packages/ribosomeProfilingQC
git_branch: master
git_last_commit: 7a127d6
git_last_commit_date: 2022-11-01 11:21:25 -0500 (Tue, 01 Nov 2022)
nebbiolo1Linux (Ubuntu 22.04.1 LTS) / x86_64  OK    OK    WARNINGS  UNNEEDED, same version is already published
palomino3Windows Server 2022 Datacenter / x64  OK    OK    WARNINGS    OK  NO, package depends on 'GenomicRanges' which is not available
merida1macOS 10.14.6 Mojave / x86_64  OK    OK    WARNINGS    OK  NO, package depends on 'BSgenome' which is not available

Summary

Package: ribosomeProfilingQC
Version: 1.11.0
Command: /Library/Frameworks/R.framework/Resources/bin/R CMD INSTALL ribosomeProfilingQC
StartedAt: 2022-11-30 15:50:00 -0500 (Wed, 30 Nov 2022)
EndedAt: 2022-11-30 15:52:35 -0500 (Wed, 30 Nov 2022)
EllapsedTime: 155.1 seconds
RetCode: 0
Status:   OK  

Command output

##############################################################################
##############################################################################
###
### Running command:
###
###   /Library/Frameworks/R.framework/Resources/bin/R CMD INSTALL ribosomeProfilingQC
###
##############################################################################
##############################################################################


* installing to library ‘/Library/Frameworks/R.framework/Versions/4.3/Resources/library’
* installing *source* package ‘ribosomeProfilingQC’ ...
** using staged installation
** R
** inst
** byte-compile and prepare package for lazy loading
Warning: S3 methods ‘effectiveLibSizes.default’, ‘effectiveLibSizes.DGEList’, ‘effectiveLibSizes.DGEGLM’, ‘effectiveLibSizes.DGELRT’ were declared in NAMESPACE but not found
** help
*** installing help indices
** building package indices
** installing vignettes
** testing if installed package can be loaded from temporary location
Warning: S3 methods ‘effectiveLibSizes.default’, ‘effectiveLibSizes.DGEList’, ‘effectiveLibSizes.DGEGLM’, ‘effectiveLibSizes.DGELRT’ were declared in NAMESPACE but not found
** testing if installed package can be loaded from final location
Warning: S3 methods ‘effectiveLibSizes.default’, ‘effectiveLibSizes.DGEList’, ‘effectiveLibSizes.DGEGLM’, ‘effectiveLibSizes.DGELRT’ were declared in NAMESPACE but not found
** testing if installed package keeps a record of temporary installation path
* DONE (ribosomeProfilingQC)