Back to Multiple platform build/check report for BioC 3.14
ABCDEFGHIJKL[M]NOPQRSTUVWXYZ

This page was generated on 2021-10-21 12:05:24 -0400 (Thu, 21 Oct 2021).

BUILD results for metaseqR2 on merida1

To the developers/maintainers of the metaseqR2 package:
- Please allow up to 24 hours (and sometimes 48 hours) for your latest push to git@git.bioconductor.org:packages/metaseqR2.git to
reflect on this report. See How and When does the builder pull? When will my changes propagate? here for more information.
- Make sure to use the following settings in order to reproduce any error or warning you see on this page.

raw results

Package 1102/2075HostnameOS / ArchINSTALLBUILDCHECKBUILD BIN
metaseqR2 1.5.17  (landing page)
Panagiotis Moulos
Snapshot Date: 2021-10-20 14:50:05 -0400 (Wed, 20 Oct 2021)
git_url: https://git.bioconductor.org/packages/metaseqR2
git_branch: master
git_last_commit: 879d963
git_last_commit_date: 2021-10-15 10:55:52 -0400 (Fri, 15 Oct 2021)
nebbiolo2Linux (Ubuntu 20.04.2 LTS) / x86_64  OK    OK    OK  UNNEEDED, same version is already published
riesling1Windows Server 2019 Standard / x64  OK    OK    OK    OK  UNNEEDED, same version is already published
merida1macOS 10.14.6 Mojave / x86_64  OK    OK    OK    NA  

Summary

Package: metaseqR2
Version: 1.5.17
Command: /Library/Frameworks/R.framework/Resources/bin/R CMD build --keep-empty-dirs --no-resave-data metaseqR2
StartedAt: 2021-10-20 21:06:36 -0400 (Wed, 20 Oct 2021)
EndedAt: 2021-10-20 21:15:00 -0400 (Wed, 20 Oct 2021)
EllapsedTime: 504.2 seconds
RetCode: 0
Status:   OK  
PackageFile: metaseqR2_1.5.17.tar.gz
PackageFileSize: 2.623 MiB

Command output

##############################################################################
##############################################################################
###
### Running command:
###
###   /Library/Frameworks/R.framework/Resources/bin/R CMD build --keep-empty-dirs --no-resave-data metaseqR2
###
##############################################################################
##############################################################################


* checking for file ‘metaseqR2/DESCRIPTION’ ... OK
* preparing ‘metaseqR2’:
* checking DESCRIPTION meta-information ... OK
* cleaning src
* installing the package to build vignettes
* creating vignettes ... OK
* cleaning src
* checking for LF line-endings in source and make files and shell scripts
* checking for empty or unneeded directories
* looking to see if a ‘data/datalist’ file should be added
* building ‘metaseqR2_1.5.17.tar.gz’