Back to Multiple platform build/check report for BioC 3.17
A[B]CDEFGHIJKLMNOPQRSTUVWXYZ

This page was generated on 2023-01-27 11:09:05 -0500 (Fri, 27 Jan 2023).

HostnameOSArch (*)R versionInstalled pkgs
nebbiolo1Linux (Ubuntu 22.04.1 LTS)x86_64R Under development (unstable) (2023-01-10 r83596) -- "Unsuffered Consequences" 4465
palomino3Windows Server 2022 Datacenterx64R Under development (unstable) (2023-01-10 r83596 ucrt) -- "Unsuffered Consequences" 4246
merida1macOS 10.14.6 Mojavex86_64R Under development (unstable) (2023-01-10 r83596) -- "Unsuffered Consequences" 4269
Click on any hostname to see more info about the system (e.g. compilers)      (*) as reported by 'uname -p', except on Windows and Mac OS X

BUILD results for bsseq on merida1


To the developers/maintainers of the bsseq package:
- Please allow up to 24 hours (and sometimes 48 hours) for your latest push to git@git.bioconductor.org:packages/bsseq.git to
reflect on this report. See How and When does the builder pull? When will my changes propagate? for more information.
- Make sure to use the following settings in order to reproduce any error or warning you see on this page.

raw results

Package 225/2162HostnameOS / ArchINSTALLBUILDCHECKBUILD BIN
bsseq 1.35.0  (landing page)
Kasper Daniel Hansen
Snapshot Date: 2023-01-26 14:00:20 -0500 (Thu, 26 Jan 2023)
git_url: https://git.bioconductor.org/packages/bsseq
git_branch: master
git_last_commit: ed8b19c
git_last_commit_date: 2022-11-01 11:07:09 -0500 (Tue, 01 Nov 2022)
nebbiolo1Linux (Ubuntu 22.04.1 LTS) / x86_64  OK    OK    ERROR  
palomino3Windows Server 2022 Datacenter / x64  OK    OK    ERROR    OK  
merida1macOS 10.14.6 Mojave / x86_64  OK    OK    ERROR    OK  

Summary

Package: bsseq
Version: 1.35.0
Command: /Library/Frameworks/R.framework/Resources/bin/R CMD build --keep-empty-dirs --no-resave-data bsseq
StartedAt: 2023-01-26 17:00:35 -0500 (Thu, 26 Jan 2023)
EndedAt: 2023-01-26 17:06:12 -0500 (Thu, 26 Jan 2023)
EllapsedTime: 337.2 seconds
RetCode: 0
Status:   OK  
PackageFile: bsseq_1.35.0.tar.gz
PackageFileSize: 2.721 MiB

Command output

##############################################################################
##############################################################################
###
### Running command:
###
###   /Library/Frameworks/R.framework/Resources/bin/R CMD build --keep-empty-dirs --no-resave-data bsseq
###
##############################################################################
##############################################################################


* checking for file ‘bsseq/DESCRIPTION’ ... OK
* preparing ‘bsseq’:
* checking DESCRIPTION meta-information ... OK
* cleaning src
* installing the package to build vignettes
* creating vignettes ... OK
* cleaning src
* checking for LF line-endings in source and make files and shell scripts
* checking for empty or unneeded directories
* looking to see if a ‘data/datalist’ file should be added
* building ‘bsseq_1.35.0.tar.gz’