Back to Multiple platform build/check report for BioC 3.15
[A]BCDEFGHIJKLMNOPQRSTUVWXYZ

This page was generated on 2022-01-17 11:10:34 -0500 (Mon, 17 Jan 2022).

HostnameOSArch (*)R versionInstalled pkgs
nebbiolo1Linux (Ubuntu 20.04.4 LTS)x86_64R Under development (unstable) (2022-01-05 r81451) -- "Unsuffered Consequences" 4161
riesling1Windows Server 2019 Standardx64R Under development (unstable) (2021-11-21 r81221) -- "Unsuffered Consequences" 4056
palomino3Windows Server 2022 Datacenterx64R Under development (unstable) (2021-12-21 r81400 ucrt) -- "Unsuffered Consequences" 3998
merida1macOS 10.14.6 Mojavex86_64R Under development (unstable) (2022-01-05 r81451) -- "Unsuffered Consequences" 4115
Click on any hostname to see more info about the system (e.g. compilers)      (*) as reported by 'uname -p', except on Windows and Mac OS X

BUILD BIN results for AnnotationFilter on merida1


To the developers/maintainers of the AnnotationFilter package:
- Please allow up to 24 hours (and sometimes 48 hours) for your latest push to git@git.bioconductor.org:packages/AnnotationFilter.git to
reflect on this report. See How and When does the builder pull? When will my changes propagate? here for more information.
- Make sure to use the following settings in order to reproduce any error or warning you see on this page.

raw results

Package 58/2074HostnameOS / ArchINSTALLBUILDCHECKBUILD BIN
AnnotationFilter 1.19.0  (landing page)
Bioconductor Package Maintainer
Snapshot Date: 2022-01-16 13:55:18 -0500 (Sun, 16 Jan 2022)
git_url: https://git.bioconductor.org/packages/AnnotationFilter
git_branch: master
git_last_commit: aa3b7ab
git_last_commit_date: 2021-10-26 12:34:17 -0500 (Tue, 26 Oct 2021)
nebbiolo1Linux (Ubuntu 20.04.4 LTS) / x86_64  OK    OK    OK  UNNEEDED, same version is already published
riesling1Windows Server 2019 Standard / x64  OK    OK    OK    OK  
palomino3Windows Server 2022 Datacenter / x64  OK    OK    OK    OK  NO, package depends on 'GenomicRanges' which is not available
merida1macOS 10.14.6 Mojave / x86_64  OK    OK    OK    OK  UNNEEDED, same version is already published

Summary

Package: AnnotationFilter
Version: 1.19.0
Command: rm -rf AnnotationFilter.buildbin-libdir && mkdir AnnotationFilter.buildbin-libdir && /Users/biocbuild/BBS/utils/build-universal.sh AnnotationFilter_1.19.0.tar.gz /Library/Frameworks/R.framework/Resources/bin/R AnnotationFilter.buildbin-libdir
StartedAt: 2022-01-17 07:23:14 -0500 (Mon, 17 Jan 2022)
EndedAt: 2022-01-17 07:23:37 -0500 (Mon, 17 Jan 2022)
EllapsedTime: 22.5 seconds
RetCode: 0
Status:   OK  
PackageFile: AnnotationFilter_1.19.0.tgz
PackageFileSize: 508.9 KiB

Command output

##############################################################################
##############################################################################
###
### Running command:
###
###   rm -rf AnnotationFilter.buildbin-libdir && mkdir AnnotationFilter.buildbin-libdir && /Users/biocbuild/BBS/utils/build-universal.sh AnnotationFilter_1.19.0.tar.gz /Library/Frameworks/R.framework/Resources/bin/R AnnotationFilter.buildbin-libdir
###
##############################################################################
##############################################################################


>>>>>>> 
>>>>>>> INSTALLATION WITH 'R CMD INSTALL --preclean --no-multiarch --library=AnnotationFilter.buildbin-libdir AnnotationFilter_1.19.0.tar.gz'
>>>>>>> 

* installing *source* package ‘AnnotationFilter’ ...
** using staged installation
** R
** inst
** byte-compile and prepare package for lazy loading
** help
*** installing help indices
** building package indices
** installing vignettes
** testing if installed package can be loaded from temporary location
** testing if installed package can be loaded from final location
** testing if installed package keeps a record of temporary installation path
* DONE (AnnotationFilter)