Back to Multiple platform build/check report for BioC 3.18: simplified long |
|
This page was generated on 2023-09-26 11:38:38 -0400 (Tue, 26 Sep 2023).
Hostname | OS | Arch (*) | R version | Installed pkgs |
---|---|---|---|---|
nebbiolo2 | Linux (Ubuntu 22.04.2 LTS) | x86_64 | 4.3.1 (2023-06-16) -- "Beagle Scouts" | 4659 |
palomino4 | Windows Server 2022 Datacenter | x64 | 4.3.1 (2023-06-16 ucrt) -- "Beagle Scouts" | 4394 |
lconway | macOS 12.6.5 Monterey | x86_64 | 4.3.1 Patched (2023-06-17 r84564) -- "Beagle Scouts" | 4408 |
kunpeng2 | Linux (openEuler 22.03 LTS-SP1) | aarch64 | 4.3.1 (2023-06-16) -- "Beagle Scouts" | 4397 |
Click on any hostname to see more info about the system (e.g. compilers) (*) as reported by 'uname -p', except on Windows and Mac OS X |
Package 1922/2233 | Hostname | OS / Arch | INSTALL | BUILD | CHECK | BUILD BIN | ||||||||
signeR 2.3.1 (landing page) Renan Valieris
| nebbiolo2 | Linux (Ubuntu 22.04.2 LTS) / x86_64 | OK | OK | OK | ![]() | ||||||||
palomino4 | Windows Server 2022 Datacenter / x64 | OK | OK | OK | OK | ![]() | ||||||||
lconway | macOS 12.6.5 Monterey / x86_64 | OK | OK | OK | OK | ![]() | ||||||||
kunpeng2 | Linux (openEuler 22.03 LTS-SP1) / aarch64 | OK | OK | OK | ||||||||||
To the developers/maintainers of the signeR package: - Allow up to 24 hours (and sometimes 48 hours) for your latest push to git@git.bioconductor.org:packages/signeR.git to reflect on this report. See Troubleshooting Build Report for more information. - Use the following Renviron settings to reproduce errors and warnings. - If 'R CMD check' started to fail recently on the Linux builder(s) over a missing dependency, add the missing dependency to 'Suggests:' in your DESCRIPTION file. See Renviron.bioc for more information. |
Package: signeR |
Version: 2.3.1 |
Command: F:\biocbuild\bbs-3.18-bioc\R\bin\R.exe CMD check --no-multiarch --install=check:signeR.install-out.txt --library=F:\biocbuild\bbs-3.18-bioc\R\library --no-vignettes --timings signeR_2.3.1.tar.gz |
StartedAt: 2023-09-26 06:36:43 -0400 (Tue, 26 Sep 2023) |
EndedAt: 2023-09-26 06:44:00 -0400 (Tue, 26 Sep 2023) |
EllapsedTime: 436.3 seconds |
RetCode: 0 |
Status: OK |
CheckDir: signeR.Rcheck |
Warnings: 0 |
############################################################################## ############################################################################## ### ### Running command: ### ### F:\biocbuild\bbs-3.18-bioc\R\bin\R.exe CMD check --no-multiarch --install=check:signeR.install-out.txt --library=F:\biocbuild\bbs-3.18-bioc\R\library --no-vignettes --timings signeR_2.3.1.tar.gz ### ############################################################################## ############################################################################## * using log directory 'F:/biocbuild/bbs-3.18-bioc/meat/signeR.Rcheck' * using R version 4.3.1 (2023-06-16 ucrt) * using platform: x86_64-w64-mingw32 (64-bit) * R was compiled by gcc.exe (GCC) 12.2.0 GNU Fortran (GCC) 12.2.0 * running under: Windows Server 2022 x64 (build 20348) * using session charset: UTF-8 * using option '--no-vignettes' * checking for file 'signeR/DESCRIPTION' ... OK * checking extension type ... Package * this is package 'signeR' version '2.3.1' * package encoding: UTF-8 * checking package namespace information ... OK * checking package dependencies ... OK * checking if this is a source package ... OK * checking if there is a namespace ... OK * checking for hidden files and directories ... OK * checking for portable file names ... OK * checking whether package 'signeR' can be installed ... OK * used C compiler: 'gcc.exe (GCC) 12.2.0' * used C++ compiler: 'G__~1.EXE (GCC) 12.2.0' * checking C++ specification ... NOTE Specified C++11: please drop specification unless essential * checking installed package size ... OK * checking package directory ... OK * checking 'build' directory ... OK * checking DESCRIPTION meta-information ... OK * checking top-level files ... OK * checking for left-over files ... OK * checking index information ... OK * checking package subdirectories ... OK * checking R files for non-ASCII characters ... OK * checking R files for syntax errors ... OK * checking whether the package can be loaded ... OK * checking whether the package can be loaded with stated dependencies ... OK * checking whether the package can be unloaded cleanly ... OK * checking whether the namespace can be loaded with stated dependencies ... OK * checking whether the namespace can be unloaded cleanly ... OK * checking startup messages can be suppressed ... OK * checking dependencies in R code ... OK * checking S3 generic/method consistency ... OK * checking replacement functions ... OK * checking foreign function calls ... OK * checking R code for possible problems ... NOTE covariate: no visible binding for global variable '.' denovo: no visible binding for global variable 'BSgenome.Hsapiens.UCSC.hg19' denovo: no visible binding for global variable 'BSgenome.Hsapiens.UCSC.hg38' explorepage: no visible binding for global variable '.' fitting: no visible binding for global variable 'BSgenome.Hsapiens.UCSC.hg19' fitting: no visible binding for global variable 'BSgenome.Hsapiens.UCSC.hg38' genCountMatrixFromVcf: no visible global function definition for 'alt<-' signeRFlow : server : loadSig: no visible binding for global variable 'sig' signeRFlow : server : loadSig: no visible binding for global variable 'sig_test' tcgaexplorer : get_similarities_tcga: no visible binding for global variable 'project' tcgaexplorer: no visible binding for global variable '.' DiffExp,SignExp-character: no visible binding for global variable 'fc' ExposureBarplot,SignExp: no visible binding for global variable 'Samples' ExposureBarplot,SignExp: no visible binding for global variable 'Signatures' ExposureBoxplot,SignExp: no visible binding for global variable 'Signatures' ExposureBoxplot,SignExp: no visible binding for global variable 'Samples' ExposureClassify,ANY-character: no visible binding for global variable 'Col' ExposureClassify,ANY-character: no visible binding for global variable 'Frequency' ExposureClassify,ANY-character: no visible binding for global variable 'Row' ExposureClassifyCV,ANY-character: no visible binding for global variable 'Col' ExposureClassifyCV,ANY-character: no visible binding for global variable 'Frequency' ExposureClassifyCV,ANY-character: no visible binding for global variable 'Row' ExposureCorrelation,SignExp-numeric: no visible binding for global variable 'Feature' ExposureCorrelation,SignExp-numeric: no visible binding for global variable 'exposure' ExposureCorrelation,matrix-numeric: no visible binding for global variable 'Feature' ExposureCorrelation,matrix-numeric: no visible binding for global variable 'exposure' Undefined global functions or variables: . BSgenome.Hsapiens.UCSC.hg19 BSgenome.Hsapiens.UCSC.hg38 Col Feature Frequency Row Samples Signatures alt<- exposure fc project sig sig_test * checking Rd files ... NOTE prepare_Rd: cosmic_data.Rd:91-93: Dropping empty section \details prepare_Rd: cosmic_data.Rd:98-100: Dropping empty section \references prepare_Rd: cosmic_data.Rd:101-102: Dropping empty section \examples prepare_Rd: tcga_similarities.Rd:96-98: Dropping empty section \details prepare_Rd: tcga_similarities.Rd:99-101: Dropping empty section \source prepare_Rd: tcga_similarities.Rd:102-104: Dropping empty section \references prepare_Rd: tcga_similarities.Rd:105-106: Dropping empty section \examples prepare_Rd: tcga_tumors.Rd:18-20: Dropping empty section \details prepare_Rd: tcga_tumors.Rd:21-23: Dropping empty section \source prepare_Rd: tcga_tumors.Rd:24-26: Dropping empty section \references prepare_Rd: tcga_tumors.Rd:27-28: Dropping empty section \examples * checking Rd metadata ... OK * checking Rd cross-references ... OK * checking for missing documentation entries ... OK * checking for code/documentation mismatches ... OK * checking Rd \usage sections ... OK * checking Rd contents ... OK * checking for unstated dependencies in examples ... OK * checking contents of 'data' directory ... OK * checking data for non-ASCII characters ... OK * checking LazyData ... OK * checking data for ASCII and uncompressed saves ... OK * checking R/sysdata.rda ... OK * checking line endings in C/C++/Fortran sources/headers ... OK * checking line endings in Makefiles ... OK * checking compilation flags in Makevars ... OK * checking for GNU extensions in Makefiles ... OK * checking for portable use of $(BLAS_LIBS) and $(LAPACK_LIBS) ... OK * checking use of PKG_*FLAGS in Makefiles ... OK * checking compiled code ... NOTE Note: information on .o files for x64 is not available File 'F:/biocbuild/bbs-3.18-bioc/R/library/signeR/libs/x64/signeR.dll': Found 'abort', possibly from 'abort' (C), 'runtime' (Fortran) Found 'exit', possibly from 'exit' (C), 'stop' (Fortran) Compiled code should not call entry points which might terminate R nor write to stdout/stderr instead of to the console, nor use Fortran I/O nor system RNGs nor [v]sprintf. The detected symbols are linked into the code but might come from libraries and not actually be called. See 'Writing portable packages' in the 'Writing R Extensions' manual. * checking files in 'vignettes' ... OK * checking examples ... OK Examples with CPU (user + system) or elapsed time > 5s user system elapsed ExposureClassifyCV 5.25 0.07 5.35 ExposureFuzzyClustering 5.19 0.06 5.25 * checking for unstated dependencies in vignettes ... OK * checking package vignettes in 'inst/doc' ... OK * checking running R code from vignettes ... SKIPPED * checking re-building of vignette outputs ... SKIPPED * checking PDF version of manual ... OK * DONE Status: 4 NOTEs See 'F:/biocbuild/bbs-3.18-bioc/meat/signeR.Rcheck/00check.log' for details.
signeR.Rcheck/00install.out
############################################################################## ############################################################################## ### ### Running command: ### ### F:\biocbuild\bbs-3.18-bioc\R\bin\R.exe CMD INSTALL signeR ### ############################################################################## ############################################################################## * installing to library 'F:/biocbuild/bbs-3.18-bioc/R/library' * installing *source* package 'signeR' ... ** using staged installation ** libs using C compiler: 'gcc.exe (GCC) 12.2.0' using C++ compiler: 'G__~1.EXE (GCC) 12.2.0' using C++11 g++ -std=gnu++11 -I"F:/biocbuild/bbs-3.18-bioc/R/include" -DNDEBUG -I'F:/biocbuild/bbs-3.18-bioc/R/library/Rcpp/include' -I'F:/biocbuild/bbs-3.18-bioc/R/library/RcppArmadillo/include' -I"C:/rtools43/x86_64-w64-mingw32.static.posix/include" -O2 -Wall -mfpmath=sse -msse2 -mstackrealign -c RcppExports.cpp -o RcppExports.o g++ -std=gnu++11 -I"F:/biocbuild/bbs-3.18-bioc/R/include" -DNDEBUG -I'F:/biocbuild/bbs-3.18-bioc/R/library/Rcpp/include' -I'F:/biocbuild/bbs-3.18-bioc/R/library/RcppArmadillo/include' -I"C:/rtools43/x86_64-w64-mingw32.static.posix/include" -O2 -Wall -mfpmath=sse -msse2 -mstackrealign -c fuzzy.cpp -o fuzzy.o fuzzy.cpp: In function 'Rcpp::List FuzzyClusterCpp(arma::cube, arma::mat, int, int, double)': fuzzy.cpp:143:11: warning: comparison of integer expressions of different signedness: 'int' and 'size_t' {aka 'long long unsigned int'} [-Wsign-compare] 143 | if(C>=j) C = j-1; | ~^~~ g++ -std=gnu++11 -I"F:/biocbuild/bbs-3.18-bioc/R/include" -DNDEBUG -I'F:/biocbuild/bbs-3.18-bioc/R/library/Rcpp/include' -I'F:/biocbuild/bbs-3.18-bioc/R/library/RcppArmadillo/include' -I"C:/rtools43/x86_64-w64-mingw32.static.posix/include" -O2 -Wall -mfpmath=sse -msse2 -mstackrealign -c gibbs_2.cpp -o gibbs_2.o gcc -I"F:/biocbuild/bbs-3.18-bioc/R/include" -DNDEBUG -I'F:/biocbuild/bbs-3.18-bioc/R/library/Rcpp/include' -I'F:/biocbuild/bbs-3.18-bioc/R/library/RcppArmadillo/include' -I"C:/rtools43/x86_64-w64-mingw32.static.posix/include" -O2 -Wall -mfpmath=sse -msse2 -mstackrealign -c signeR_init.c -o signeR_init.o g++ -shared -s -static-libgcc -o signeR.dll tmp.def RcppExports.o fuzzy.o gibbs_2.o signeR_init.o -LF:/biocbuild/bbs-3.18-bioc/R/bin/x64 -lRlapack -LF:/biocbuild/bbs-3.18-bioc/R/bin/x64 -lRblas -lgfortran -lm -lquadmath -LC:/rtools43/x86_64-w64-mingw32.static.posix/lib/x64 -LC:/rtools43/x86_64-w64-mingw32.static.posix/lib -LF:/biocbuild/bbs-3.18-bioc/R/bin/x64 -lR installing to F:/biocbuild/bbs-3.18-bioc/R/library/00LOCK-signeR/00new/signeR/libs/x64 ** R ** data *** moving datasets to lazyload DB ** inst ** byte-compile and prepare package for lazy loading ** help *** installing help indices ** building package indices ** installing vignettes ** testing if installed package can be loaded from temporary location ** testing if installed package can be loaded from final location ** testing if installed package keeps a record of temporary installation path * DONE (signeR)
signeR.Rcheck/signeR-Ex.timings
name | user | system | elapsed | |
Diffexp | 2.77 | 0.02 | 2.84 | |
ExposureClassify | 3.47 | 0.03 | 3.50 | |
ExposureClassifyCV | 5.25 | 0.07 | 5.35 | |
ExposureCorrelation | 1.96 | 0.05 | 2.03 | |
ExposureFuzzyClustering | 5.19 | 0.06 | 5.25 | |
ExposureGLM | 1.58 | 0.00 | 1.58 | |
ExposureHierarchicalClustering | 1.44 | 0.00 | 1.43 | |
ExposureSurvModel | 3.65 | 0.36 | 4.02 | |
ExposureSurvival | 2.00 | 0.01 | 2.01 | |
genMatrix | 1.99 | 0.05 | 2.09 | |
methods | 2.45 | 0.02 | 2.47 | |
plots | 2.13 | 0.00 | 2.13 | |
signeR-package | 0.00 | 0.01 | 0.01 | |
signeR | 0 | 0 | 0 | |