Back to Multiple platform build/check report for BioC 3.17
AB[C]DEFGHIJKLMNOPQRSTUVWXYZ

This page was generated on 2023-01-27 11:09:09 -0500 (Fri, 27 Jan 2023).

HostnameOSArch (*)R versionInstalled pkgs
nebbiolo1Linux (Ubuntu 22.04.1 LTS)x86_64R Under development (unstable) (2023-01-10 r83596) -- "Unsuffered Consequences" 4465
palomino3Windows Server 2022 Datacenterx64R Under development (unstable) (2023-01-10 r83596 ucrt) -- "Unsuffered Consequences" 4246
merida1macOS 10.14.6 Mojavex86_64R Under development (unstable) (2023-01-10 r83596) -- "Unsuffered Consequences" 4269
Click on any hostname to see more info about the system (e.g. compilers)      (*) as reported by 'uname -p', except on Windows and Mac OS X

CHECK results for chipenrich on merida1


To the developers/maintainers of the chipenrich package:
- Please allow up to 24 hours (and sometimes 48 hours) for your latest push to git@git.bioconductor.org:packages/chipenrich.git to
reflect on this report. See How and When does the builder pull? When will my changes propagate? for more information.
- Make sure to use the following settings in order to reproduce any error or warning you see on this page.

raw results

Package 305/2162HostnameOS / ArchINSTALLBUILDCHECKBUILD BIN
chipenrich 2.23.0  (landing page)
Raymond G. Cavalcante
Snapshot Date: 2023-01-26 14:00:20 -0500 (Thu, 26 Jan 2023)
git_url: https://git.bioconductor.org/packages/chipenrich
git_branch: master
git_last_commit: 51c681f
git_last_commit_date: 2022-11-01 11:08:40 -0500 (Tue, 01 Nov 2022)
nebbiolo1Linux (Ubuntu 22.04.1 LTS) / x86_64  OK    OK    OK  UNNEEDED, same version is already published
palomino3Windows Server 2022 Datacenter / x64  OK    OK    OK    OK  UNNEEDED, same version is already published
merida1macOS 10.14.6 Mojave / x86_64  OK    OK    OK    OK  UNNEEDED, same version is already published

Summary

Package: chipenrich
Version: 2.23.0
Command: /Library/Frameworks/R.framework/Resources/bin/R CMD check --install=check:chipenrich.install-out.txt --library=/Library/Frameworks/R.framework/Resources/library --no-vignettes --timings chipenrich_2.23.0.tar.gz
StartedAt: 2023-01-26 23:26:57 -0500 (Thu, 26 Jan 2023)
EndedAt: 2023-01-26 23:44:47 -0500 (Thu, 26 Jan 2023)
EllapsedTime: 1069.4 seconds
RetCode: 0
Status:   OK  
CheckDir: chipenrich.Rcheck
Warnings: 0

Command output

##############################################################################
##############################################################################
###
### Running command:
###
###   /Library/Frameworks/R.framework/Resources/bin/R CMD check --install=check:chipenrich.install-out.txt --library=/Library/Frameworks/R.framework/Resources/library --no-vignettes --timings chipenrich_2.23.0.tar.gz
###
##############################################################################
##############################################################################


* using log directory ‘/Users/biocbuild/bbs-3.17-bioc/meat/chipenrich.Rcheck’
* using R Under development (unstable) (2023-01-10 r83596)
* using platform: x86_64-apple-darwin17.0 (64-bit)
* R was compiled by
    Apple clang version 12.0.0 (clang-1200.0.32.29)
    GNU Fortran (GCC) 8.2.0
* running under: macOS Mojave 10.14.6
* using session charset: UTF-8
* using option ‘--no-vignettes’
* checking for file ‘chipenrich/DESCRIPTION’ ... OK
* checking extension type ... Package
* this is package ‘chipenrich’ version ‘2.23.0’
* checking package namespace information ... OK
* checking package dependencies ... OK
* checking if this is a source package ... OK
* checking if there is a namespace ... OK
* checking for hidden files and directories ... OK
* checking for portable file names ... OK
* checking for sufficient/correct file permissions ... OK
* checking whether package ‘chipenrich’ can be installed ... OK
* checking installed package size ... OK
* checking package directory ... OK
* checking ‘build’ directory ... OK
* checking DESCRIPTION meta-information ... OK
* checking top-level files ... OK
* checking for left-over files ... OK
* checking index information ... OK
* checking package subdirectories ... OK
* checking R files for non-ASCII characters ... OK
* checking R files for syntax errors ... OK
* checking whether the package can be loaded ... OK
* checking whether the package can be loaded with stated dependencies ... OK
* checking whether the package can be unloaded cleanly ... OK
* checking whether the namespace can be loaded with stated dependencies ... OK
* checking whether the namespace can be unloaded cleanly ... OK
* checking dependencies in R code ... OK
* checking S3 generic/method consistency ... OK
* checking replacement functions ... OK
* checking foreign function calls ... OK
* checking R code for possible problems ... OK
* checking Rd files ... NOTE
checkRd: (-1) broadenrich.Rd:134: Escaped LaTeX specials: \&
checkRd: (-1) chipenrich.Rd:148: Escaped LaTeX specials: \&
checkRd: (-1) hybridenrich.Rd:111: Escaped LaTeX specials: \&
checkRd: (-1) polyenrich.Rd:148: Escaped LaTeX specials: \&
checkRd: (-1) proxReg.Rd:117: Escaped LaTeX specials: \&
* checking Rd metadata ... OK
* checking Rd cross-references ... OK
* checking for missing documentation entries ... OK
* checking for code/documentation mismatches ... OK
* checking Rd \usage sections ... OK
* checking Rd contents ... OK
* checking for unstated dependencies in examples ... OK
* checking files in ‘vignettes’ ... OK
* checking examples ... OK
Examples with CPU (user + system) or elapsed time > 5s
                         user system elapsed
broadenrich            10.598  0.243  14.315
polyenrich              8.689  0.161  11.597
plot_polyenrich_spline  3.852  0.128   5.233
* checking for unstated dependencies in ‘tests’ ... OK
* checking tests ...
  Running ‘testthat.R’
 OK
* checking for unstated dependencies in vignettes ... OK
* checking package vignettes in ‘inst/doc’ ... OK
* checking running R code from vignettes ... SKIPPED
* checking re-building of vignette outputs ... SKIPPED
* checking PDF version of manual ... OK
* DONE

Status: 1 NOTE
See
  ‘/Users/biocbuild/bbs-3.17-bioc/meat/chipenrich.Rcheck/00check.log’
for details.



Installation output

chipenrich.Rcheck/00install.out

##############################################################################
##############################################################################
###
### Running command:
###
###   /Library/Frameworks/R.framework/Resources/bin/R CMD INSTALL chipenrich
###
##############################################################################
##############################################################################


* installing to library ‘/Library/Frameworks/R.framework/Versions/4.3/Resources/library’
* installing *source* package ‘chipenrich’ ...
** using staged installation
** R
** inst
** byte-compile and prepare package for lazy loading
** help
*** installing help indices
** building package indices
** installing vignettes
** testing if installed package can be loaded from temporary location
** testing if installed package can be loaded from final location
** testing if installed package keeps a record of temporary installation path
* DONE (chipenrich)

Tests output

chipenrich.Rcheck/tests/testthat.Rout


R Under development (unstable) (2023-01-10 r83596) -- "Unsuffered Consequences"
Copyright (C) 2023 The R Foundation for Statistical Computing
Platform: x86_64-apple-darwin17.0 (64-bit)

R is free software and comes with ABSOLUTELY NO WARRANTY.
You are welcome to redistribute it under certain conditions.
Type 'license()' or 'licence()' for distribution details.

R is a collaborative project with many contributors.
Type 'contributors()' for more information and
'citation()' on how to cite R or R packages in publications.

Type 'demo()' for some demos, 'help()' for on-line help, or
'help.start()' for an HTML browser interface to help.
Type 'q()' to quit R.

> library(testthat)
> library(chipenrich)





> 
> test_check("chipenrich")
[ FAIL 0 | WARN 0 | SKIP 3 | PASS 170 ]

══ Skipped tests ═══════════════════════════════════════════════════════════════
• empty test (3)

[ FAIL 0 | WARN 0 | SKIP 3 | PASS 170 ]
> 
> proc.time()
   user  system elapsed 
302.359   6.591 429.803 

Example timings

chipenrich.Rcheck/chipenrich-Ex.timings

nameusersystemelapsed
assign_peak_segments0.4010.0080.543
assign_peaks1.1700.0481.630
broadenrich10.598 0.24314.315
calc_peak_gene_overlap0.5630.0040.739
chipenrich2.6920.0423.613
load_peaks0.1220.0000.159
num_peaks_per_gene0.9090.0051.247
peaks2genes0.9780.0121.333
plot_chipenrich_spline2.3620.0983.210
plot_dist_to_tss0.6620.0100.868
plot_gene_coverage1.3510.0121.788
plot_polyenrich_spline3.8520.1285.233
polyenrich 8.689 0.16111.597
proxReg0.9260.0081.232
read_bed0.4960.0040.652
supported_genesets0.0090.0010.014
supported_genomes0.0040.0010.003
supported_locusdefs0.0110.0020.021
supported_methods0.0020.0000.002
supported_read_lengths0.0090.0020.013