Back to Multiple platform build/check report for BioC 3.16
ABCDEFGHIJKLMNOPQR[S]TUVWXYZ

This page was generated on 2022-06-24 11:07:19 -0400 (Fri, 24 Jun 2022).

HostnameOSArch (*)R versionInstalled pkgs
nebbiolo2Linux (Ubuntu 20.04.4 LTS)x86_644.2.0 Patched (2022-06-02 r82447) -- "Vigorous Calisthenics" 4331
palomino4Windows Server 2022 Datacenterx644.2.0 Patched (2022-06-02 r82447 ucrt) -- "Vigorous Calisthenics" 4136
lconwaymacOS 12.2.1 Montereyx86_644.2.0 Patched (2022-05-29 r82424) -- "Vigorous Calisthenics" 4147
Click on any hostname to see more info about the system (e.g. compilers)      (*) as reported by 'uname -p', except on Windows and Mac OS X

CHECK results for systemPipeR on palomino4


To the developers/maintainers of the systemPipeR package:
- Please allow up to 24 hours (and sometimes 48 hours) for your latest push to git@git.bioconductor.org:packages/systemPipeR.git to
reflect on this report. See How and When does the builder pull? When will my changes propagate? for more information.
- Make sure to use the following settings in order to reproduce any error or warning you see on this page.

raw results

Package 1954/2118HostnameOS / ArchINSTALLBUILDCHECKBUILD BIN
systemPipeR 2.3.2  (landing page)
Thomas Girke
Snapshot Date: 2022-06-23 14:00:04 -0400 (Thu, 23 Jun 2022)
git_url: https://git.bioconductor.org/packages/systemPipeR
git_branch: master
git_last_commit: e802523
git_last_commit_date: 2022-04-29 19:42:47 -0400 (Fri, 29 Apr 2022)
nebbiolo2Linux (Ubuntu 20.04.4 LTS) / x86_64  OK    OK    OK  UNNEEDED, same version is already published
palomino4Windows Server 2022 Datacenter / x64  OK    OK    OK    OK  UNNEEDED, same version is already published
lconwaymacOS 12.2.1 Monterey / x86_64  OK    OK    OK    OK  UNNEEDED, same version is already published

Summary

Package: systemPipeR
Version: 2.3.2
Command: F:\biocbuild\bbs-3.16-bioc\R\bin\R.exe CMD check --force-multiarch --install=check:systemPipeR.install-out.txt --library=F:\biocbuild\bbs-3.16-bioc\R\library --no-vignettes --timings systemPipeR_2.3.2.tar.gz
StartedAt: 2022-06-24 06:23:47 -0400 (Fri, 24 Jun 2022)
EndedAt: 2022-06-24 06:29:29 -0400 (Fri, 24 Jun 2022)
EllapsedTime: 341.8 seconds
RetCode: 0
Status:   OK  
CheckDir: systemPipeR.Rcheck
Warnings: 0

Command output

##############################################################################
##############################################################################
###
### Running command:
###
###   F:\biocbuild\bbs-3.16-bioc\R\bin\R.exe CMD check --force-multiarch --install=check:systemPipeR.install-out.txt --library=F:\biocbuild\bbs-3.16-bioc\R\library --no-vignettes --timings systemPipeR_2.3.2.tar.gz
###
##############################################################################
##############################################################################


* using log directory 'F:/biocbuild/bbs-3.16-bioc/meat/systemPipeR.Rcheck'
* using R version 4.2.0 Patched (2022-06-02 r82447 ucrt)
* using platform: x86_64-w64-mingw32 (64-bit)
* using session charset: UTF-8
* using option '--no-vignettes'
* checking for file 'systemPipeR/DESCRIPTION' ... OK
* checking extension type ... Package
* this is package 'systemPipeR' version '2.3.2'
* checking package namespace information ... OK
* checking package dependencies ... OK
* checking if this is a source package ... OK
* checking if there is a namespace ... OK
* checking for hidden files and directories ... NOTE
Found the following hidden files and directories:
  inst/extdata/.batchtools.conf.R
  inst/extdata/.batchtools.conf.R.sge
  inst/extdata/.batchtools.conf.R.torque
These were most likely included in error. See section 'Package
structure' in the 'Writing R Extensions' manual.
* checking for portable file names ... OK
* checking whether package 'systemPipeR' can be installed ... OK
* checking installed package size ... NOTE
  installed size is  6.2Mb
  sub-directories of 1Mb or more:
    R             1.5Mb
    extdata       2.3Mb
    htmlwidgets   2.0Mb
* checking package directory ... OK
* checking 'build' directory ... OK
* checking DESCRIPTION meta-information ... OK
* checking top-level files ... OK
* checking for left-over files ... OK
* checking index information ... OK
* checking package subdirectories ... OK
* checking R files for non-ASCII characters ... OK
* checking R files for syntax errors ... OK
* checking whether the package can be loaded ... OK
* checking whether the package can be loaded with stated dependencies ... OK
* checking whether the package can be unloaded cleanly ... OK
* checking whether the namespace can be loaded with stated dependencies ... OK
* checking whether the namespace can be unloaded cleanly ... OK
* checking dependencies in R code ... OK
* checking S3 generic/method consistency ... OK
* checking replacement functions ... OK
* checking foreign function calls ... OK
* checking R code for possible problems ... OK
* checking Rd files ... OK
* checking Rd metadata ... OK
* checking Rd cross-references ... OK
* checking for missing documentation entries ... OK
* checking for code/documentation mismatches ... OK
* checking Rd \usage sections ... OK
* checking Rd contents ... OK
* checking for unstated dependencies in examples ... OK
* checking line endings in Makefiles ... OK
* checking for GNU extensions in Makefiles ... OK
* checking include directives in Makefiles ... OK
* checking files in 'vignettes' ... OK
* checking examples ... OK
Examples with CPU (user + system) or elapsed time > 5s
             user system elapsed
genFeatures 29.62   0.39   30.03
run_DESeq2  11.01   0.10   11.12
renderLogs   6.22   0.34   13.42
* checking for unstated dependencies in 'tests' ... OK
* checking tests ...
  Running 'testthat.R'
 OK
* checking for unstated dependencies in vignettes ... OK
* checking package vignettes in 'inst/doc' ... OK
* checking running R code from vignettes ... SKIPPED
* checking re-building of vignette outputs ... SKIPPED
* checking PDF version of manual ... OK
* DONE

Status: 2 NOTEs
See
  'F:/biocbuild/bbs-3.16-bioc/meat/systemPipeR.Rcheck/00check.log'
for details.



Installation output

systemPipeR.Rcheck/00install.out

##############################################################################
##############################################################################
###
### Running command:
###
###   C:\cygwin\bin\curl.exe -O http://155.52.207.166/BBS/3.16/bioc/src/contrib/systemPipeR_2.3.2.tar.gz && rm -rf systemPipeR.buildbin-libdir && mkdir systemPipeR.buildbin-libdir && F:\biocbuild\bbs-3.16-bioc\R\bin\R.exe CMD INSTALL --merge-multiarch --build --library=systemPipeR.buildbin-libdir systemPipeR_2.3.2.tar.gz && F:\biocbuild\bbs-3.16-bioc\R\bin\R.exe CMD INSTALL systemPipeR_2.3.2.zip && rm systemPipeR_2.3.2.tar.gz systemPipeR_2.3.2.zip
###
##############################################################################
##############################################################################


  % Total    % Received % Xferd  Average Speed   Time    Time     Time  Current
                                 Dload  Upload   Total   Spent    Left  Speed

  0     0    0     0    0     0      0      0 --:--:-- --:--:-- --:--:--     0
100 4477k  100 4477k    0     0  13.9M      0 --:--:-- --:--:-- --:--:-- 14.0M
only one architecture so ignoring '--merge-multiarch'
* installing *source* package 'systemPipeR' ...
** using staged installation
** R
** inst
** byte-compile and prepare package for lazy loading
** help
*** installing help indices
** building package indices
** installing vignettes
** testing if installed package can be loaded from temporary location
** testing if installed package can be loaded from final location
** testing if installed package keeps a record of temporary installation path
* MD5 sums
packaged installation of 'systemPipeR' as systemPipeR_2.3.2.zip
* DONE (systemPipeR)
* installing to library 'F:/biocbuild/bbs-3.16-bioc/R/library'
package 'systemPipeR' successfully unpacked and MD5 sums checked

Tests output

systemPipeR.Rcheck/tests/testthat.Rout


R version 4.2.0 Patched (2022-06-02 r82447 ucrt) -- "Vigorous Calisthenics"
Copyright (C) 2022 The R Foundation for Statistical Computing
Platform: x86_64-w64-mingw32/x64 (64-bit)

R is free software and comes with ABSOLUTELY NO WARRANTY.
You are welcome to redistribute it under certain conditions.
Type 'license()' or 'licence()' for distribution details.

R is a collaborative project with many contributors.
Type 'contributors()' for more information and
'citation()' on how to cite R or R packages in publications.

Type 'demo()' for some demos, 'help()' for on-line help, or
'help.start()' for an HTML browser interface to help.
Type 'q()' to quit R.

> library(testthat)
> library(systemPipeR)
Loading required package: Rsamtools
Loading required package: GenomeInfoDb
Loading required package: BiocGenerics

Attaching package: 'BiocGenerics'

The following objects are masked from 'package:stats':

    IQR, mad, sd, var, xtabs

The following objects are masked from 'package:base':

    Filter, Find, Map, Position, Reduce, anyDuplicated, append,
    as.data.frame, basename, cbind, colnames, dirname, do.call,
    duplicated, eval, evalq, get, grep, grepl, intersect, is.unsorted,
    lapply, mapply, match, mget, order, paste, pmax, pmax.int, pmin,
    pmin.int, rank, rbind, rownames, sapply, setdiff, sort, table,
    tapply, union, unique, unsplit, which.max, which.min

Loading required package: S4Vectors
Loading required package: stats4

Attaching package: 'S4Vectors'

The following objects are masked from 'package:base':

    I, expand.grid, unname

Loading required package: IRanges

Attaching package: 'IRanges'

The following object is masked from 'package:grDevices':

    windows

Loading required package: GenomicRanges
Loading required package: Biostrings
Loading required package: XVector

Attaching package: 'Biostrings'

The following object is masked from 'package:base':

    strsplit

Loading required package: ShortRead
Loading required package: BiocParallel
Loading required package: GenomicAlignments
Loading required package: SummarizedExperiment
Loading required package: MatrixGenerics
Loading required package: matrixStats

Attaching package: 'MatrixGenerics'

The following objects are masked from 'package:matrixStats':

    colAlls, colAnyNAs, colAnys, colAvgsPerRowSet, colCollapse,
    colCounts, colCummaxs, colCummins, colCumprods, colCumsums,
    colDiffs, colIQRDiffs, colIQRs, colLogSumExps, colMadDiffs,
    colMads, colMaxs, colMeans2, colMedians, colMins, colOrderStats,
    colProds, colQuantiles, colRanges, colRanks, colSdDiffs, colSds,
    colSums2, colTabulates, colVarDiffs, colVars, colWeightedMads,
    colWeightedMeans, colWeightedMedians, colWeightedSds,
    colWeightedVars, rowAlls, rowAnyNAs, rowAnys, rowAvgsPerColSet,
    rowCollapse, rowCounts, rowCummaxs, rowCummins, rowCumprods,
    rowCumsums, rowDiffs, rowIQRDiffs, rowIQRs, rowLogSumExps,
    rowMadDiffs, rowMads, rowMaxs, rowMeans2, rowMedians, rowMins,
    rowOrderStats, rowProds, rowQuantiles, rowRanges, rowRanks,
    rowSdDiffs, rowSds, rowSums2, rowTabulates, rowVarDiffs, rowVars,
    rowWeightedMads, rowWeightedMeans, rowWeightedMedians,
    rowWeightedSds, rowWeightedVars

Loading required package: Biobase
Welcome to Bioconductor

    Vignettes contain introductory material; view with
    'browseVignettes()'. To cite Bioconductor, see
    'citation("Biobase")', and for packages 'citation("pkgname")'.


Attaching package: 'Biobase'

The following object is masked from 'package:MatrixGenerics':

    rowMedians

The following objects are masked from 'package:matrixStats':

    anyMissing, rowMedians

> 
> test_check("systemPipeR")
[1] "Generated F:\\biocbuild\\bbs-3.16-bioc\\tmpdir\\RtmpQpQi3A/rnaseq directory. Next run in rnaseq directory, the R code from *.Rmd template interactively. Alternatively, workflows can be exectued with a single command as instructed in the vignette."
[1] "Generated F:\\biocbuild\\bbs-3.16-bioc\\tmpdir\\RtmpQpQi3A/rnaseq2 directory. Next run in rnaseq directory, the R code from *.Rmd template interactively. Alternatively, workflows can be exectued with a single command as instructed in the vignette."
[1] "Generated F:\\biocbuild\\bbs-3.16-bioc\\tmpdir\\RtmpQpQi3A/newtest directory. Next run in new directory, the R code from *.Rmd template interactively. Alternatively, workflows can be exectued with a single command as instructed in the vignette."
Creating directory 'F:\biocbuild\bbs-3.16-bioc\tmpdir\RtmpQpQi3A\newtest/.SPRproject'
Creating file 'F:\biocbuild\bbs-3.16-bioc\tmpdir\RtmpQpQi3A\newtest/.SPRproject/SYSargsList.yml'
Reading Rmd fileNow importing step 'load_library' 
Now importing step 'export_iris' 
Now importing step 'gzip' 
Now importing step 'gunzip' 
Now importing step 'stats' 
Instance of 'LineWise'
    Code Chunk length: 1
mapply(function(x, y) write.csv(x, y), split(iris, factor(iris$Species)), file.path("results", paste0(names(split(iris, factor(iris$Species))), ".csv")))
load_library
    5 + 5
load_library
    5 + 5
    66 + 55
Running Step:  load_library 
Running Session: Management 

  |                                                                            
  |                                                                      |   0%
  |                                                                            
  |======================================================================| 100%
Step Status:  Success 
Running Step:  export_iris 
Running Session: Management 

  |                                                                            
  |                                                                      |   0%
  |                                                                            
  |======================================================================| 100%
Step Status:  Success 
Skipping Step:  gzip 
Skipping Step:  gunzip 
Skipping Step:  stats 
Done with workflow running, now consider rendering logs & reports
To render logs, run:    sal <- renderLogs(sal)
From command-line:      Rscript -e "sal = systemPipeR::SPRproject(resume = TRUE); sal = systemPipeR::renderLogs(sal)"
To render reports, run: sal <- renderReport(sal)
From command-line:      Rscript -e "sal= s ystemPipeR::SPRproject(resume = TRUE); sal = systemPipeR::renderReport(sal)"
This message is displayed once per R session
[ FAIL 0 | WARN 6 | SKIP 11 | PASS 26 ]

══ Skipped tests ═══════════════════════════════════════════════════════════════
• On Bioconductor (10)
• On Windows (1)

[ FAIL 0 | WARN 6 | SKIP 11 | PASS 26 ]
> 
> proc.time()
   user  system elapsed 
  10.96    2.23   16.95 

Example timings

systemPipeR.Rcheck/systemPipeR-Ex.timings

nameusersystemelapsed
EnvModules-class000
GOHyperGAll000
INTERSECTset-class0.020.000.02
LineWise-class0.200.010.23
ParamFiles0.080.000.08
SPRproject0.020.000.02
SYSargs-class0.010.000.01
SYSargs2-class0.080.020.10
SYSargsList-class0.450.030.48
SYSargsList0.080.030.11
VENNset-class0.000.010.02
alignStats1.840.051.89
catDB-class000
catmap000
check.output0.990.021.00
clusterRun0.950.030.98
config.param000
configWF000
countRangeset0.050.010.06
createParamFiles0.050.000.05
cwlFilesUpdate000
evalCode0.030.000.04
featureCoverage0.910.020.92
featuretypeCounts0.890.000.89
filterDEGs0.980.041.03
filterVars0.020.000.02
genFeatures29.62 0.3930.03
importWF0.040.020.05
loadWorkflow3.250.063.31
mergeBamByFactor000
moduleload000
olBarplot0.410.020.43
olRanges0.090.000.10
output_update1.140.001.14
overLapper0.280.020.29
plotfeatureCoverage1.100.041.14
plotfeaturetypeCounts1.090.071.16
predORF0.190.000.20
preprocessReads0.340.000.35
readComp1.180.001.19
renderLogs 6.22 0.3413.42
renderReport2.350.223.41
returnRPKM000
runCommandline1.250.021.26
runDiff0.030.000.03
runWF0.140.000.15
run_DESeq211.01 0.1011.12
run_edgeR0.570.020.58
sal2bash0.680.030.72
sal2rmd0.460.030.48
scaleRanges0.20.00.2
seeFastq000
showDF0.050.050.10
subsetWF1.150.051.20
symLink2bam1.100.031.13
sysargs0.010.000.01
systemArgs0.020.000.02
targets.as.df000
trimbatch0.250.040.29
tryCMD000
tryPath0.000.020.02
variantReport000
vennPlot0.330.060.39
writeTargets0.060.030.09
writeTargetsRef000
writeTargetsout1.220.021.24
write_SYSargsList0.090.010.11