Back to Multiple platform build/check report for BioC 3.16 |
|
This page was generated on 2022-06-24 11:06:53 -0400 (Fri, 24 Jun 2022).
Hostname | OS | Arch (*) | R version | Installed pkgs |
---|---|---|---|---|
nebbiolo2 | Linux (Ubuntu 20.04.4 LTS) | x86_64 | 4.2.0 Patched (2022-06-02 r82447) -- "Vigorous Calisthenics" | 4331 |
palomino4 | Windows Server 2022 Datacenter | x64 | 4.2.0 Patched (2022-06-02 r82447 ucrt) -- "Vigorous Calisthenics" | 4136 |
lconway | macOS 12.2.1 Monterey | x86_64 | 4.2.0 Patched (2022-05-29 r82424) -- "Vigorous Calisthenics" | 4147 |
Click on any hostname to see more info about the system (e.g. compilers) (*) as reported by 'uname -p', except on Windows and Mac OS X |
To the developers/maintainers of the nucleR package: - Please allow up to 24 hours (and sometimes 48 hours) for your latest push to git@git.bioconductor.org:packages/nucleR.git to reflect on this report. See How and When does the builder pull? When will my changes propagate? for more information. - Make sure to use the following settings in order to reproduce any error or warning you see on this page. |
Package 1329/2118 | Hostname | OS / Arch | INSTALL | BUILD | CHECK | BUILD BIN | ||||||||
nucleR 2.29.0 (landing page) Alba Sala
| nebbiolo2 | Linux (Ubuntu 20.04.4 LTS) / x86_64 | OK | OK | WARNINGS | ![]() | ||||||||
palomino4 | Windows Server 2022 Datacenter / x64 | OK | OK | WARNINGS | OK | ![]() | ||||||||
lconway | macOS 12.2.1 Monterey / x86_64 | OK | OK | WARNINGS | OK | ![]() | ||||||||
Package: nucleR |
Version: 2.29.0 |
Command: C:\cygwin\bin\curl.exe -O http://155.52.207.166/BBS/3.16/bioc/src/contrib/nucleR_2.29.0.tar.gz && rm -rf nucleR.buildbin-libdir && mkdir nucleR.buildbin-libdir && F:\biocbuild\bbs-3.16-bioc\R\bin\R.exe CMD INSTALL --merge-multiarch --build --library=nucleR.buildbin-libdir nucleR_2.29.0.tar.gz && F:\biocbuild\bbs-3.16-bioc\R\bin\R.exe CMD INSTALL nucleR_2.29.0.zip && rm nucleR_2.29.0.tar.gz nucleR_2.29.0.zip |
StartedAt: 2022-06-23 16:20:14 -0400 (Thu, 23 Jun 2022) |
EndedAt: 2022-06-23 16:20:55 -0400 (Thu, 23 Jun 2022) |
EllapsedTime: 40.7 seconds |
RetCode: 0 |
Status: OK |
############################################################################## ############################################################################## ### ### Running command: ### ### C:\cygwin\bin\curl.exe -O http://155.52.207.166/BBS/3.16/bioc/src/contrib/nucleR_2.29.0.tar.gz && rm -rf nucleR.buildbin-libdir && mkdir nucleR.buildbin-libdir && F:\biocbuild\bbs-3.16-bioc\R\bin\R.exe CMD INSTALL --merge-multiarch --build --library=nucleR.buildbin-libdir nucleR_2.29.0.tar.gz && F:\biocbuild\bbs-3.16-bioc\R\bin\R.exe CMD INSTALL nucleR_2.29.0.zip && rm nucleR_2.29.0.tar.gz nucleR_2.29.0.zip ### ############################################################################## ############################################################################## % Total % Received % Xferd Average Speed Time Time Time Current Dload Upload Total Spent Left Speed 0 0 0 0 0 0 0 0 --:--:-- --:--:-- --:--:-- 0 100 793k 100 793k 0 0 7409k 0 --:--:-- --:--:-- --:--:-- 7482k only one architecture so ignoring '--merge-multiarch' * installing *source* package 'nucleR' ... ** using staged installation ** R ** data ** inst ** byte-compile and prepare package for lazy loading Loading required package: usethis Welcome at Thu Jun 23 16:20:17 2022 Goodbye at Thu Jun 23 16:20:29 2022 ** help *** installing help indices ** building package indices Loading required package: usethis Welcome at Thu Jun 23 16:20:31 2022 Goodbye at Thu Jun 23 16:20:31 2022 ** installing vignettes ** testing if installed package can be loaded from temporary location Loading required package: usethis Welcome at Thu Jun 23 16:20:33 2022 Goodbye at Thu Jun 23 16:20:42 2022 ** testing if installed package can be loaded from final location Loading required package: usethis Welcome at Thu Jun 23 16:20:44 2022 Goodbye at Thu Jun 23 16:20:53 2022 ** testing if installed package keeps a record of temporary installation path * MD5 sums packaged installation of 'nucleR' as nucleR_2.29.0.zip * DONE (nucleR) * installing to library 'F:/biocbuild/bbs-3.16-bioc/R/library' package 'nucleR' successfully unpacked and MD5 sums checked