Back to Multiple platform build/check report for BioC 3.15
[A]BCDEFGHIJKLMNOPQRSTUVWXYZ

This page was generated on 2022-01-22 11:09:44 -0500 (Sat, 22 Jan 2022).

HostnameOSArch (*)R versionInstalled pkgs
nebbiolo1Linux (Ubuntu 20.04.4 LTS)x86_64R Under development (unstable) (2022-01-05 r81451) -- "Unsuffered Consequences" 4163
riesling1Windows Server 2019 Standardx64R Under development (unstable) (2021-11-21 r81221) -- "Unsuffered Consequences" 4058
palomino3Windows Server 2022 Datacenterx64R Under development (unstable) (2021-12-21 r81400 ucrt) -- "Unsuffered Consequences" 4000
merida1macOS 10.14.6 Mojavex86_64R Under development (unstable) (2022-01-05 r81451) -- "Unsuffered Consequences" 4117
Click on any hostname to see more info about the system (e.g. compilers)      (*) as reported by 'uname -p', except on Windows and Mac OS X

BUILD BIN results for annmap on merida1


To the developers/maintainers of the annmap package:
- Please allow up to 24 hours (and sometimes 48 hours) for your latest push to git@git.bioconductor.org:packages/annmap.git to
reflect on this report. See How and When does the builder pull? When will my changes propagate? here for more information.
- Make sure to use the following settings in order to reproduce any error or warning you see on this page.

raw results

Package 55/2075HostnameOS / ArchINSTALLBUILDCHECKBUILD BIN
annmap 1.37.1  (landing page)
Chris Wirth
Snapshot Date: 2022-01-21 13:55:18 -0500 (Fri, 21 Jan 2022)
git_url: https://git.bioconductor.org/packages/annmap
git_branch: master
git_last_commit: 1f8be5e
git_last_commit_date: 2022-01-20 08:54:03 -0500 (Thu, 20 Jan 2022)
nebbiolo1Linux (Ubuntu 20.04.4 LTS) / x86_64  OK    OK    WARNINGS  UNNEEDED, same version is already published
riesling1Windows Server 2019 Standard / x64... NOT SUPPORTED ...
palomino3Windows Server 2022 Datacenter / x64... NOT SUPPORTED ...
merida1macOS 10.14.6 Mojave / x86_64  OK    OK    WARNINGS    OK  UNNEEDED, same version is already published

Summary

Package: annmap
Version: 1.37.1
Command: rm -rf annmap.buildbin-libdir && mkdir annmap.buildbin-libdir && /Users/biocbuild/BBS/utils/build-universal.sh annmap_1.37.1.tar.gz /Library/Frameworks/R.framework/Resources/bin/R annmap.buildbin-libdir
StartedAt: 2022-01-22 07:25:14 -0500 (Sat, 22 Jan 2022)
EndedAt: 2022-01-22 07:25:59 -0500 (Sat, 22 Jan 2022)
EllapsedTime: 45.5 seconds
RetCode: 0
Status:   OK  
PackageFile: annmap_1.37.1.tgz
PackageFileSize: 1.153 MiB

Command output

##############################################################################
##############################################################################
###
### Running command:
###
###   rm -rf annmap.buildbin-libdir && mkdir annmap.buildbin-libdir && /Users/biocbuild/BBS/utils/build-universal.sh annmap_1.37.1.tar.gz /Library/Frameworks/R.framework/Resources/bin/R annmap.buildbin-libdir
###
##############################################################################
##############################################################################


>>>>>>> 
>>>>>>> INSTALLATION WITH 'R CMD INSTALL --preclean --no-multiarch --library=annmap.buildbin-libdir annmap_1.37.1.tar.gz'
>>>>>>> 

* installing *source* package ‘annmap’ ...
** using staged installation
** R
** inst
** byte-compile and prepare package for lazy loading
in method for ‘probesetInRange’ with signature ‘x="RangedData"’: no definition for class “RangedData”
in method for ‘probeInRange’ with signature ‘x="RangedData"’: no definition for class “RangedData”
in method for ‘proteinInRange’ with signature ‘x="RangedData"’: no definition for class “RangedData”
in method for ‘domainInRange’ with signature ‘x="RangedData"’: no definition for class “RangedData”
in method for ‘geneInRange’ with signature ‘x="RangedData"’: no definition for class “RangedData”
in method for ‘transcriptInRange’ with signature ‘x="RangedData"’: no definition for class “RangedData”
in method for ‘exonInRange’ with signature ‘x="RangedData"’: no definition for class “RangedData”
in method for ‘estGeneInRange’ with signature ‘x="RangedData"’: no definition for class “RangedData”
in method for ‘estTranscriptInRange’ with signature ‘x="RangedData"’: no definition for class “RangedData”
in method for ‘estExonInRange’ with signature ‘x="RangedData"’: no definition for class “RangedData”
in method for ‘predictionTranscriptInRange’ with signature ‘x="RangedData"’: no definition for class “RangedData”
** help
*** installing help indices
** building package indices
** installing vignettes
** testing if installed package can be loaded from temporary location
** testing if installed package can be loaded from final location
** testing if installed package keeps a record of temporary installation path
* DONE (annmap)