Back to Multiple platform build/check report for BioC 3.12
ABCDEFGH[I]JKLMNOPQRSTUVWXYZ

BUILD BIN report for InPAS on merida1

This page was generated on 2020-08-07 12:32:13 -0400 (Fri, 07 Aug 2020).

TO THE DEVELOPERS/MAINTAINERS OF THE InPAS PACKAGE: Please make sure to use the following settings in order to reproduce any error or warning you see on this page.
Package 866/1882HostnameOS / ArchINSTALLBUILDCHECKBUILD BIN
InPAS 1.21.0
Jianhong Ou
Snapshot Date: 2020-08-06 14:50:46 -0400 (Thu, 06 Aug 2020)
URL: https://git.bioconductor.org/packages/InPAS
Branch: master
Last Commit: 54b29cc
Last Changed Date: 2020-04-27 14:47:33 -0400 (Mon, 27 Apr 2020)
malbec1 Linux (Ubuntu 18.04.4 LTS) / x86_64  OK  OK  OK UNNEEDED, same version exists in internal repository
tokay1 Windows Server 2012 R2 Standard / x64  OK  OK  OK  OK UNNEEDED, same version exists in internal repository
merida1 macOS 10.14.6 Mojave / x86_64  OK  OK  OK [ OK ]UNNEEDED, same version exists in internal repository

Summary

Package: InPAS
Version: 1.21.0
Command: rm -rf InPAS.buildbin-libdir && mkdir InPAS.buildbin-libdir && /Users/biocbuild/BBS/utils/build-universal.sh InPAS_1.21.0.tar.gz /Library/Frameworks/R.framework/Versions/Current/Resources/bin/R InPAS.buildbin-libdir
StartedAt: 2020-08-07 06:50:57 -0400 (Fri, 07 Aug 2020)
EndedAt: 2020-08-07 06:51:49 -0400 (Fri, 07 Aug 2020)
EllapsedTime: 52.0 seconds
RetCode: 0
Status:  OK 
PackageFile: InPAS_1.21.0.tgz
PackageFileSize: 3.778 MiB

Command output

##############################################################################
##############################################################################
###
### Running command:
###
###   rm -rf InPAS.buildbin-libdir && mkdir InPAS.buildbin-libdir && /Users/biocbuild/BBS/utils/build-universal.sh InPAS_1.21.0.tar.gz /Library/Frameworks/R.framework/Versions/Current/Resources/bin/R InPAS.buildbin-libdir
###
##############################################################################
##############################################################################


>>>>>>> 
>>>>>>> INSTALLATION WITH 'R CMD INSTALL --preclean --no-multiarch --library=InPAS.buildbin-libdir InPAS_1.21.0.tar.gz'
>>>>>>> 

* installing *source* package ‘InPAS’ ...
** using staged installation
** R
** data
** inst
** byte-compile and prepare package for lazy loading
** help
*** installing help indices
** building package indices
** installing vignettes
** testing if installed package can be loaded from temporary location
** testing if installed package can be loaded from final location
** testing if installed package keeps a record of temporary installation path
* DONE (InPAS)