Back to Multiple platform build/check report for BioC 3.15
ABC[D]EFGHIJKLMNOPQRSTUVWXYZ

This page was generated on 2022-01-25 11:10:48 -0500 (Tue, 25 Jan 2022).

HostnameOSArch (*)R versionInstalled pkgs
nebbiolo1Linux (Ubuntu 20.04.4 LTS)x86_64R Under development (unstable) (2022-01-05 r81451) -- "Unsuffered Consequences" 4164
riesling1Windows Server 2019 Standardx64R Under development (unstable) (2021-11-21 r81221) -- "Unsuffered Consequences" 4059
palomino3Windows Server 2022 Datacenterx64R Under development (unstable) (2021-12-21 r81400 ucrt) -- "Unsuffered Consequences" 4001
merida1macOS 10.14.6 Mojavex86_64R Under development (unstable) (2022-01-05 r81451) -- "Unsuffered Consequences" 4118
Click on any hostname to see more info about the system (e.g. compilers)      (*) as reported by 'uname -p', except on Windows and Mac OS X

BUILD BIN results for deepSNV on merida1


To the developers/maintainers of the deepSNV package:
- Please allow up to 24 hours (and sometimes 48 hours) for your latest push to git@git.bioconductor.org:packages/deepSNV.git to
reflect on this report. See How and When does the builder pull? When will my changes propagate? here for more information.
- Make sure to use the following settings in order to reproduce any error or warning you see on this page.

raw results

Package 473/2075HostnameOS / ArchINSTALLBUILDCHECKBUILD BIN
deepSNV 1.41.0  (landing page)
Moritz Gerstung
Snapshot Date: 2022-01-24 13:55:18 -0500 (Mon, 24 Jan 2022)
git_url: https://git.bioconductor.org/packages/deepSNV
git_branch: master
git_last_commit: e79bce8
git_last_commit_date: 2021-10-26 12:01:57 -0500 (Tue, 26 Oct 2021)
nebbiolo1Linux (Ubuntu 20.04.4 LTS) / x86_64  OK    OK    OK  UNNEEDED, same version is already published
riesling1Windows Server 2019 Standard / x64  OK    OK    OK    OK  
palomino3Windows Server 2022 Datacenter / x64  OK    OK    OK    OK  NO, package depends on 'IRanges' which is not available
merida1macOS 10.14.6 Mojave / x86_64  OK    OK    OK    OK  UNNEEDED, same version is already published

Summary

Package: deepSNV
Version: 1.41.0
Command: rm -rf deepSNV.buildbin-libdir && mkdir deepSNV.buildbin-libdir && /Users/biocbuild/BBS/utils/build-universal.sh deepSNV_1.41.0.tar.gz /Library/Frameworks/R.framework/Resources/bin/R deepSNV.buildbin-libdir
StartedAt: 2022-01-25 07:47:33 -0500 (Tue, 25 Jan 2022)
EndedAt: 2022-01-25 07:48:58 -0500 (Tue, 25 Jan 2022)
EllapsedTime: 84.9 seconds
RetCode: 0
Status:   OK  
PackageFile: deepSNV_1.41.0.tgz
PackageFileSize: 3.117 MiB

Command output

##############################################################################
##############################################################################
###
### Running command:
###
###   rm -rf deepSNV.buildbin-libdir && mkdir deepSNV.buildbin-libdir && /Users/biocbuild/BBS/utils/build-universal.sh deepSNV_1.41.0.tar.gz /Library/Frameworks/R.framework/Resources/bin/R deepSNV.buildbin-libdir
###
##############################################################################
##############################################################################


>>>>>>> 
>>>>>>> INSTALLATION WITH 'R CMD INSTALL --preclean --no-multiarch --library=deepSNV.buildbin-libdir deepSNV_1.41.0.tar.gz'
>>>>>>> 

* installing *source* package ‘deepSNV’ ...
** using staged installation
** libs
clang++ -mmacosx-version-min=10.13 -std=gnu++14 -I"/Library/Frameworks/R.framework/Resources/include" -DNDEBUG -D_FILE_OFFSET_BITS=64 -I'/Library/Frameworks/R.framework/Versions/4.2/Resources/library/Rhtslib/include' -I/usr/local/include   -fPIC  -Wall -g -O2  -c bam2R.cpp -o bam2R.o
bam2R.cpp:100:6: warning: unused variable 'c' [-Wunused-variable]
        int c = 0;
            ^
bam2R.cpp:97:13: warning: unused variable 'iter' [-Wunused-variable]
        hts_itr_t *iter = NULL;
                   ^
2 warnings generated.
clang -mmacosx-version-min=10.13 -I"/Library/Frameworks/R.framework/Resources/include" -DNDEBUG -D_FILE_OFFSET_BITS=64 -I'/Library/Frameworks/R.framework/Versions/4.2/Resources/library/Rhtslib/include' -I/usr/local/include   -fPIC  -Wall -g -O2  -c betabinom.c -o betabinom.o
betabinom.c:27:9: warning: unused variable 'log' [-Wunused-variable]
        int i, log=0;
               ^
1 warning generated.
clang++ -mmacosx-version-min=10.13 -std=gnu++14 -dynamiclib -Wl,-headerpad_max_install_names -undefined dynamic_lookup -single_module -multiply_defined suppress -L/Library/Frameworks/R.framework/Resources/lib -L/usr/local/lib -o deepSNV.so bam2R.o betabinom.o /Library/Frameworks/R.framework/Versions/4.2/Resources/library/Rhtslib/usrlib/libhts.a -lcurl -F/Library/Frameworks/R.framework/.. -framework R -Wl,-framework -Wl,CoreFoundation
installing to /Users/biocbuild/bbs-3.15-bioc/meat/deepSNV.buildbin-libdir/00LOCK-deepSNV/00new/deepSNV/libs
** R
** data
** inst
** byte-compile and prepare package for lazy loading
** help
*** installing help indices
** building package indices
** installing vignettes
** testing if installed package can be loaded from temporary location
** checking absolute paths in shared objects and dynamic libraries
** testing if installed package can be loaded from final location
** testing if installed package keeps a record of temporary installation path
* DONE (deepSNV)


>>>>>>> 
>>>>>>> FIXING LINKS FOR deepSNV.buildbin-libdir/deepSNV/libs/deepSNV.so
>>>>>>> 

install_name_tool -change "/usr/local/lib/libgcc_s.1.dylib" "/Library/Frameworks/R.framework/Versions/4.2/Resources/lib/libgcc_s.1.dylib" "deepSNV.buildbin-libdir/deepSNV/libs/deepSNV.so"
install_name_tool -change "/usr/local/lib/libgfortran.5.dylib" "/Library/Frameworks/R.framework/Versions/4.2/Resources/lib/libgfortran.5.dylib" "deepSNV.buildbin-libdir/deepSNV/libs/deepSNV.so"
install_name_tool -change "/usr/local/lib/libquadmath.0.dylib" "/Library/Frameworks/R.framework/Versions/4.2/Resources/lib/libquadmath.0.dylib" "deepSNV.buildbin-libdir/deepSNV/libs/deepSNV.so"