Back to Multiple platform build/check report for BioC 3.19:   simplified   long
ABCD[E]FGHIJKLMNOPQRSTUVWXYZ

This page was generated on 2024-02-18 02:28:27 -0500 (Sun, 18 Feb 2024).

HostnameOSArch (*)R versionInstalled pkgs
nebbiolo1Linux (Ubuntu 22.04.3 LTS)x86_64R Under development (unstable) (2024-01-16 r85808) -- "Unsuffered Consequences" 4657
palomino3Windows Server 2022 Datacenterx64R Under development (unstable) (2024-01-14 r85805 ucrt) -- "Unsuffered Consequences" 4397
merida1macOS 12.7.1 Montereyx86_64R Under development (unstable) (2024-01-16 r85808) -- "Unsuffered Consequences" 4424
kunpeng2Linux (openEuler 22.03 LTS-SP1)aarch64R Under development (unstable) (2024-01-16 r85812) -- "Unsuffered Consequences" 4400
Click on any hostname to see more info about the system (e.g. compilers)      (*) as reported by 'uname -p', except on Windows and Mac OS X

Package 623/2244HostnameOS / ArchINSTALLBUILDCHECKBUILD BIN
EDASeq 2.37.0  (landing page)
Davide Risso
Snapshot Date: 2024-02-16 14:10:20 -0500 (Fri, 16 Feb 2024)
git_url: https://git.bioconductor.org/packages/EDASeq
git_branch: devel
git_last_commit: 3601963
git_last_commit_date: 2023-10-24 09:47:57 -0500 (Tue, 24 Oct 2023)
nebbiolo1Linux (Ubuntu 22.04.3 LTS) / x86_64  OK    OK    OK  UNNEEDED, same version is already published
palomino3Windows Server 2022 Datacenter / x64  OK    OK    OK    OK  UNNEEDED, same version is already published
merida1macOS 12.7.1 Monterey / x86_64  OK    OK    OK    OK  UNNEEDED, same version is already published
kunpeng2Linux (openEuler 22.03 LTS-SP1) / aarch64  OK    OK    OK  

BUILD BIN results for EDASeq on merida1


To the developers/maintainers of the EDASeq package:
- Allow up to 24 hours (and sometimes 48 hours) for your latest push to git@git.bioconductor.org:packages/EDASeq.git to reflect on this report. See Troubleshooting Build Report for more information.
- Use the following Renviron settings to reproduce errors and warnings.
- If 'R CMD check' started to fail recently on the Linux builder(s) over a missing dependency, add the missing dependency to 'Suggests:' in your DESCRIPTION file. See Renviron.bioc for more information.

raw results


Summary

Package: EDASeq
Version: 2.37.0
Command: rm -rf EDASeq.buildbin-libdir && mkdir EDASeq.buildbin-libdir && /Users/biocbuild/BBS/utils/build-universal.sh EDASeq_2.37.0.tar.gz /Library/Frameworks/R.framework/Resources/bin/R EDASeq.buildbin-libdir
StartedAt: 2024-02-17 13:23:33 -0500 (Sat, 17 Feb 2024)
EndedAt: 2024-02-17 13:25:17 -0500 (Sat, 17 Feb 2024)
EllapsedTime: 103.7 seconds
RetCode: 0
Status:   OK  
PackageFile: EDASeq_2.37.0.tgz
PackageFileSize: 1.329 MiB

Command output

##############################################################################
##############################################################################
###
### Running command:
###
###   rm -rf EDASeq.buildbin-libdir && mkdir EDASeq.buildbin-libdir && /Users/biocbuild/BBS/utils/build-universal.sh EDASeq_2.37.0.tar.gz /Library/Frameworks/R.framework/Resources/bin/R EDASeq.buildbin-libdir
###
##############################################################################
##############################################################################


>>>>>>> 
>>>>>>> INSTALLATION WITH 'R CMD INSTALL --preclean --no-multiarch --library=EDASeq.buildbin-libdir EDASeq_2.37.0.tar.gz'
>>>>>>> 

* installing *source* package ‘EDASeq’ ...
** using staged installation
** R
** data
** inst
** byte-compile and prepare package for lazy loading
** help
*** installing help indices
** building package indices
** installing vignettes
** testing if installed package can be loaded from temporary location
** testing if installed package can be loaded from final location
** testing if installed package keeps a record of temporary installation path
* DONE (EDASeq)