Back to Multiple platform build/check report for BioC 3.17:   simplified   long
[A]BCDEFGHIJKLMNOPQRSTUVWXYZ

This page was generated on 2023-02-04 11:05:57 -0500 (Sat, 04 Feb 2023).

HostnameOSArch (*)R versionInstalled pkgs
nebbiolo1Linux (Ubuntu 22.04.1 LTS)x86_64R Under development (unstable) (2023-01-10 r83596) -- "Unsuffered Consequences" 4483
palomino3Windows Server 2022 Datacenterx64R Under development (unstable) (2023-01-10 r83596 ucrt) -- "Unsuffered Consequences" 4249
merida1macOS 10.14.6 Mojavex86_64R Under development (unstable) (2023-01-10 r83596) -- "Unsuffered Consequences" 4272
Click on any hostname to see more info about the system (e.g. compilers)      (*) as reported by 'uname -p', except on Windows and Mac OS X

CHECK results for amplican on merida1


To the developers/maintainers of the amplican package:
- Please allow up to 24 hours (and sometimes 48 hours) for your latest push to git@git.bioconductor.org:packages/amplican.git to
reflect on this report. See How and When does the builder pull? When will my changes propagate? for more information.
- Make sure to use the following settings in order to reproduce any error or warning you see on this page.

raw results

Package 46/2164HostnameOS / ArchINSTALLBUILDCHECKBUILD BIN
amplican 1.21.0  (landing page)
Eivind Valen
Snapshot Date: 2023-02-03 14:00:22 -0500 (Fri, 03 Feb 2023)
git_url: https://git.bioconductor.org/packages/amplican
git_branch: master
git_last_commit: 5b04ab5
git_last_commit_date: 2022-11-01 11:16:19 -0500 (Tue, 01 Nov 2022)
nebbiolo1Linux (Ubuntu 22.04.1 LTS) / x86_64  OK    OK    OK  UNNEEDED, same version is already published
palomino3Windows Server 2022 Datacenter / x64  OK    OK    OK    OK  UNNEEDED, same version is already published
merida1macOS 10.14.6 Mojave / x86_64  OK    OK    OK    OK  UNNEEDED, same version is already published

Summary

Package: amplican
Version: 1.21.0
Command: /Library/Frameworks/R.framework/Resources/bin/R CMD check --install=check:amplican.install-out.txt --library=/Library/Frameworks/R.framework/Resources/library --no-vignettes --timings amplican_1.21.0.tar.gz
StartedAt: 2023-02-03 22:18:57 -0500 (Fri, 03 Feb 2023)
EndedAt: 2023-02-03 22:25:41 -0500 (Fri, 03 Feb 2023)
EllapsedTime: 404.5 seconds
RetCode: 0
Status:   OK  
CheckDir: amplican.Rcheck
Warnings: 0

Command output

##############################################################################
##############################################################################
###
### Running command:
###
###   /Library/Frameworks/R.framework/Resources/bin/R CMD check --install=check:amplican.install-out.txt --library=/Library/Frameworks/R.framework/Resources/library --no-vignettes --timings amplican_1.21.0.tar.gz
###
##############################################################################
##############################################################################


* using log directory ‘/Users/biocbuild/bbs-3.17-bioc/meat/amplican.Rcheck’
* using R Under development (unstable) (2023-01-10 r83596)
* using platform: x86_64-apple-darwin17.0 (64-bit)
* R was compiled by
    Apple clang version 12.0.0 (clang-1200.0.32.29)
    GNU Fortran (GCC) 8.2.0
* running under: macOS Mojave 10.14.6
* using session charset: UTF-8
* using option ‘--no-vignettes’
* checking for file ‘amplican/DESCRIPTION’ ... OK
* checking extension type ... Package
* this is package ‘amplican’ version ‘1.21.0’
* package encoding: UTF-8
* checking package namespace information ... OK
* checking package dependencies ... OK
* checking if this is a source package ... OK
* checking if there is a namespace ... OK
* checking for hidden files and directories ... OK
* checking for portable file names ... OK
* checking for sufficient/correct file permissions ... OK
* checking whether package ‘amplican’ can be installed ... OK
* used C++ compiler: ‘Apple clang version 11.0.0 (clang-1100.0.33.17)’
* used SDK: ‘’
* checking installed package size ... OK
* checking package directory ... OK
* checking ‘build’ directory ... OK
* checking DESCRIPTION meta-information ... OK
* checking top-level files ... OK
* checking for left-over files ... OK
* checking index information ... OK
* checking package subdirectories ... OK
* checking R files for non-ASCII characters ... OK
* checking R files for syntax errors ... OK
* checking whether the package can be loaded ... OK
* checking whether the package can be loaded with stated dependencies ... OK
* checking whether the package can be unloaded cleanly ... OK
* checking whether the namespace can be loaded with stated dependencies ... OK
* checking whether the namespace can be unloaded cleanly ... OK
* checking dependencies in R code ... OK
* checking S3 generic/method consistency ... OK
* checking replacement functions ... OK
* checking foreign function calls ... OK
* checking R code for possible problems ... OK
* checking Rd files ... OK
* checking Rd metadata ... OK
* checking Rd cross-references ... OK
* checking for missing documentation entries ... OK
* checking for code/documentation mismatches ... OK
* checking Rd \usage sections ... OK
* checking Rd contents ... OK
* checking for unstated dependencies in examples ... OK
* checking line endings in C/C++/Fortran sources/headers ... OK
* checking compiled code ... NOTE
Note: information on .o files is not available
* checking files in ‘vignettes’ ... OK
* checking examples ... OK
Examples with CPU (user + system) or elapsed time > 5s
                   user system elapsed
amplicanAlign    13.547  1.160  21.863
amplicanPipeline  9.980  0.438  14.593
extractEvents     5.965  0.023   8.490
* checking for unstated dependencies in ‘tests’ ... OK
* checking tests ...
  Running ‘testthat.R’
 OK
* checking for unstated dependencies in vignettes ... OK
* checking package vignettes in ‘inst/doc’ ... OK
* checking running R code from vignettes ... SKIPPED
* checking re-building of vignette outputs ... SKIPPED
* checking PDF version of manual ... OK
* DONE

Status: 1 NOTE
See
  ‘/Users/biocbuild/bbs-3.17-bioc/meat/amplican.Rcheck/00check.log’
for details.



Installation output

amplican.Rcheck/00install.out

##############################################################################
##############################################################################
###
### Running command:
###
###   /Library/Frameworks/R.framework/Resources/bin/R CMD INSTALL amplican
###
##############################################################################
##############################################################################


* installing to library ‘/Library/Frameworks/R.framework/Versions/4.3/Resources/library’
* installing *source* package ‘amplican’ ...
** using staged installation
** libs
using C++ compiler: ‘Apple clang version 11.0.0 (clang-1100.0.33.17)’
using SDK: ‘’
clang++ -mmacosx-version-min=10.13 -std=gnu++14 -I"/Library/Frameworks/R.framework/Resources/include" -DNDEBUG  -I'/Library/Frameworks/R.framework/Versions/4.3/Resources/library/Rcpp/include' -I/usr/local/include    -fPIC  -Wall -g -O2  -c RcppExports.cpp -o RcppExports.o
clang++ -mmacosx-version-min=10.13 -std=gnu++14 -I"/Library/Frameworks/R.framework/Resources/include" -DNDEBUG  -I'/Library/Frameworks/R.framework/Versions/4.3/Resources/library/Rcpp/include' -I/usr/local/include    -fPIC  -Wall -g -O2  -c bezier.cpp -o bezier.o
clang++ -mmacosx-version-min=10.13 -std=gnu++14 -dynamiclib -Wl,-headerpad_max_install_names -undefined dynamic_lookup -single_module -multiply_defined suppress -L/Library/Frameworks/R.framework/Resources/lib -L/usr/local/lib -o amplican.so RcppExports.o bezier.o -F/Library/Frameworks/R.framework/.. -framework R -Wl,-framework -Wl,CoreFoundation
installing to /Library/Frameworks/R.framework/Versions/4.3/Resources/library/00LOCK-amplican/00new/amplican/libs
** R
** inst
** byte-compile and prepare package for lazy loading
** help
*** installing help indices
** building package indices
** installing vignettes
** testing if installed package can be loaded from temporary location
** checking absolute paths in shared objects and dynamic libraries
** testing if installed package can be loaded from final location
** testing if installed package keeps a record of temporary installation path
* DONE (amplican)

Tests output

amplican.Rcheck/tests/testthat.Rout


R Under development (unstable) (2023-01-10 r83596) -- "Unsuffered Consequences"
Copyright (C) 2023 The R Foundation for Statistical Computing
Platform: x86_64-apple-darwin17.0 (64-bit)

R is free software and comes with ABSOLUTELY NO WARRANTY.
You are welcome to redistribute it under certain conditions.
Type 'license()' or 'licence()' for distribution details.

R is a collaborative project with many contributors.
Type 'contributors()' for more information and
'citation()' on how to cite R or R packages in publications.

Type 'demo()' for some demos, 'help()' for on-line help, or
'help.start()' for an HTML browser interface to help.
Type 'q()' to quit R.

> library(testthat)
> library(amplican)
Loading required package: BiocGenerics

Attaching package: 'BiocGenerics'

The following objects are masked from 'package:stats':

    IQR, mad, sd, var, xtabs

The following objects are masked from 'package:base':

    Filter, Find, Map, Position, Reduce, anyDuplicated, aperm, append,
    as.data.frame, basename, cbind, colnames, dirname, do.call,
    duplicated, eval, evalq, get, grep, grepl, intersect, is.unsorted,
    lapply, mapply, match, mget, order, paste, pmax, pmax.int, pmin,
    pmin.int, rank, rbind, rownames, sapply, setdiff, sort, table,
    tapply, union, unique, unsplit, which.max, which.min

Loading required package: Biostrings
Loading required package: S4Vectors
Loading required package: stats4

Attaching package: 'S4Vectors'

The following objects are masked from 'package:base':

    I, expand.grid, unname

Loading required package: IRanges
Loading required package: XVector
Loading required package: GenomeInfoDb

Attaching package: 'Biostrings'

The following object is masked from 'package:base':

    strsplit

Loading required package: data.table

Attaching package: 'data.table'

The following object is masked from 'package:IRanges':

    shift

The following objects are masked from 'package:S4Vectors':

    first, second

Please consider supporting this software by citing:

Labun et al. 2019
Accurate analysis of genuine CRISPR editing events with ampliCan.
Genome Res. 2019 Mar 8
doi: 10.1101/gr.244293.118

> 
> test_check("amplican")
[ FAIL 0 | WARN 5 | SKIP 0 | PASS 57 ]

[ FAIL 0 | WARN 5 | SKIP 0 | PASS 57 ]
> 
> proc.time()
   user  system elapsed 
 45.356   2.150  65.048 

Example timings

amplican.Rcheck/amplican-Ex.timings

nameusersystemelapsed
AlignmentsExperimentSet-class2.0210.0602.617
amplicanAlign13.547 1.16021.863
amplicanConsensus0.2320.0020.332
amplicanFilter0.0430.0060.072
amplicanMap0.6120.0050.905
amplicanNormalize0.0630.0020.092
amplicanOverlap0.0340.0010.052
amplicanPipeline 9.980 0.43814.593
amplicanReport0.0210.0170.049
amplicanSummarize0.0280.0020.041
amplican_print_reads0.5750.0060.817
assignedCount0.0860.0010.140
barcodeData-set0.0460.0010.058
barcodeData0.0470.0010.078
comb_along0.0540.0030.083
experimentData-set0.0460.0010.066
experimentData0.0520.0020.073
extractEvents5.9650.0238.490
findEOP0.0060.0010.012
findLQR0.0070.0000.011
findPD0.0060.0010.006
fwdReads-set0.0470.0010.062
fwdReads0.7880.0051.062
fwdReadsType-set0.0470.0000.071
fwdReadsType0.0450.0010.062
geom_bezier0.6750.0090.951
lookupAlignment0.5580.0060.824
metaplot_deletions0.4520.0060.673
metaplot_insertions0.6280.0050.878
metaplot_mismatches0.6080.0040.850
plot_cuts0.7570.0081.069
plot_deletions0.5480.0050.781
plot_height0.0010.0000.001
plot_heterogeneity0.6160.0030.859
plot_insertions0.8820.0041.238
plot_mismatches1.0790.0291.561
plot_variants1.4760.0102.114
readCounts-set0.0460.0010.068
readCounts0.0450.0010.065
rveReads-set0.0460.0010.066
rveReads0.8060.0381.213
rveReadsType-set0.0460.0010.070
rveReadsType0.0440.0010.058
unassignedCount0.0460.0010.068
unassignedData-set0.0460.0010.068
unassignedData0.0480.0020.071
writeAlignments0.0850.0040.124