Back to Multiple platform build/check report for BioC 3.16 |
|
This page was generated on 2022-08-15 11:06:29 -0400 (Mon, 15 Aug 2022).
Hostname | OS | Arch (*) | R version | Installed pkgs |
---|---|---|---|---|
nebbiolo2 | Linux (Ubuntu 20.04.4 LTS) | x86_64 | 4.2.1 (2022-06-23) -- "Funny-Looking Kid" | 4378 |
palomino4 | Windows Server 2022 Datacenter | x64 | 4.2.1 (2022-06-23 ucrt) -- "Funny-Looking Kid" | 4161 |
lconway | macOS 12.2.1 Monterey | x86_64 | 4.2.1 Patched (2022-07-09 r82577) -- "Funny-Looking Kid" | 4169 |
Click on any hostname to see more info about the system (e.g. compilers) (*) as reported by 'uname -p', except on Windows and Mac OS X |
To the developers/maintainers of the MethReg package: - Please allow up to 24 hours (and sometimes 48 hours) for your latest push to git@git.bioconductor.org:packages/MethReg.git to reflect on this report. See How and When does the builder pull? When will my changes propagate? for more information. - Make sure to use the following settings in order to reproduce any error or warning you see on this page. |
Package 1144/2140 | Hostname | OS / Arch | INSTALL | BUILD | CHECK | BUILD BIN | ||||||||
MethReg 1.7.0 (landing page) Tiago Silva
| nebbiolo2 | Linux (Ubuntu 20.04.4 LTS) / x86_64 | OK | OK | WARNINGS | ![]() | ||||||||
palomino4 | Windows Server 2022 Datacenter / x64 | OK | OK | WARNINGS | OK | ![]() | ||||||||
lconway | macOS 12.2.1 Monterey / x86_64 | OK | OK | WARNINGS | OK | ![]() | ||||||||
Package: MethReg |
Version: 1.7.0 |
Command: C:\cygwin\bin\curl.exe -O http://155.52.207.166/BBS/3.16/bioc/src/contrib/MethReg_1.7.0.tar.gz && rm -rf MethReg.buildbin-libdir && mkdir MethReg.buildbin-libdir && F:\biocbuild\bbs-3.16-bioc\R\bin\R.exe CMD INSTALL --merge-multiarch --build --library=MethReg.buildbin-libdir MethReg_1.7.0.tar.gz && F:\biocbuild\bbs-3.16-bioc\R\bin\R.exe CMD INSTALL MethReg_1.7.0.zip && rm MethReg_1.7.0.tar.gz MethReg_1.7.0.zip |
StartedAt: 2022-08-14 16:22:28 -0400 (Sun, 14 Aug 2022) |
EndedAt: 2022-08-14 16:23:16 -0400 (Sun, 14 Aug 2022) |
EllapsedTime: 48.7 seconds |
RetCode: 0 |
Status: OK |
############################################################################## ############################################################################## ### ### Running command: ### ### C:\cygwin\bin\curl.exe -O http://155.52.207.166/BBS/3.16/bioc/src/contrib/MethReg_1.7.0.tar.gz && rm -rf MethReg.buildbin-libdir && mkdir MethReg.buildbin-libdir && F:\biocbuild\bbs-3.16-bioc\R\bin\R.exe CMD INSTALL --merge-multiarch --build --library=MethReg.buildbin-libdir MethReg_1.7.0.tar.gz && F:\biocbuild\bbs-3.16-bioc\R\bin\R.exe CMD INSTALL MethReg_1.7.0.zip && rm MethReg_1.7.0.tar.gz MethReg_1.7.0.zip ### ############################################################################## ############################################################################## % Total % Received % Xferd Average Speed Time Time Time Current Dload Upload Total Spent Left Speed 0 0 0 0 0 0 0 0 --:--:-- --:--:-- --:--:-- 0 53 3633k 53 1951k 0 0 2622k 0 0:00:01 --:--:-- 0:00:01 2622k 100 3633k 100 3633k 0 0 3098k 0 0:00:01 0:00:01 --:--:-- 3100k only one architecture so ignoring '--merge-multiarch' * installing *source* package 'MethReg' ... ** using staged installation ** R ** data *** moving datasets to lazyload DB ** inst ** byte-compile and prepare package for lazy loading ** help *** installing help indices ** building package indices ** installing vignettes ** testing if installed package can be loaded from temporary location ** testing if installed package can be loaded from final location ** testing if installed package keeps a record of temporary installation path * MD5 sums packaged installation of 'MethReg' as MethReg_1.7.0.zip * DONE (MethReg) * installing to library 'F:/biocbuild/bbs-3.16-bioc/R/library' package 'MethReg' successfully unpacked and MD5 sums checked