Back to Multiple platform build/check report for BioC 3.19:   simplified   long
ABC[D]EFGHIJKLMNOPQRSTUVWXYZ

This page was generated on 2024-02-28 11:38:51 -0500 (Wed, 28 Feb 2024).

HostnameOSArch (*)R versionInstalled pkgs
nebbiolo1Linux (Ubuntu 22.04.3 LTS)x86_64R Under development (unstable) (2024-01-16 r85808) -- "Unsuffered Consequences" 4671
palomino3Windows Server 2022 Datacenterx64R Under development (unstable) (2024-01-14 r85805 ucrt) -- "Unsuffered Consequences" 4411
merida1macOS 12.7.1 Montereyx86_64R Under development (unstable) (2024-01-16 r85808) -- "Unsuffered Consequences" 4438
kunpeng2Linux (openEuler 22.03 LTS-SP1)aarch64R Under development (unstable) (2024-01-16 r85812) -- "Unsuffered Consequences" 4414
Click on any hostname to see more info about the system (e.g. compilers)      (*) as reported by 'uname -p', except on Windows and Mac OS X

Package 602/2251HostnameOS / ArchINSTALLBUILDCHECKBUILD BIN
DropletUtils 1.23.0  (landing page)
Jonathan Griffiths
Snapshot Date: 2024-02-26 14:39:26 -0500 (Mon, 26 Feb 2024)
git_url: https://git.bioconductor.org/packages/DropletUtils
git_branch: devel
git_last_commit: 5c19167
git_last_commit_date: 2023-11-06 04:42:46 -0500 (Mon, 06 Nov 2023)
nebbiolo1Linux (Ubuntu 22.04.3 LTS) / x86_64  OK    OK    WARNINGS  UNNEEDED, same version is already published
palomino3Windows Server 2022 Datacenter / x64  OK    OK    OK    OK  UNNEEDED, same version is already published
merida1macOS 12.7.1 Monterey / x86_64  OK    OK    WARNINGS    OK  UNNEEDED, same version is already published
kunpeng2Linux (openEuler 22.03 LTS-SP1) / aarch64  OK    OK    ERROR  

BUILD BIN results for DropletUtils on merida1


To the developers/maintainers of the DropletUtils package:
- Allow up to 24 hours (and sometimes 48 hours) for your latest push to git@git.bioconductor.org:packages/DropletUtils.git to reflect on this report. See Troubleshooting Build Report for more information.
- Use the following Renviron settings to reproduce errors and warnings.
- If 'R CMD check' started to fail recently on the Linux builder(s) over a missing dependency, add the missing dependency to 'Suggests:' in your DESCRIPTION file. See Renviron.bioc for more information.

raw results


Summary

Package: DropletUtils
Version: 1.23.0
Command: rm -rf DropletUtils.buildbin-libdir && mkdir DropletUtils.buildbin-libdir && /Users/biocbuild/BBS/utils/build-universal.sh DropletUtils_1.23.0.tar.gz /Library/Frameworks/R.framework/Resources/bin/R DropletUtils.buildbin-libdir
StartedAt: 2024-02-27 15:56:47 -0500 (Tue, 27 Feb 2024)
EndedAt: 2024-02-27 16:00:10 -0500 (Tue, 27 Feb 2024)
EllapsedTime: 203.2 seconds
RetCode: 0
Status:   OK  
PackageFile: DropletUtils_1.23.0.tgz
PackageFileSize: 2.317 MiB

Command output

##############################################################################
##############################################################################
###
### Running command:
###
###   rm -rf DropletUtils.buildbin-libdir && mkdir DropletUtils.buildbin-libdir && /Users/biocbuild/BBS/utils/build-universal.sh DropletUtils_1.23.0.tar.gz /Library/Frameworks/R.framework/Resources/bin/R DropletUtils.buildbin-libdir
###
##############################################################################
##############################################################################


>>>>>>> 
>>>>>>> INSTALLATION WITH 'R CMD INSTALL --preclean --no-multiarch --library=DropletUtils.buildbin-libdir DropletUtils_1.23.0.tar.gz'
>>>>>>> 

* installing *source* package ‘DropletUtils’ ...
** using staged installation
** libs
using C++ compiler: ‘Apple clang version 14.0.0 (clang-1400.0.29.202)’
using C++11
using SDK: ‘MacOSX11.3.sdk’
clang++ -arch x86_64 -std=gnu++11 -I"/Library/Frameworks/R.framework/Resources/include" -DNDEBUG  -I'/Library/Frameworks/R.framework/Versions/4.4-x86_64/Resources/library/Rcpp/include' -I'/Library/Frameworks/R.framework/Versions/4.4-x86_64/Resources/library/beachmat/include' -I'/Library/Frameworks/R.framework/Versions/4.4-x86_64/Resources/library/Rhdf5lib/include' -I'/Library/Frameworks/R.framework/Versions/4.4-x86_64/Resources/library/BH/include' -I'/Library/Frameworks/R.framework/Versions/4.4-x86_64/Resources/library/dqrng/include' -I'/Library/Frameworks/R.framework/Versions/4.4-x86_64/Resources/library/scuttle/include' -I/opt/R/x86_64/include    -fPIC  -falign-functions=64 -Wall -g -O2  -c RcppExports.cpp -o RcppExports.o
clang++ -arch x86_64 -std=gnu++11 -I"/Library/Frameworks/R.framework/Resources/include" -DNDEBUG  -I'/Library/Frameworks/R.framework/Versions/4.4-x86_64/Resources/library/Rcpp/include' -I'/Library/Frameworks/R.framework/Versions/4.4-x86_64/Resources/library/beachmat/include' -I'/Library/Frameworks/R.framework/Versions/4.4-x86_64/Resources/library/Rhdf5lib/include' -I'/Library/Frameworks/R.framework/Versions/4.4-x86_64/Resources/library/BH/include' -I'/Library/Frameworks/R.framework/Versions/4.4-x86_64/Resources/library/dqrng/include' -I'/Library/Frameworks/R.framework/Versions/4.4-x86_64/Resources/library/scuttle/include' -I/opt/R/x86_64/include    -fPIC  -falign-functions=64 -Wall -g -O2  -c downsample_run.cpp -o downsample_run.o
clang++ -arch x86_64 -std=gnu++11 -I"/Library/Frameworks/R.framework/Resources/include" -DNDEBUG  -I'/Library/Frameworks/R.framework/Versions/4.4-x86_64/Resources/library/Rcpp/include' -I'/Library/Frameworks/R.framework/Versions/4.4-x86_64/Resources/library/beachmat/include' -I'/Library/Frameworks/R.framework/Versions/4.4-x86_64/Resources/library/Rhdf5lib/include' -I'/Library/Frameworks/R.framework/Versions/4.4-x86_64/Resources/library/BH/include' -I'/Library/Frameworks/R.framework/Versions/4.4-x86_64/Resources/library/dqrng/include' -I'/Library/Frameworks/R.framework/Versions/4.4-x86_64/Resources/library/scuttle/include' -I/opt/R/x86_64/include    -fPIC  -falign-functions=64 -Wall -g -O2  -c encode_sequences.cpp -o encode_sequences.o
clang++ -arch x86_64 -std=gnu++11 -I"/Library/Frameworks/R.framework/Resources/include" -DNDEBUG  -I'/Library/Frameworks/R.framework/Versions/4.4-x86_64/Resources/library/Rcpp/include' -I'/Library/Frameworks/R.framework/Versions/4.4-x86_64/Resources/library/beachmat/include' -I'/Library/Frameworks/R.framework/Versions/4.4-x86_64/Resources/library/Rhdf5lib/include' -I'/Library/Frameworks/R.framework/Versions/4.4-x86_64/Resources/library/BH/include' -I'/Library/Frameworks/R.framework/Versions/4.4-x86_64/Resources/library/dqrng/include' -I'/Library/Frameworks/R.framework/Versions/4.4-x86_64/Resources/library/scuttle/include' -I/opt/R/x86_64/include    -fPIC  -falign-functions=64 -Wall -g -O2  -c find_chimeric.cpp -o find_chimeric.o
clang++ -arch x86_64 -std=gnu++11 -I"/Library/Frameworks/R.framework/Resources/include" -DNDEBUG  -I'/Library/Frameworks/R.framework/Versions/4.4-x86_64/Resources/library/Rcpp/include' -I'/Library/Frameworks/R.framework/Versions/4.4-x86_64/Resources/library/beachmat/include' -I'/Library/Frameworks/R.framework/Versions/4.4-x86_64/Resources/library/Rhdf5lib/include' -I'/Library/Frameworks/R.framework/Versions/4.4-x86_64/Resources/library/BH/include' -I'/Library/Frameworks/R.framework/Versions/4.4-x86_64/Resources/library/dqrng/include' -I'/Library/Frameworks/R.framework/Versions/4.4-x86_64/Resources/library/scuttle/include' -I/opt/R/x86_64/include    -fPIC  -falign-functions=64 -Wall -g -O2  -c find_swapped.cpp -o find_swapped.o
In file included from find_swapped.cpp:2:
In file included from /Library/Frameworks/R.framework/Versions/4.4-x86_64/Resources/library/beachmat/include/beachmat3/beachmat.h:24:
In file included from /Library/Frameworks/R.framework/Versions/4.4-x86_64/Resources/library/beachmat/include/beachmat3/read_lin_block.h:11:
/Library/Frameworks/R.framework/Versions/4.4-x86_64/Resources/library/beachmat/include/beachmat3/lin_matrix.h:218:43: warning: 'beachmat::lin_sparse_matrix::get_row' hides overloaded virtual functions [-Woverloaded-virtual]
    virtual sparse_index<const int*, int> get_row(size_t r, int* work_x, int* work_i, size_t first, size_t last) = 0;
                                          ^
/Library/Frameworks/R.framework/Versions/4.4-x86_64/Resources/library/beachmat/include/beachmat3/lin_matrix.h:66:24: note: hidden overloaded virtual function 'beachmat::lin_matrix::get_row' declared here: different number of parameters (4 vs 5)
    virtual const int* get_row(size_t r, int* work, size_t first, size_t last) = 0;
                       ^
/Library/Frameworks/R.framework/Versions/4.4-x86_64/Resources/library/beachmat/include/beachmat3/lin_matrix.h:95:27: note: hidden overloaded virtual function 'beachmat::lin_matrix::get_row' declared here: different number of parameters (4 vs 5)
    virtual const double* get_row(size_t r, double* work, size_t first, size_t last) = 0;
                          ^
/Library/Frameworks/R.framework/Versions/4.4-x86_64/Resources/library/beachmat/include/beachmat3/lin_matrix.h:236:43: warning: 'beachmat::lin_sparse_matrix::get_col' hides overloaded virtual functions [-Woverloaded-virtual]
    virtual sparse_index<const int*, int> get_col(size_t c, int* work_x, int* work_i, size_t first, size_t last) = 0;
                                          ^
/Library/Frameworks/R.framework/Versions/4.4-x86_64/Resources/library/beachmat/include/beachmat3/lin_matrix.h:52:24: note: hidden overloaded virtual function 'beachmat::lin_matrix::get_col' declared here: different number of parameters (4 vs 5)
    virtual const int* get_col(size_t c, int* work, size_t first, size_t last) = 0;
                       ^
/Library/Frameworks/R.framework/Versions/4.4-x86_64/Resources/library/beachmat/include/beachmat3/lin_matrix.h:81:27: note: hidden overloaded virtual function 'beachmat::lin_matrix::get_col' declared here: different number of parameters (4 vs 5)
    virtual const double* get_col(size_t c, double* work, size_t first, size_t last) = 0;
                          ^
/Library/Frameworks/R.framework/Versions/4.4-x86_64/Resources/library/beachmat/include/beachmat3/lin_matrix.h:254:46: warning: 'beachmat::lin_sparse_matrix::get_row' hides overloaded virtual functions [-Woverloaded-virtual]
    virtual sparse_index<const double*, int> get_row(size_t r, double* work_x, int* work_i, size_t first, size_t last) = 0;
                                             ^
/Library/Frameworks/R.framework/Versions/4.4-x86_64/Resources/library/beachmat/include/beachmat3/lin_matrix.h:66:24: note: hidden overloaded virtual function 'beachmat::lin_matrix::get_row' declared here: different number of parameters (4 vs 5)
    virtual const int* get_row(size_t r, int* work, size_t first, size_t last) = 0;
                       ^
/Library/Frameworks/R.framework/Versions/4.4-x86_64/Resources/library/beachmat/include/beachmat3/lin_matrix.h:95:27: note: hidden overloaded virtual function 'beachmat::lin_matrix::get_row' declared here: different number of parameters (4 vs 5)
    virtual const double* get_row(size_t r, double* work, size_t first, size_t last) = 0;
                          ^
/Library/Frameworks/R.framework/Versions/4.4-x86_64/Resources/library/beachmat/include/beachmat3/lin_matrix.h:272:46: warning: 'beachmat::lin_sparse_matrix::get_col' hides overloaded virtual functions [-Woverloaded-virtual]
    virtual sparse_index<const double*, int> get_col(size_t c, double* work_x, int* work_i, size_t first, size_t last) = 0;
                                             ^
/Library/Frameworks/R.framework/Versions/4.4-x86_64/Resources/library/beachmat/include/beachmat3/lin_matrix.h:52:24: note: hidden overloaded virtual function 'beachmat::lin_matrix::get_col' declared here: different number of parameters (4 vs 5)
    virtual const int* get_col(size_t c, int* work, size_t first, size_t last) = 0;
                       ^
/Library/Frameworks/R.framework/Versions/4.4-x86_64/Resources/library/beachmat/include/beachmat3/lin_matrix.h:81:27: note: hidden overloaded virtual function 'beachmat::lin_matrix::get_col' declared here: different number of parameters (4 vs 5)
    virtual const double* get_col(size_t c, double* work, size_t first, size_t last) = 0;
                          ^
/Library/Frameworks/R.framework/Versions/4.4-x86_64/Resources/library/beachmat/include/beachmat3/lin_matrix.h:287:35: warning: 'beachmat::lin_sparse_matrix::get_col' hides overloaded virtual functions [-Woverloaded-virtual]
    sparse_index<const int*, int> get_col(size_t c, int* work_x, int* work_i) {
                                  ^
/Library/Frameworks/R.framework/Versions/4.4-x86_64/Resources/library/beachmat/include/beachmat3/lin_matrix.h:52:24: note: hidden overloaded virtual function 'beachmat::lin_matrix::get_col' declared here: different number of parameters (4 vs 3)
    virtual const int* get_col(size_t c, int* work, size_t first, size_t last) = 0;
                       ^
/Library/Frameworks/R.framework/Versions/4.4-x86_64/Resources/library/beachmat/include/beachmat3/lin_matrix.h:81:27: note: hidden overloaded virtual function 'beachmat::lin_matrix::get_col' declared here: different number of parameters (4 vs 3)
    virtual const double* get_col(size_t c, double* work, size_t first, size_t last) = 0;
                          ^
/Library/Frameworks/R.framework/Versions/4.4-x86_64/Resources/library/beachmat/include/beachmat3/lin_matrix.h:304:35: warning: 'beachmat::lin_sparse_matrix::get_row' hides overloaded virtual functions [-Woverloaded-virtual]
    sparse_index<const int*, int> get_row(size_t r, int* work_x, int* work_i) {
                                  ^
/Library/Frameworks/R.framework/Versions/4.4-x86_64/Resources/library/beachmat/include/beachmat3/lin_matrix.h:66:24: note: hidden overloaded virtual function 'beachmat::lin_matrix::get_row' declared here: different number of parameters (4 vs 3)
    virtual const int* get_row(size_t r, int* work, size_t first, size_t last) = 0;
                       ^
/Library/Frameworks/R.framework/Versions/4.4-x86_64/Resources/library/beachmat/include/beachmat3/lin_matrix.h:95:27: note: hidden overloaded virtual function 'beachmat::lin_matrix::get_row' declared here: different number of parameters (4 vs 3)
    virtual const double* get_row(size_t r, double* work, size_t first, size_t last) = 0;
                          ^
/Library/Frameworks/R.framework/Versions/4.4-x86_64/Resources/library/beachmat/include/beachmat3/lin_matrix.h:321:38: warning: 'beachmat::lin_sparse_matrix::get_col' hides overloaded virtual functions [-Woverloaded-virtual]
    sparse_index<const double*, int> get_col(size_t c, double* work_x, int* work_i) {
                                     ^
/Library/Frameworks/R.framework/Versions/4.4-x86_64/Resources/library/beachmat/include/beachmat3/lin_matrix.h:52:24: note: hidden overloaded virtual function 'beachmat::lin_matrix::get_col' declared here: different number of parameters (4 vs 3)
    virtual const int* get_col(size_t c, int* work, size_t first, size_t last) = 0;
                       ^
/Library/Frameworks/R.framework/Versions/4.4-x86_64/Resources/library/beachmat/include/beachmat3/lin_matrix.h:81:27: note: hidden overloaded virtual function 'beachmat::lin_matrix::get_col' declared here: different number of parameters (4 vs 3)
    virtual const double* get_col(size_t c, double* work, size_t first, size_t last) = 0;
                          ^
/Library/Frameworks/R.framework/Versions/4.4-x86_64/Resources/library/beachmat/include/beachmat3/lin_matrix.h:338:38: warning: 'beachmat::lin_sparse_matrix::get_row' hides overloaded virtual functions [-Woverloaded-virtual]
    sparse_index<const double*, int> get_row(size_t r, double* work_x, int* work_i) {
                                     ^
/Library/Frameworks/R.framework/Versions/4.4-x86_64/Resources/library/beachmat/include/beachmat3/lin_matrix.h:66:24: note: hidden overloaded virtual function 'beachmat::lin_matrix::get_row' declared here: different number of parameters (4 vs 3)
    virtual const int* get_row(size_t r, int* work, size_t first, size_t last) = 0;
                       ^
/Library/Frameworks/R.framework/Versions/4.4-x86_64/Resources/library/beachmat/include/beachmat3/lin_matrix.h:95:27: note: hidden overloaded virtual function 'beachmat::lin_matrix::get_row' declared here: different number of parameters (4 vs 3)
    virtual const double* get_row(size_t r, double* work, size_t first, size_t last) = 0;
                          ^
8 warnings generated.
clang++ -arch x86_64 -std=gnu++11 -I"/Library/Frameworks/R.framework/Resources/include" -DNDEBUG  -I'/Library/Frameworks/R.framework/Versions/4.4-x86_64/Resources/library/Rcpp/include' -I'/Library/Frameworks/R.framework/Versions/4.4-x86_64/Resources/library/beachmat/include' -I'/Library/Frameworks/R.framework/Versions/4.4-x86_64/Resources/library/Rhdf5lib/include' -I'/Library/Frameworks/R.framework/Versions/4.4-x86_64/Resources/library/BH/include' -I'/Library/Frameworks/R.framework/Versions/4.4-x86_64/Resources/library/dqrng/include' -I'/Library/Frameworks/R.framework/Versions/4.4-x86_64/Resources/library/scuttle/include' -I/opt/R/x86_64/include    -fPIC  -falign-functions=64 -Wall -g -O2  -c get_cell_barcodes.cpp -o get_cell_barcodes.o
clang++ -arch x86_64 -std=gnu++11 -I"/Library/Frameworks/R.framework/Resources/include" -DNDEBUG  -I'/Library/Frameworks/R.framework/Versions/4.4-x86_64/Resources/library/Rcpp/include' -I'/Library/Frameworks/R.framework/Versions/4.4-x86_64/Resources/library/beachmat/include' -I'/Library/Frameworks/R.framework/Versions/4.4-x86_64/Resources/library/Rhdf5lib/include' -I'/Library/Frameworks/R.framework/Versions/4.4-x86_64/Resources/library/BH/include' -I'/Library/Frameworks/R.framework/Versions/4.4-x86_64/Resources/library/dqrng/include' -I'/Library/Frameworks/R.framework/Versions/4.4-x86_64/Resources/library/scuttle/include' -I/opt/R/x86_64/include    -fPIC  -falign-functions=64 -Wall -g -O2  -c group_cells.cpp -o group_cells.o
clang++ -arch x86_64 -std=gnu++11 -I"/Library/Frameworks/R.framework/Resources/include" -DNDEBUG  -I'/Library/Frameworks/R.framework/Versions/4.4-x86_64/Resources/library/Rcpp/include' -I'/Library/Frameworks/R.framework/Versions/4.4-x86_64/Resources/library/beachmat/include' -I'/Library/Frameworks/R.framework/Versions/4.4-x86_64/Resources/library/Rhdf5lib/include' -I'/Library/Frameworks/R.framework/Versions/4.4-x86_64/Resources/library/BH/include' -I'/Library/Frameworks/R.framework/Versions/4.4-x86_64/Resources/library/dqrng/include' -I'/Library/Frameworks/R.framework/Versions/4.4-x86_64/Resources/library/scuttle/include' -I/opt/R/x86_64/include    -fPIC  -falign-functions=64 -Wall -g -O2  -c hashed_deltas.cpp -o hashed_deltas.o
In file included from hashed_deltas.cpp:2:
In file included from /Library/Frameworks/R.framework/Versions/4.4-x86_64/Resources/library/beachmat/include/beachmat3/beachmat.h:24:
In file included from /Library/Frameworks/R.framework/Versions/4.4-x86_64/Resources/library/beachmat/include/beachmat3/read_lin_block.h:11:
/Library/Frameworks/R.framework/Versions/4.4-x86_64/Resources/library/beachmat/include/beachmat3/lin_matrix.h:218:43: warning: 'beachmat::lin_sparse_matrix::get_row' hides overloaded virtual functions [-Woverloaded-virtual]
    virtual sparse_index<const int*, int> get_row(size_t r, int* work_x, int* work_i, size_t first, size_t last) = 0;
                                          ^
/Library/Frameworks/R.framework/Versions/4.4-x86_64/Resources/library/beachmat/include/beachmat3/lin_matrix.h:66:24: note: hidden overloaded virtual function 'beachmat::lin_matrix::get_row' declared here: different number of parameters (4 vs 5)
    virtual const int* get_row(size_t r, int* work, size_t first, size_t last) = 0;
                       ^
/Library/Frameworks/R.framework/Versions/4.4-x86_64/Resources/library/beachmat/include/beachmat3/lin_matrix.h:95:27: note: hidden overloaded virtual function 'beachmat::lin_matrix::get_row' declared here: different number of parameters (4 vs 5)
    virtual const double* get_row(size_t r, double* work, size_t first, size_t last) = 0;
                          ^
/Library/Frameworks/R.framework/Versions/4.4-x86_64/Resources/library/beachmat/include/beachmat3/lin_matrix.h:236:43: warning: 'beachmat::lin_sparse_matrix::get_col' hides overloaded virtual functions [-Woverloaded-virtual]
    virtual sparse_index<const int*, int> get_col(size_t c, int* work_x, int* work_i, size_t first, size_t last) = 0;
                                          ^
/Library/Frameworks/R.framework/Versions/4.4-x86_64/Resources/library/beachmat/include/beachmat3/lin_matrix.h:52:24: note: hidden overloaded virtual function 'beachmat::lin_matrix::get_col' declared here: different number of parameters (4 vs 5)
    virtual const int* get_col(size_t c, int* work, size_t first, size_t last) = 0;
                       ^
/Library/Frameworks/R.framework/Versions/4.4-x86_64/Resources/library/beachmat/include/beachmat3/lin_matrix.h:81:27: note: hidden overloaded virtual function 'beachmat::lin_matrix::get_col' declared here: different number of parameters (4 vs 5)
    virtual const double* get_col(size_t c, double* work, size_t first, size_t last) = 0;
                          ^
/Library/Frameworks/R.framework/Versions/4.4-x86_64/Resources/library/beachmat/include/beachmat3/lin_matrix.h:254:46: warning: 'beachmat::lin_sparse_matrix::get_row' hides overloaded virtual functions [-Woverloaded-virtual]
    virtual sparse_index<const double*, int> get_row(size_t r, double* work_x, int* work_i, size_t first, size_t last) = 0;
                                             ^
/Library/Frameworks/R.framework/Versions/4.4-x86_64/Resources/library/beachmat/include/beachmat3/lin_matrix.h:66:24: note: hidden overloaded virtual function 'beachmat::lin_matrix::get_row' declared here: different number of parameters (4 vs 5)
    virtual const int* get_row(size_t r, int* work, size_t first, size_t last) = 0;
                       ^
/Library/Frameworks/R.framework/Versions/4.4-x86_64/Resources/library/beachmat/include/beachmat3/lin_matrix.h:95:27: note: hidden overloaded virtual function 'beachmat::lin_matrix::get_row' declared here: different number of parameters (4 vs 5)
    virtual const double* get_row(size_t r, double* work, size_t first, size_t last) = 0;
                          ^
/Library/Frameworks/R.framework/Versions/4.4-x86_64/Resources/library/beachmat/include/beachmat3/lin_matrix.h:272:46: warning: 'beachmat::lin_sparse_matrix::get_col' hides overloaded virtual functions [-Woverloaded-virtual]
    virtual sparse_index<const double*, int> get_col(size_t c, double* work_x, int* work_i, size_t first, size_t last) = 0;
                                             ^
/Library/Frameworks/R.framework/Versions/4.4-x86_64/Resources/library/beachmat/include/beachmat3/lin_matrix.h:52:24: note: hidden overloaded virtual function 'beachmat::lin_matrix::get_col' declared here: different number of parameters (4 vs 5)
    virtual const int* get_col(size_t c, int* work, size_t first, size_t last) = 0;
                       ^
/Library/Frameworks/R.framework/Versions/4.4-x86_64/Resources/library/beachmat/include/beachmat3/lin_matrix.h:81:27: note: hidden overloaded virtual function 'beachmat::lin_matrix::get_col' declared here: different number of parameters (4 vs 5)
    virtual const double* get_col(size_t c, double* work, size_t first, size_t last) = 0;
                          ^
/Library/Frameworks/R.framework/Versions/4.4-x86_64/Resources/library/beachmat/include/beachmat3/lin_matrix.h:287:35: warning: 'beachmat::lin_sparse_matrix::get_col' hides overloaded virtual functions [-Woverloaded-virtual]
    sparse_index<const int*, int> get_col(size_t c, int* work_x, int* work_i) {
                                  ^
/Library/Frameworks/R.framework/Versions/4.4-x86_64/Resources/library/beachmat/include/beachmat3/lin_matrix.h:52:24: note: hidden overloaded virtual function 'beachmat::lin_matrix::get_col' declared here: different number of parameters (4 vs 3)
    virtual const int* get_col(size_t c, int* work, size_t first, size_t last) = 0;
                       ^
/Library/Frameworks/R.framework/Versions/4.4-x86_64/Resources/library/beachmat/include/beachmat3/lin_matrix.h:81:27: note: hidden overloaded virtual function 'beachmat::lin_matrix::get_col' declared here: different number of parameters (4 vs 3)
    virtual const double* get_col(size_t c, double* work, size_t first, size_t last) = 0;
                          ^
/Library/Frameworks/R.framework/Versions/4.4-x86_64/Resources/library/beachmat/include/beachmat3/lin_matrix.h:304:35: warning: 'beachmat::lin_sparse_matrix::get_row' hides overloaded virtual functions [-Woverloaded-virtual]
    sparse_index<const int*, int> get_row(size_t r, int* work_x, int* work_i) {
                                  ^
/Library/Frameworks/R.framework/Versions/4.4-x86_64/Resources/library/beachmat/include/beachmat3/lin_matrix.h:66:24: note: hidden overloaded virtual function 'beachmat::lin_matrix::get_row' declared here: different number of parameters (4 vs 3)
    virtual const int* get_row(size_t r, int* work, size_t first, size_t last) = 0;
                       ^
/Library/Frameworks/R.framework/Versions/4.4-x86_64/Resources/library/beachmat/include/beachmat3/lin_matrix.h:95:27: note: hidden overloaded virtual function 'beachmat::lin_matrix::get_row' declared here: different number of parameters (4 vs 3)
    virtual const double* get_row(size_t r, double* work, size_t first, size_t last) = 0;
                          ^
/Library/Frameworks/R.framework/Versions/4.4-x86_64/Resources/library/beachmat/include/beachmat3/lin_matrix.h:321:38: warning: 'beachmat::lin_sparse_matrix::get_col' hides overloaded virtual functions [-Woverloaded-virtual]
    sparse_index<const double*, int> get_col(size_t c, double* work_x, int* work_i) {
                                     ^
/Library/Frameworks/R.framework/Versions/4.4-x86_64/Resources/library/beachmat/include/beachmat3/lin_matrix.h:52:24: note: hidden overloaded virtual function 'beachmat::lin_matrix::get_col' declared here: different number of parameters (4 vs 3)
    virtual const int* get_col(size_t c, int* work, size_t first, size_t last) = 0;
                       ^
/Library/Frameworks/R.framework/Versions/4.4-x86_64/Resources/library/beachmat/include/beachmat3/lin_matrix.h:81:27: note: hidden overloaded virtual function 'beachmat::lin_matrix::get_col' declared here: different number of parameters (4 vs 3)
    virtual const double* get_col(size_t c, double* work, size_t first, size_t last) = 0;
                          ^
/Library/Frameworks/R.framework/Versions/4.4-x86_64/Resources/library/beachmat/include/beachmat3/lin_matrix.h:338:38: warning: 'beachmat::lin_sparse_matrix::get_row' hides overloaded virtual functions [-Woverloaded-virtual]
    sparse_index<const double*, int> get_row(size_t r, double* work_x, int* work_i) {
                                     ^
/Library/Frameworks/R.framework/Versions/4.4-x86_64/Resources/library/beachmat/include/beachmat3/lin_matrix.h:66:24: note: hidden overloaded virtual function 'beachmat::lin_matrix::get_row' declared here: different number of parameters (4 vs 3)
    virtual const int* get_row(size_t r, int* work, size_t first, size_t last) = 0;
                       ^
/Library/Frameworks/R.framework/Versions/4.4-x86_64/Resources/library/beachmat/include/beachmat3/lin_matrix.h:95:27: note: hidden overloaded virtual function 'beachmat::lin_matrix::get_row' declared here: different number of parameters (4 vs 3)
    virtual const double* get_row(size_t r, double* work, size_t first, size_t last) = 0;
                          ^
8 warnings generated.
clang++ -arch x86_64 -std=gnu++11 -I"/Library/Frameworks/R.framework/Resources/include" -DNDEBUG  -I'/Library/Frameworks/R.framework/Versions/4.4-x86_64/Resources/library/Rcpp/include' -I'/Library/Frameworks/R.framework/Versions/4.4-x86_64/Resources/library/beachmat/include' -I'/Library/Frameworks/R.framework/Versions/4.4-x86_64/Resources/library/Rhdf5lib/include' -I'/Library/Frameworks/R.framework/Versions/4.4-x86_64/Resources/library/BH/include' -I'/Library/Frameworks/R.framework/Versions/4.4-x86_64/Resources/library/dqrng/include' -I'/Library/Frameworks/R.framework/Versions/4.4-x86_64/Resources/library/scuttle/include' -I/opt/R/x86_64/include    -fPIC  -falign-functions=64 -Wall -g -O2  -c montecarlo_pval.cpp -o montecarlo_pval.o
clang++ -arch x86_64 -std=gnu++11 -I"/Library/Frameworks/R.framework/Resources/include" -DNDEBUG  -I'/Library/Frameworks/R.framework/Versions/4.4-x86_64/Resources/library/Rcpp/include' -I'/Library/Frameworks/R.framework/Versions/4.4-x86_64/Resources/library/beachmat/include' -I'/Library/Frameworks/R.framework/Versions/4.4-x86_64/Resources/library/Rhdf5lib/include' -I'/Library/Frameworks/R.framework/Versions/4.4-x86_64/Resources/library/BH/include' -I'/Library/Frameworks/R.framework/Versions/4.4-x86_64/Resources/library/dqrng/include' -I'/Library/Frameworks/R.framework/Versions/4.4-x86_64/Resources/library/scuttle/include' -I/opt/R/x86_64/include    -fPIC  -falign-functions=64 -Wall -g -O2  -c rand_custom.cpp -o rand_custom.o
clang++ -arch x86_64 -std=gnu++11 -I"/Library/Frameworks/R.framework/Resources/include" -DNDEBUG  -I'/Library/Frameworks/R.framework/Versions/4.4-x86_64/Resources/library/Rcpp/include' -I'/Library/Frameworks/R.framework/Versions/4.4-x86_64/Resources/library/beachmat/include' -I'/Library/Frameworks/R.framework/Versions/4.4-x86_64/Resources/library/Rhdf5lib/include' -I'/Library/Frameworks/R.framework/Versions/4.4-x86_64/Resources/library/BH/include' -I'/Library/Frameworks/R.framework/Versions/4.4-x86_64/Resources/library/dqrng/include' -I'/Library/Frameworks/R.framework/Versions/4.4-x86_64/Resources/library/scuttle/include' -I/opt/R/x86_64/include    -fPIC  -falign-functions=64 -Wall -g -O2  -c utils.cpp -o utils.o
clang++ -arch x86_64 -std=gnu++11 -dynamiclib -Wl,-headerpad_max_install_names -undefined dynamic_lookup -L/Library/Frameworks/R.framework/Resources/lib -L/opt/R/x86_64/lib -o DropletUtils.so RcppExports.o downsample_run.o encode_sequences.o find_chimeric.o find_swapped.o get_cell_barcodes.o group_cells.o hashed_deltas.o montecarlo_pval.o rand_custom.o utils.o /Library/Frameworks/R.framework/Versions/4.4-x86_64/Resources/library/Rhdf5lib/lib/libhdf5_cpp.a /Library/Frameworks/R.framework/Versions/4.4-x86_64/Resources/library/Rhdf5lib/lib/libhdf5.a -L/Library/Frameworks/R.framework/Versions/4.4-x86_64/Resources/library/Rhdf5lib/lib -lcrypto -lcurl -lsz -laec -lz -ldl -lm -F/Library/Frameworks/R.framework/.. -framework R -Wl,-framework -Wl,CoreFoundation
installing to /Users/biocbuild/bbs-3.19-bioc/meat/DropletUtils.buildbin-libdir/00LOCK-DropletUtils/00new/DropletUtils/libs
** R
** inst
** byte-compile and prepare package for lazy loading
** help
*** installing help indices
** building package indices
** installing vignettes
** testing if installed package can be loaded from temporary location
** checking absolute paths in shared objects and dynamic libraries
** testing if installed package can be loaded from final location
** testing if installed package keeps a record of temporary installation path
* DONE (DropletUtils)


>>>>>>> 
>>>>>>> FIXING PATHS TO DYNAMIC LIBRARIES FOR DropletUtils.buildbin-libdir/DropletUtils/libs/DropletUtils.so
>>>>>>> 

>>>>>>> Paths before fix:
DropletUtils.buildbin-libdir/DropletUtils/libs/DropletUtils.so:
	DropletUtils.so (compatibility version 0.0.0, current version 0.0.0)
	/usr/lib/libcurl.4.dylib (compatibility version 7.0.0, current version 9.0.0)
	/usr/lib/libz.1.dylib (compatibility version 1.0.0, current version 1.2.11)
	/usr/lib/libSystem.B.dylib (compatibility version 1.0.0, current version 1292.100.5)
	/Library/Frameworks/R.framework/Versions/4.4-x86_64/Resources/lib/libR.dylib (compatibility version 4.4.0, current version 4.4.0)
	/System/Library/Frameworks/CoreFoundation.framework/Versions/A/CoreFoundation (compatibility version 150.0.0, current version 1775.118.101)
	/usr/lib/libc++.1.dylib (compatibility version 1.0.0, current version 905.6.0)

>>>>>>> Fix with install_name_tool:
install_name_tool -change "/usr/local/lib/libgcc_s.1.1.dylib" "/Library/Frameworks/R.framework/Versions/4.4-x86_64/Resources/lib/libgcc_s.1.1.dylib" "DropletUtils.buildbin-libdir/DropletUtils/libs/DropletUtils.so"
install_name_tool -change "/usr/local/lib/libgfortran.5.dylib" "/Library/Frameworks/R.framework/Versions/4.4-x86_64/Resources/lib/libgfortran.5.dylib" "DropletUtils.buildbin-libdir/DropletUtils/libs/DropletUtils.so"
install_name_tool -change "/usr/local/lib/libquadmath.0.dylib" "/Library/Frameworks/R.framework/Versions/4.4-x86_64/Resources/lib/libquadmath.0.dylib" "DropletUtils.buildbin-libdir/DropletUtils/libs/DropletUtils.so"

>>>>>>> Paths after fix:
DropletUtils.buildbin-libdir/DropletUtils/libs/DropletUtils.so:
	DropletUtils.so (compatibility version 0.0.0, current version 0.0.0)
	/usr/lib/libcurl.4.dylib (compatibility version 7.0.0, current version 9.0.0)
	/usr/lib/libz.1.dylib (compatibility version 1.0.0, current version 1.2.11)
	/usr/lib/libSystem.B.dylib (compatibility version 1.0.0, current version 1292.100.5)
	/Library/Frameworks/R.framework/Versions/4.4-x86_64/Resources/lib/libR.dylib (compatibility version 4.4.0, current version 4.4.0)
	/System/Library/Frameworks/CoreFoundation.framework/Versions/A/CoreFoundation (compatibility version 150.0.0, current version 1775.118.101)
	/usr/lib/libc++.1.dylib (compatibility version 1.0.0, current version 905.6.0)